BEGIN:VCALENDAR
VERSION:2.0
PRODID:-//St. Mark the Evangelist Anglican Church - ECPv6.15.20//NONSGML v1.0//EN
CALSCALE:GREGORIAN
METHOD:PUBLISH
X-WR-CALNAME:St. Mark the Evangelist Anglican Church
X-ORIGINAL-URL:https://www.stmarkanglican.com
X-WR-CALDESC:Events for St. Mark the Evangelist Anglican Church
REFRESH-INTERVAL;VALUE=DURATION:PT1H
X-Robots-Tag:noindex
X-PUBLISHED-TTL:PT1H
BEGIN:VTIMEZONE
TZID:UTC
BEGIN:STANDARD
TZOFFSETFROM:+0000
TZOFFSETTO:+0000
TZNAME:UTC
DTSTART:20250101T000000
END:STANDARD
END:VTIMEZONE
BEGIN:VEVENT
DTSTART;TZID=UTC:20260125T094500
DTEND;TZID=UTC:20260125T101500
DTSTAMP:20260420T050310
CREATED:20260206T040158Z
LAST-MODIFIED:20260206T215917Z
UID:10000614-1769334300-1769336100@www.stmarkanglican.com
SUMMARY:The Office of Morning Prayer
DESCRIPTION:The Order of Morning Prayer: 9:45-10:15am in the Library
URL:https://www.stmarkanglican.com/event/the-office-of-morning-prayer/2026-01-25/
LOCATION:St. Mark the Evangelist Anglican Church\, 629 Farley St\, Waxahachie\, TX\, 75165\, United States
END:VEVENT
BEGIN:VEVENT
DTSTART;TZID=UTC:20260125T094500
DTEND;TZID=UTC:20260125T104500
DTSTAMP:20260420T050310
CREATED:20260206T053637Z
LAST-MODIFIED:20260206T053637Z
UID:10000103-1769334300-1769337900@www.stmarkanglican.com
SUMMARY:NO SERVICES due to weather
DESCRIPTION:
URL:https://www.stmarkanglican.com/event/no-services-due-to-weather/
LOCATION:TX
END:VEVENT
BEGIN:VEVENT
DTSTART;TZID=UTC:20260125T100000
DTEND;TZID=UTC:20260125T101500
DTSTAMP:20260420T050310
CREATED:20260206T042237Z
LAST-MODIFIED:20260207T000912Z
UID:10000042-1769335200-1769336100@www.stmarkanglican.com
SUMMARY:Conversion of St. Paul the Apostle
DESCRIPTION:Check church calendar to see if services are scheduled for this Feast Day.
URL:https://www.stmarkanglican.com/event/conversion-of-st-paul-the-apostle/2026-01-25/
LOCATION:TX
END:VEVENT
BEGIN:VEVENT
DTSTART;TZID=UTC:20260125T103000
DTEND;TZID=UTC:20260125T113000
DTSTAMP:20260420T050310
CREATED:20260206T040158Z
LAST-MODIFIED:20260207T222226Z
UID:10000671-1769337000-1769340600@www.stmarkanglican.com
SUMMARY:Coffee & Catechesis
DESCRIPTION:Coffee & Catechesis\, Adult and Children from 10:30am-11:30am
URL:https://www.stmarkanglican.com/event/coffee-catechesis/2026-01-25/
LOCATION:St. Mark the Evangelist Anglican Church\, 629 Farley St\, Waxahachie\, TX\, 75165\, United States
ATTACH;FMTTYPE=image/jpeg:https://www.stmarkanglican.com/wp-content/uploads/2026/02/t-steele-x-mIAFbAL-o-unsplash-1.jpg
END:VEVENT
END:VCALENDAR