BEGIN:VCALENDAR
VERSION:2.0
PRODID:-//St. Mark the Evangelist Anglican Church - ECPv6.15.20//NONSGML v1.0//EN
CALSCALE:GREGORIAN
METHOD:PUBLISH
X-WR-CALNAME:St. Mark the Evangelist Anglican Church
X-ORIGINAL-URL:https://www.stmarkanglican.com
X-WR-CALDESC:Events for St. Mark the Evangelist Anglican Church
REFRESH-INTERVAL;VALUE=DURATION:PT1H
X-Robots-Tag:noindex
X-PUBLISHED-TTL:PT1H
BEGIN:VTIMEZONE
TZID:UTC
BEGIN:STANDARD
TZOFFSETFROM:+0000
TZOFFSETTO:+0000
TZNAME:UTC
DTSTART:20250101T000000
END:STANDARD
END:VTIMEZONE
BEGIN:VEVENT
DTSTART;TZID=UTC:20260201T094500
DTEND;TZID=UTC:20260201T101500
DTSTAMP:20260420T033714
CREATED:20260206T040158Z
LAST-MODIFIED:20260206T215917Z
UID:10000615-1769939100-1769940900@www.stmarkanglican.com
SUMMARY:The Office of Morning Prayer
DESCRIPTION:The Order of Morning Prayer: 9:45-10:15am in the Library
URL:https://www.stmarkanglican.com/event/the-office-of-morning-prayer/2026-02-01/
LOCATION:St. Mark the Evangelist Anglican Church\, 629 Farley St\, Waxahachie\, TX\, 75165\, United States
END:VEVENT
BEGIN:VEVENT
DTSTART;TZID=UTC:20260201T103000
DTEND;TZID=UTC:20260201T113000
DTSTAMP:20260420T033714
CREATED:20260206T040158Z
LAST-MODIFIED:20260207T222226Z
UID:10000672-1769941800-1769945400@www.stmarkanglican.com
SUMMARY:Coffee & Catechesis
DESCRIPTION:Coffee & Catechesis\, Adult and Children from 10:30am-11:30am
URL:https://www.stmarkanglican.com/event/coffee-catechesis/2026-02-01/
LOCATION:St. Mark the Evangelist Anglican Church\, 629 Farley St\, Waxahachie\, TX\, 75165\, United States
ATTACH;FMTTYPE=image/jpeg:https://www.stmarkanglican.com/wp-content/uploads/2026/02/t-steele-x-mIAFbAL-o-unsplash-1.jpg
END:VEVENT
BEGIN:VEVENT
DTSTART;TZID=UTC:20260201T120000
DTEND;TZID=UTC:20260201T130000
DTSTAMP:20260420T033714
CREATED:20260206T053638Z
LAST-MODIFIED:20260207T001821Z
UID:10000106-1769947200-1769950800@www.stmarkanglican.com
SUMMARY:Sexagesima Sunday Order for Holy Communion
DESCRIPTION:The Order for Holy Communion: Sundays at Noon and Thursdays at 6 pm
URL:https://www.stmarkanglican.com/event/sexagesima-sunday-order-for-holy-communion-2/2026-02-01/
LOCATION:St. Mark the Evangelist Anglican Church\, 629 Farley St\, Waxahachie\, TX\, 75165\, United States
END:VEVENT
BEGIN:VEVENT
DTSTART;TZID=UTC:20260201T133000
DTEND;TZID=UTC:20260201T143000
DTSTAMP:20260420T033714
CREATED:20260206T053638Z
LAST-MODIFIED:20260206T053638Z
UID:10000107-1769952600-1769956200@www.stmarkanglican.com
SUMMARY:Parish-wide Potluck
DESCRIPTION:
URL:https://www.stmarkanglican.com/event/parish-wide-potluck-2/
LOCATION:TX
END:VEVENT
END:VCALENDAR