BEGIN:VCALENDAR
VERSION:2.0
PRODID:-//St. Mark the Evangelist Anglican Church - ECPv6.15.20//NONSGML v1.0//EN
CALSCALE:GREGORIAN
METHOD:PUBLISH
X-ORIGINAL-URL:https://www.stmarkanglican.com
X-WR-CALDESC:Events for St. Mark the Evangelist Anglican Church
REFRESH-INTERVAL;VALUE=DURATION:PT1H
X-Robots-Tag:noindex
X-PUBLISHED-TTL:PT1H
BEGIN:VTIMEZONE
TZID:UTC
BEGIN:STANDARD
TZOFFSETFROM:+0000
TZOFFSETTO:+0000
TZNAME:UTC
DTSTART:20250101T000000
END:STANDARD
END:VTIMEZONE
BEGIN:VEVENT
DTSTART;TZID=UTC:20260223T190000
DTEND;TZID=UTC:20260223T200000
DTSTAMP:20260422T102428
CREATED:20260206T042840Z
LAST-MODIFIED:20260206T215006Z
UID:10000307-1771873200-1771876800@www.stmarkanglican.com
SUMMARY:Tupperware Theology Bible Study
DESCRIPTION:Corporate Bible Study
URL:https://www.stmarkanglican.com/event/tupperware-theology-bible-study-3/2026-02-23/
LOCATION:TX
END:VEVENT
END:VCALENDAR