BEGIN:VCALENDAR
VERSION:2.0
PRODID:-//St. Mark the Evangelist Anglican Church - ECPv6.15.20//NONSGML v1.0//EN
CALSCALE:GREGORIAN
METHOD:PUBLISH
X-ORIGINAL-URL:https://www.stmarkanglican.com
X-WR-CALDESC:Events for St. Mark the Evangelist Anglican Church
REFRESH-INTERVAL;VALUE=DURATION:PT1H
X-Robots-Tag:noindex
X-PUBLISHED-TTL:PT1H
BEGIN:VTIMEZONE
TZID:UTC
BEGIN:STANDARD
TZOFFSETFROM:+0000
TZOFFSETTO:+0000
TZNAME:UTC
DTSTART:20250101T000000
END:STANDARD
END:VTIMEZONE
BEGIN:VEVENT
DTSTART;TZID=UTC:20260325T090000
DTEND;TZID=UTC:20260325T091500
DTSTAMP:20260422T072705
CREATED:20260206T042840Z
LAST-MODIFIED:20260225T005733Z
UID:10000060-1774429200-1774430100@www.stmarkanglican.com
SUMMARY:The Annunciation of the blessed Virgin Mary
DESCRIPTION:Check church calendar to see if services are scheduled for this Feast Day.
URL:https://www.stmarkanglican.com/event/the-annunciation-of-the-blessed-virgin-mary/2026-03-25/
LOCATION:TX
ATTACH;FMTTYPE=image/jpeg:https://www.stmarkanglican.com/wp-content/uploads/2026/02/annunciation-e1771981046407.jpg
END:VEVENT
END:VCALENDAR