BEGIN:VCALENDAR
VERSION:2.0
PRODID:-//St. Mark the Evangelist Anglican Church - ECPv6.15.20//NONSGML v1.0//EN
CALSCALE:GREGORIAN
METHOD:PUBLISH
X-ORIGINAL-URL:https://www.stmarkanglican.com
X-WR-CALDESC:Events for St. Mark the Evangelist Anglican Church
REFRESH-INTERVAL;VALUE=DURATION:PT1H
X-Robots-Tag:noindex
X-PUBLISHED-TTL:PT1H
BEGIN:VTIMEZONE
TZID:UTC
BEGIN:STANDARD
TZOFFSETFROM:+0000
TZOFFSETTO:+0000
TZNAME:UTC
DTSTART:20250101T000000
END:STANDARD
END:VTIMEZONE
BEGIN:VEVENT
DTSTART;TZID=UTC:20260524T083000
DTEND;TZID=UTC:20260524T100000
DTSTAMP:20260421T054844
CREATED:20260206T042639Z
LAST-MODIFIED:20260209T191157Z
UID:10000687-1779611400-1779616800@www.stmarkanglican.com
SUMMARY:Coffee & Catechesis
DESCRIPTION:Coffee at 8:30 AM & Catechesis for Adults and Children from 9:00 -10:00 AM
URL:https://www.stmarkanglican.com/event/coffee-catechesis-2/2026-05-24/
LOCATION:St. Mark the Evangelist Anglican Church\, 629 Farley St\, Waxahachie\, TX\, 75165\, United States
ATTACH;FMTTYPE=image/jpeg:https://www.stmarkanglican.com/wp-content/uploads/2026/02/t-steele-x-mIAFbAL-o-unsplash-1.jpg
END:VEVENT
BEGIN:VEVENT
DTSTART;TZID=UTC:20260524T103000
DTEND;TZID=UTC:20260524T120000
DTSTAMP:20260421T054844
CREATED:20260206T054241Z
LAST-MODIFIED:20260207T220107Z
UID:10000119-1779618600-1779624000@www.stmarkanglican.com
SUMMARY:The Feast of Pentecost Sunday Order for Holy Communion
DESCRIPTION:The Order for Holy Communion: Sundays at 10:30 AM
URL:https://www.stmarkanglican.com/event/the-feast-of-pentecost-sunday-order-for-holy-communion/
LOCATION:St. Mark the Evangelist Anglican Church\, 629 Farley St\, Waxahachie\, TX\, 75165\, United States
END:VEVENT
END:VCALENDAR