BEGIN:VCALENDAR
VERSION:2.0
PRODID:-//St. Mark the Evangelist Anglican Church - ECPv6.15.20//NONSGML v1.0//EN
CALSCALE:GREGORIAN
METHOD:PUBLISH
X-ORIGINAL-URL:https://www.stmarkanglican.com
X-WR-CALDESC:Events for St. Mark the Evangelist Anglican Church
REFRESH-INTERVAL;VALUE=DURATION:PT1H
X-Robots-Tag:noindex
X-PUBLISHED-TTL:PT1H
BEGIN:VTIMEZONE
TZID:UTC
BEGIN:STANDARD
TZOFFSETFROM:+0000
TZOFFSETTO:+0000
TZNAME:UTC
DTSTART:20250101T000000
END:STANDARD
END:VTIMEZONE
BEGIN:VEVENT
DTSTART;TZID=UTC:20260602T180000
DTEND;TZID=UTC:20260602T200000
DTSTAMP:20260421T043435
CREATED:20260206T042237Z
LAST-MODIFIED:20260224T152532Z
UID:10000129-1780423200-1780430400@www.stmarkanglican.com
SUMMARY:Suds of Love
DESCRIPTION:Monthly ministry of service to our friends at The Marvin Avenue Laundromat
URL:https://www.stmarkanglican.com/event/suds-of-love/2026-06-02/
LOCATION:The Marvin Avenue Laundromat\, 113 W Marvin Ave\, Waxahachie\, TX\, 75165
ATTACH;FMTTYPE=image/jpeg:https://www.stmarkanglican.com/wp-content/uploads/2026/02/SudsofLove-e1771946723835.jpg
END:VEVENT
END:VCALENDAR