BEGIN:VCALENDAR
VERSION:2.0
PRODID:-//St. Mark the Evangelist Anglican Church - ECPv6.15.20//NONSGML v1.0//EN
CALSCALE:GREGORIAN
METHOD:PUBLISH
X-ORIGINAL-URL:https://www.stmarkanglican.com
X-WR-CALDESC:Events for St. Mark the Evangelist Anglican Church
REFRESH-INTERVAL;VALUE=DURATION:PT1H
X-Robots-Tag:noindex
X-PUBLISHED-TTL:PT1H
BEGIN:VTIMEZONE
TZID:UTC
BEGIN:STANDARD
TZOFFSETFROM:+0000
TZOFFSETTO:+0000
TZNAME:UTC
DTSTART:20250101T000000
END:STANDARD
END:VTIMEZONE
BEGIN:VEVENT
DTSTART;TZID=UTC:20260731T180000
DTEND;TZID=UTC:20260731T190000
DTSTAMP:20260421T104454
CREATED:20260206T054241Z
LAST-MODIFIED:20260206T054241Z
UID:10000122-1785520800-1785524400@www.stmarkanglican.com
SUMMARY:Fifth Friday Symposium Conversation
DESCRIPTION:Speaker TBD
URL:https://www.stmarkanglican.com/event/fifth-friday-symposium-conversation-3/
LOCATION:TX
END:VEVENT
END:VCALENDAR