BEGIN:VCALENDAR
VERSION:2.0
PRODID:-//St. Mark the Evangelist Anglican Church - ECPv6.15.20//NONSGML v1.0//EN
CALSCALE:GREGORIAN
METHOD:PUBLISH
X-WR-CALNAME:St. Mark the Evangelist Anglican Church
X-ORIGINAL-URL:https://www.stmarkanglican.com
X-WR-CALDESC:Events for St. Mark the Evangelist Anglican Church
REFRESH-INTERVAL;VALUE=DURATION:PT1H
X-Robots-Tag:noindex
X-PUBLISHED-TTL:PT1H
BEGIN:VTIMEZONE
TZID:UTC
BEGIN:STANDARD
TZOFFSETFROM:+0000
TZOFFSETTO:+0000
TZNAME:UTC
DTSTART:20250101T000000
END:STANDARD
END:VTIMEZONE
BEGIN:VEVENT
DTSTART;TZID=UTC:20260208T133000
DTEND;TZID=UTC:20260208T150000
DTSTAMP:20260420T083701
CREATED:20260206T231920Z
LAST-MODIFIED:20260206T231920Z
UID:10000942-1770557400-1770562800@www.stmarkanglican.com
SUMMARY:"Table for four\, please!" - see Coco for more info
DESCRIPTION:Small table fellowship of groups 4-6 at an offsite restaurant.
URL:https://www.stmarkanglican.com/event/table-for-four-please-see-coco-for-more-info-feb/
LOCATION:TX
END:VEVENT
BEGIN:VEVENT
DTSTART;TZID=UTC:20260208T120000
DTEND;TZID=UTC:20260208T130000
DTSTAMP:20260420T083701
CREATED:20260206T053638Z
LAST-MODIFIED:20260207T001821Z
UID:10000933-1770552000-1770555600@www.stmarkanglican.com
SUMMARY:Sexagesima Sunday Order for Holy Communion
DESCRIPTION:The Order for Holy Communion: Sundays at Noon and Thursdays at 6 pm
URL:https://www.stmarkanglican.com/event/sexagesima-sunday-order-for-holy-communion-2/2026-02-08/
LOCATION:St. Mark the Evangelist Anglican Church\, 629 Farley St\, Waxahachie\, TX\, 75165\, United States
END:VEVENT
BEGIN:VEVENT
DTSTART;TZID=UTC:20260208T103000
DTEND;TZID=UTC:20260208T113000
DTSTAMP:20260420T083701
CREATED:20260206T040158Z
LAST-MODIFIED:20260207T222226Z
UID:10000673-1770546600-1770550200@www.stmarkanglican.com
SUMMARY:Coffee & Catechesis
DESCRIPTION:Coffee & Catechesis\, Adult and Children from 10:30am-11:30am
URL:https://www.stmarkanglican.com/event/coffee-catechesis/2026-02-08/
LOCATION:St. Mark the Evangelist Anglican Church\, 629 Farley St\, Waxahachie\, TX\, 75165\, United States
ATTACH;FMTTYPE=image/jpeg:https://www.stmarkanglican.com/wp-content/uploads/2026/02/t-steele-x-mIAFbAL-o-unsplash-1.jpg
END:VEVENT
BEGIN:VEVENT
DTSTART;TZID=UTC:20260208T094500
DTEND;TZID=UTC:20260208T101500
DTSTAMP:20260420T083701
CREATED:20260206T040158Z
LAST-MODIFIED:20260206T215917Z
UID:10000616-1770543900-1770545700@www.stmarkanglican.com
SUMMARY:The Office of Morning Prayer
DESCRIPTION:The Order of Morning Prayer: 9:45-10:15am in the Library
URL:https://www.stmarkanglican.com/event/the-office-of-morning-prayer/2026-02-08/
LOCATION:St. Mark the Evangelist Anglican Church\, 629 Farley St\, Waxahachie\, TX\, 75165\, United States
END:VEVENT
BEGIN:VEVENT
DTSTART;TZID=UTC:20260207T140000
DTEND;TZID=UTC:20260207T170000
DTSTAMP:20260420T083701
CREATED:20260206T042438Z
LAST-MODIFIED:20260224T153444Z
UID:10000047-1770472800-1770483600@www.stmarkanglican.com
SUMMARY:Men's Come & Go - Railport Brewery (2-5pm)
DESCRIPTION:
URL:https://www.stmarkanglican.com/event/mens-come-go-railport-brewery-2-5pm/2026-02-07/
LOCATION:TX
ATTACH;FMTTYPE=image/jpeg:https://www.stmarkanglican.com/wp-content/uploads/2026/02/RailPort.jpg
END:VEVENT
BEGIN:VEVENT
DTSTART;TZID=UTC:20260207T080000
DTEND;TZID=UTC:20260207T090000
DTSTAMP:20260420T083701
CREATED:20260206T041228Z
LAST-MODIFIED:20260224T153551Z
UID:10000433-1770451200-1770454800@www.stmarkanglican.com
SUMMARY:Ladies Bible Study - Bloom & Pour
DESCRIPTION:
URL:https://www.stmarkanglican.com/event/ladies-bible-study-bloom-pour/2026-02-07/
LOCATION:TX
ATTACH;FMTTYPE=image/jpeg:https://www.stmarkanglican.com/wp-content/uploads/2026/02/FruitfulTree.jpg
END:VEVENT
BEGIN:VEVENT
DTSTART;TZID=UTC:20260206T153000
DTEND;TZID=UTC:20260206T163000
DTSTAMP:20260420T083701
CREATED:20260206T042438Z
LAST-MODIFIED:20260206T042438Z
UID:10000046-1770391800-1770395400@www.stmarkanglican.com
SUMMARY:Faith in Motion
DESCRIPTION:A Christian Journey in Wellness (Ladies Only)
URL:https://www.stmarkanglican.com/event/faith-in-motion/
LOCATION:TX
END:VEVENT
BEGIN:VEVENT
DTSTART;TZID=UTC:20260205T180000
DTEND;TZID=UTC:20260205T190000
DTSTAMP:20260420T083701
CREATED:20260206T053838Z
LAST-MODIFIED:20260206T053838Z
UID:10000108-1770314400-1770318000@www.stmarkanglican.com
SUMMARY:Evening Prayer
DESCRIPTION:
URL:https://www.stmarkanglican.com/event/evening-prayer/
LOCATION:TX
END:VEVENT
BEGIN:VEVENT
DTSTART;TZID=UTC:20260204T183000
DTEND;TZID=UTC:20260204T193000
DTSTAMP:20260420T083701
CREATED:20260206T042238Z
LAST-MODIFIED:20260217T025418Z
UID:10000045-1770229800-1770233400@www.stmarkanglican.com
SUMMARY:Marthas & Marys
DESCRIPTION:Women’s Fellowship/Prayer/Study
URL:https://www.stmarkanglican.com/event/marthas-marys/2026-02-04/
LOCATION:TX
ATTACH;FMTTYPE=image/jpeg:https://www.stmarkanglican.com/wp-content/uploads/2026/02/MandMs-e1771296847824.jpg
END:VEVENT
BEGIN:VEVENT
DTSTART;TZID=UTC:20260203T180000
DTEND;TZID=UTC:20260203T200000
DTSTAMP:20260420T083701
CREATED:20260206T042237Z
LAST-MODIFIED:20260224T152532Z
UID:10000044-1770141600-1770148800@www.stmarkanglican.com
SUMMARY:Suds of Love
DESCRIPTION:Monthly ministry of service to our friends at The Marvin Avenue Laundromat
URL:https://www.stmarkanglican.com/event/suds-of-love/2026-02-03/
LOCATION:The Marvin Avenue Laundromat\, 113 W Marvin Ave\, Waxahachie\, TX\, 75165
ATTACH;FMTTYPE=image/jpeg:https://www.stmarkanglican.com/wp-content/uploads/2026/02/SudsofLove-e1771946723835.jpg
END:VEVENT
BEGIN:VEVENT
DTSTART;TZID=UTC:20260202T090000
DTEND;TZID=UTC:20260202T091500
DTSTAMP:20260420T083701
CREATED:20260206T042237Z
LAST-MODIFIED:20260206T230731Z
UID:10000043-1770022800-1770023700@www.stmarkanglican.com
SUMMARY:Feast of The Presentation of Christ in the Temple
DESCRIPTION:Check church calendar to see if services are scheduled for this Feast Day.
URL:https://www.stmarkanglican.com/event/feast-of-the-presentation-of-christ-in-the-temple/2026-02-02/
LOCATION:TX
END:VEVENT
BEGIN:VEVENT
DTSTART;TZID=UTC:20260201T133000
DTEND;TZID=UTC:20260201T143000
DTSTAMP:20260420T083701
CREATED:20260206T053638Z
LAST-MODIFIED:20260206T053638Z
UID:10000107-1769952600-1769956200@www.stmarkanglican.com
SUMMARY:Parish-wide Potluck
DESCRIPTION:
URL:https://www.stmarkanglican.com/event/parish-wide-potluck-2/
LOCATION:TX
END:VEVENT
BEGIN:VEVENT
DTSTART;TZID=UTC:20260201T120000
DTEND;TZID=UTC:20260201T130000
DTSTAMP:20260420T083701
CREATED:20260206T053638Z
LAST-MODIFIED:20260207T001821Z
UID:10000106-1769947200-1769950800@www.stmarkanglican.com
SUMMARY:Sexagesima Sunday Order for Holy Communion
DESCRIPTION:The Order for Holy Communion: Sundays at Noon and Thursdays at 6 pm
URL:https://www.stmarkanglican.com/event/sexagesima-sunday-order-for-holy-communion-2/2026-02-01/
LOCATION:St. Mark the Evangelist Anglican Church\, 629 Farley St\, Waxahachie\, TX\, 75165\, United States
END:VEVENT
BEGIN:VEVENT
DTSTART;TZID=UTC:20260201T103000
DTEND;TZID=UTC:20260201T113000
DTSTAMP:20260420T083701
CREATED:20260206T040158Z
LAST-MODIFIED:20260207T222226Z
UID:10000672-1769941800-1769945400@www.stmarkanglican.com
SUMMARY:Coffee & Catechesis
DESCRIPTION:Coffee & Catechesis\, Adult and Children from 10:30am-11:30am
URL:https://www.stmarkanglican.com/event/coffee-catechesis/2026-02-01/
LOCATION:St. Mark the Evangelist Anglican Church\, 629 Farley St\, Waxahachie\, TX\, 75165\, United States
ATTACH;FMTTYPE=image/jpeg:https://www.stmarkanglican.com/wp-content/uploads/2026/02/t-steele-x-mIAFbAL-o-unsplash-1.jpg
END:VEVENT
BEGIN:VEVENT
DTSTART;TZID=UTC:20260201T094500
DTEND;TZID=UTC:20260201T101500
DTSTAMP:20260420T083701
CREATED:20260206T040158Z
LAST-MODIFIED:20260206T215917Z
UID:10000615-1769939100-1769940900@www.stmarkanglican.com
SUMMARY:The Office of Morning Prayer
DESCRIPTION:The Order of Morning Prayer: 9:45-10:15am in the Library
URL:https://www.stmarkanglican.com/event/the-office-of-morning-prayer/2026-02-01/
LOCATION:St. Mark the Evangelist Anglican Church\, 629 Farley St\, Waxahachie\, TX\, 75165\, United States
END:VEVENT
BEGIN:VEVENT
DTSTART;TZID=UTC:20260130T180000
DTEND;TZID=UTC:20260130T190000
DTSTAMP:20260420T083701
CREATED:20260206T053638Z
LAST-MODIFIED:20260206T053638Z
UID:10000105-1769796000-1769799600@www.stmarkanglican.com
SUMMARY:Fifth Friday Symposium Conversation
DESCRIPTION:Fr. Marq Toombs – Meditation on Rembrandt’s painting of St. Paul
URL:https://www.stmarkanglican.com/event/fifth-friday-symposium-conversation/
LOCATION:TX
END:VEVENT
BEGIN:VEVENT
DTSTART;TZID=UTC:20260125T103000
DTEND;TZID=UTC:20260125T113000
DTSTAMP:20260420T083701
CREATED:20260206T040158Z
LAST-MODIFIED:20260207T222226Z
UID:10000671-1769337000-1769340600@www.stmarkanglican.com
SUMMARY:Coffee & Catechesis
DESCRIPTION:Coffee & Catechesis\, Adult and Children from 10:30am-11:30am
URL:https://www.stmarkanglican.com/event/coffee-catechesis/2026-01-25/
LOCATION:St. Mark the Evangelist Anglican Church\, 629 Farley St\, Waxahachie\, TX\, 75165\, United States
ATTACH;FMTTYPE=image/jpeg:https://www.stmarkanglican.com/wp-content/uploads/2026/02/t-steele-x-mIAFbAL-o-unsplash-1.jpg
END:VEVENT
BEGIN:VEVENT
DTSTART;TZID=UTC:20260125T100000
DTEND;TZID=UTC:20260125T101500
DTSTAMP:20260420T083701
CREATED:20260206T042237Z
LAST-MODIFIED:20260207T000912Z
UID:10000042-1769335200-1769336100@www.stmarkanglican.com
SUMMARY:Conversion of St. Paul the Apostle
DESCRIPTION:Check church calendar to see if services are scheduled for this Feast Day.
URL:https://www.stmarkanglican.com/event/conversion-of-st-paul-the-apostle/2026-01-25/
LOCATION:TX
END:VEVENT
BEGIN:VEVENT
DTSTART;TZID=UTC:20260125T094500
DTEND;TZID=UTC:20260125T104500
DTSTAMP:20260420T083701
CREATED:20260206T053637Z
LAST-MODIFIED:20260206T053637Z
UID:10000103-1769334300-1769337900@www.stmarkanglican.com
SUMMARY:NO SERVICES due to weather
DESCRIPTION:
URL:https://www.stmarkanglican.com/event/no-services-due-to-weather/
LOCATION:TX
END:VEVENT
BEGIN:VEVENT
DTSTART;TZID=UTC:20260125T094500
DTEND;TZID=UTC:20260125T101500
DTSTAMP:20260420T083701
CREATED:20260206T040158Z
LAST-MODIFIED:20260206T215917Z
UID:10000614-1769334300-1769336100@www.stmarkanglican.com
SUMMARY:The Office of Morning Prayer
DESCRIPTION:The Order of Morning Prayer: 9:45-10:15am in the Library
URL:https://www.stmarkanglican.com/event/the-office-of-morning-prayer/2026-01-25/
LOCATION:St. Mark the Evangelist Anglican Church\, 629 Farley St\, Waxahachie\, TX\, 75165\, United States
END:VEVENT
BEGIN:VEVENT
DTSTART;TZID=UTC:20260118T103000
DTEND;TZID=UTC:20260118T113000
DTSTAMP:20260420T083701
CREATED:20260206T040158Z
LAST-MODIFIED:20260207T222226Z
UID:10000670-1768732200-1768735800@www.stmarkanglican.com
SUMMARY:Coffee & Catechesis
DESCRIPTION:Coffee & Catechesis\, Adult and Children from 10:30am-11:30am
URL:https://www.stmarkanglican.com/event/coffee-catechesis/2026-01-18/
LOCATION:St. Mark the Evangelist Anglican Church\, 629 Farley St\, Waxahachie\, TX\, 75165\, United States
ATTACH;FMTTYPE=image/jpeg:https://www.stmarkanglican.com/wp-content/uploads/2026/02/t-steele-x-mIAFbAL-o-unsplash-1.jpg
END:VEVENT
BEGIN:VEVENT
DTSTART;TZID=UTC:20260118T094500
DTEND;TZID=UTC:20260118T101500
DTSTAMP:20260420T083701
CREATED:20260206T040158Z
LAST-MODIFIED:20260206T215917Z
UID:10000613-1768729500-1768731300@www.stmarkanglican.com
SUMMARY:The Office of Morning Prayer
DESCRIPTION:The Order of Morning Prayer: 9:45-10:15am in the Library
URL:https://www.stmarkanglican.com/event/the-office-of-morning-prayer/2026-01-18/
LOCATION:St. Mark the Evangelist Anglican Church\, 629 Farley St\, Waxahachie\, TX\, 75165\, United States
END:VEVENT
BEGIN:VEVENT
DTSTART;TZID=UTC:20260117T080000
DTEND;TZID=UTC:20260117T090000
DTSTAMP:20260420T083701
CREATED:20260206T041228Z
LAST-MODIFIED:20260224T153551Z
UID:10000501-1768636800-1768640400@www.stmarkanglican.com
SUMMARY:Ladies Bible Study - Bloom & Pour
DESCRIPTION:
URL:https://www.stmarkanglican.com/event/ladies-bible-study-bloom-pour/2026-01-17/
LOCATION:TX
ATTACH;FMTTYPE=image/jpeg:https://www.stmarkanglican.com/wp-content/uploads/2026/02/FruitfulTree.jpg
END:VEVENT
BEGIN:VEVENT
DTSTART;TZID=UTC:20260116T153000
DTEND;TZID=UTC:20260116T163000
DTSTAMP:20260420T083701
CREATED:20260206T042236Z
LAST-MODIFIED:20260206T042236Z
UID:10000041-1768577400-1768581000@www.stmarkanglican.com
SUMMARY:Faith in Motion: A Christian Journey in Wellness (Ladies Only)
DESCRIPTION:
URL:https://www.stmarkanglican.com/event/faith-in-motion-a-christian-journey-in-wellness-ladies-only/
LOCATION:TX
END:VEVENT
BEGIN:VEVENT
DTSTART;TZID=UTC:20260111T103000
DTEND;TZID=UTC:20260111T113000
DTSTAMP:20260420T083701
CREATED:20260206T040158Z
LAST-MODIFIED:20260207T222226Z
UID:10000669-1768127400-1768131000@www.stmarkanglican.com
SUMMARY:Coffee & Catechesis
DESCRIPTION:Coffee & Catechesis\, Adult and Children from 10:30am-11:30am
URL:https://www.stmarkanglican.com/event/coffee-catechesis/2026-01-11/
LOCATION:St. Mark the Evangelist Anglican Church\, 629 Farley St\, Waxahachie\, TX\, 75165\, United States
ATTACH;FMTTYPE=image/jpeg:https://www.stmarkanglican.com/wp-content/uploads/2026/02/t-steele-x-mIAFbAL-o-unsplash-1.jpg
END:VEVENT
BEGIN:VEVENT
DTSTART;TZID=UTC:20260111T094500
DTEND;TZID=UTC:20260111T101500
DTSTAMP:20260420T083701
CREATED:20260206T040158Z
LAST-MODIFIED:20260206T215917Z
UID:10000612-1768124700-1768126500@www.stmarkanglican.com
SUMMARY:The Office of Morning Prayer
DESCRIPTION:The Order of Morning Prayer: 9:45-10:15am in the Library
URL:https://www.stmarkanglican.com/event/the-office-of-morning-prayer/2026-01-11/
LOCATION:St. Mark the Evangelist Anglican Church\, 629 Farley St\, Waxahachie\, TX\, 75165\, United States
END:VEVENT
BEGIN:VEVENT
DTSTART;TZID=UTC:20260104T103000
DTEND;TZID=UTC:20260104T113000
DTSTAMP:20260420T083701
CREATED:20260206T040158Z
LAST-MODIFIED:20260207T222226Z
UID:10000668-1767522600-1767526200@www.stmarkanglican.com
SUMMARY:Coffee & Catechesis
DESCRIPTION:Coffee & Catechesis\, Adult and Children from 10:30am-11:30am
URL:https://www.stmarkanglican.com/event/coffee-catechesis/2026-01-04/
LOCATION:St. Mark the Evangelist Anglican Church\, 629 Farley St\, Waxahachie\, TX\, 75165\, United States
ATTACH;FMTTYPE=image/jpeg:https://www.stmarkanglican.com/wp-content/uploads/2026/02/t-steele-x-mIAFbAL-o-unsplash-1.jpg
END:VEVENT
BEGIN:VEVENT
DTSTART;TZID=UTC:20260104T094500
DTEND;TZID=UTC:20260104T101500
DTSTAMP:20260420T083701
CREATED:20260206T040158Z
LAST-MODIFIED:20260206T215917Z
UID:10000611-1767519900-1767521700@www.stmarkanglican.com
SUMMARY:The Office of Morning Prayer
DESCRIPTION:The Order of Morning Prayer: 9:45-10:15am in the Library
URL:https://www.stmarkanglican.com/event/the-office-of-morning-prayer/2026-01-04/
LOCATION:St. Mark the Evangelist Anglican Church\, 629 Farley St\, Waxahachie\, TX\, 75165\, United States
END:VEVENT
BEGIN:VEVENT
DTSTART;TZID=UTC:20260103T080000
DTEND;TZID=UTC:20260103T090000
DTSTAMP:20260420T083701
CREATED:20260206T041228Z
LAST-MODIFIED:20260224T153551Z
UID:10000432-1767427200-1767430800@www.stmarkanglican.com
SUMMARY:Ladies Bible Study - Bloom & Pour
DESCRIPTION:
URL:https://www.stmarkanglican.com/event/ladies-bible-study-bloom-pour/2026-01-03/
LOCATION:TX
ATTACH;FMTTYPE=image/jpeg:https://www.stmarkanglican.com/wp-content/uploads/2026/02/FruitfulTree.jpg
END:VEVENT
BEGIN:VEVENT
DTSTART;TZID=UTC:20260102T153000
DTEND;TZID=UTC:20260102T163000
DTSTAMP:20260420T083701
CREATED:20260206T053437Z
LAST-MODIFIED:20260216T222919Z
UID:10000102-1767367800-1767371400@www.stmarkanglican.com
SUMMARY:Faith in Motion
DESCRIPTION:A faith-centered wellness program supporting whole-person health: mind\, body\, soul\, and spirit.
URL:https://www.stmarkanglican.com/event/faith-in-motion-a-christian-journey-in-wellness-ladies-only-2/
LOCATION:TX
ATTACH;FMTTYPE=image/jpeg:https://www.stmarkanglican.com/wp-content/uploads/2026/02/FiM-e1771281121614.jpg
END:VEVENT
END:VCALENDAR