BEGIN:VCALENDAR
VERSION:2.0
PRODID:-//St. Mark the Evangelist Anglican Church - ECPv6.15.20//NONSGML v1.0//EN
CALSCALE:GREGORIAN
METHOD:PUBLISH
X-ORIGINAL-URL:https://www.stmarkanglican.com
X-WR-CALDESC:Events for St. Mark the Evangelist Anglican Church
REFRESH-INTERVAL;VALUE=DURATION:PT1H
X-Robots-Tag:noindex
X-PUBLISHED-TTL:PT1H
BEGIN:VTIMEZONE
TZID:UTC
BEGIN:STANDARD
TZOFFSETFROM:+0000
TZOFFSETTO:+0000
TZNAME:UTC
DTSTART:20250101T000000
END:STANDARD
END:VTIMEZONE
BEGIN:VTIMEZONE
TZID:America/Chicago
BEGIN:DAYLIGHT
TZOFFSETFROM:-0600
TZOFFSETTO:-0500
TZNAME:CDT
DTSTART:20250309T080000
END:DAYLIGHT
BEGIN:STANDARD
TZOFFSETFROM:-0500
TZOFFSETTO:-0600
TZNAME:CST
DTSTART:20251102T070000
END:STANDARD
BEGIN:DAYLIGHT
TZOFFSETFROM:-0600
TZOFFSETTO:-0500
TZNAME:CDT
DTSTART:20260308T080000
END:DAYLIGHT
BEGIN:STANDARD
TZOFFSETFROM:-0500
TZOFFSETTO:-0600
TZNAME:CST
DTSTART:20261101T070000
END:STANDARD
BEGIN:DAYLIGHT
TZOFFSETFROM:-0600
TZOFFSETTO:-0500
TZNAME:CDT
DTSTART:20270314T080000
END:DAYLIGHT
BEGIN:STANDARD
TZOFFSETFROM:-0500
TZOFFSETTO:-0600
TZNAME:CST
DTSTART:20271107T070000
END:STANDARD
END:VTIMEZONE
BEGIN:VEVENT
DTSTART;TZID=UTC:20261025T103000
DTEND;TZID=UTC:20261025T120000
DTSTAMP:20260422T042010
CREATED:20260206T042639Z
LAST-MODIFIED:20260225T005118Z
UID:10001052-1792924200-1792929600@www.stmarkanglican.com
SUMMARY:The Order for Holy Communion
DESCRIPTION:The Order for Holy Communion: Sundays at 10:30 AM
URL:https://www.stmarkanglican.com/event/the-order-for-holy-communion/2026-10-25/
LOCATION:St. Mark the Evangelist Anglican Church\, 629 Farley St\, Waxahachie\, TX\, 75165\, United States
ATTACH;FMTTYPE=image/jpeg:https://www.stmarkanglican.com/wp-content/uploads/2026/02/Come-and-Get-It-e1771980673835.jpg
END:VEVENT
BEGIN:VEVENT
DTSTART;TZID=UTC:20261026T183000
DTEND;TZID=UTC:20261026T200000
DTSTAMP:20260422T042010
CREATED:20260206T233626Z
LAST-MODIFIED:20260224T152413Z
UID:10001350-1793039400-1793044800@www.stmarkanglican.com
SUMMARY:Tupperware Theology Bible Study
DESCRIPTION:Corporate Bible Study
URL:https://www.stmarkanglican.com/event/tupperware-theology-bible-study-3-2/2026-10-26/
ATTACH;FMTTYPE=image/jpeg:https://www.stmarkanglican.com/wp-content/uploads/2026/02/TupperwareTheology2-e1771945717332.jpg
END:VEVENT
BEGIN:VEVENT
DTSTART;TZID=UTC:20261028T090000
DTEND;TZID=UTC:20261028T091500
DTSTAMP:20260422T042010
CREATED:20260206T045504Z
LAST-MODIFIED:20260207T000414Z
UID:10000070-1793178000-1793178900@www.stmarkanglican.com
SUMMARY:Feast of Saint Simon and Saint Jude\, Apostles
DESCRIPTION:Check church calendar to see if services are scheduled for this Feast Day.
URL:https://www.stmarkanglican.com/event/feast-of-saint-simon-and-saint-jude-apostles-2/2026-10-28/
END:VEVENT
BEGIN:VEVENT
DTSTART;TZID=UTC:20261030T180000
DTEND;TZID=UTC:20261030T190000
DTSTAMP:20260422T042010
CREATED:20260206T054442Z
LAST-MODIFIED:20260206T054442Z
UID:10000124-1793383200-1793386800@www.stmarkanglican.com
SUMMARY:Fifth Friday Symposium Conversation
DESCRIPTION:Speaker TBD
URL:https://www.stmarkanglican.com/event/fifth-friday-symposium-conversation-4/
END:VEVENT
BEGIN:VEVENT
DTSTART;TZID=UTC:20261101T083000
DTEND;TZID=UTC:20261101T100000
DTSTAMP:20260422T042010
CREATED:20260206T042639Z
LAST-MODIFIED:20260209T191157Z
UID:10000710-1793521800-1793527200@www.stmarkanglican.com
SUMMARY:Coffee & Catechesis
DESCRIPTION:Coffee at 8:30 AM & Catechesis for Adults and Children from 9:00 -10:00 AM
URL:https://www.stmarkanglican.com/event/coffee-catechesis-2/2026-11-01/
LOCATION:St. Mark the Evangelist Anglican Church\, 629 Farley St\, Waxahachie\, TX\, 75165\, United States
ATTACH;FMTTYPE=image/jpeg:https://www.stmarkanglican.com/wp-content/uploads/2026/02/t-steele-x-mIAFbAL-o-unsplash-1.jpg
END:VEVENT
BEGIN:VEVENT
DTSTART;TZID=UTC:20261101T103000
DTEND;TZID=UTC:20261101T120000
DTSTAMP:20260422T042010
CREATED:20260206T054442Z
LAST-MODIFIED:20260207T000448Z
UID:10000125-1793529000-1793534400@www.stmarkanglican.com
SUMMARY:Feast of All Saints Day Holy Eucharist
DESCRIPTION:
URL:https://www.stmarkanglican.com/event/feast-of-all-saints-day-holy-eucharist/2026-11-01/
END:VEVENT
BEGIN:VEVENT
DTSTART;TZID=UTC:20261103T180000
DTEND;TZID=UTC:20261103T200000
DTSTAMP:20260422T042010
CREATED:20260206T042237Z
LAST-MODIFIED:20260224T152532Z
UID:10000134-1793728800-1793736000@www.stmarkanglican.com
SUMMARY:Suds of Love
DESCRIPTION:Monthly ministry of service to our friends at The Marvin Avenue Laundromat
URL:https://www.stmarkanglican.com/event/suds-of-love/2026-11-03/
LOCATION:The Marvin Avenue Laundromat\, 113 W Marvin Ave\, Waxahachie\, TX\, 75165
ATTACH;FMTTYPE=image/jpeg:https://www.stmarkanglican.com/wp-content/uploads/2026/02/SudsofLove-e1771946723835.jpg
END:VEVENT
BEGIN:VEVENT
DTSTART;TZID=UTC:20261104T183000
DTEND;TZID=UTC:20261104T193000
DTSTAMP:20260422T042010
CREATED:20260206T042238Z
LAST-MODIFIED:20260217T025418Z
UID:10000203-1793817000-1793820600@www.stmarkanglican.com
SUMMARY:Marthas & Marys
DESCRIPTION:Women’s Fellowship/Prayer/Study
URL:https://www.stmarkanglican.com/event/marthas-marys/2026-11-04/
ATTACH;FMTTYPE=image/jpeg:https://www.stmarkanglican.com/wp-content/uploads/2026/02/MandMs-e1771296847824.jpg
END:VEVENT
BEGIN:VEVENT
DTSTART;TZID=UTC:20261107T080000
DTEND;TZID=UTC:20261107T090000
DTSTAMP:20260422T042010
CREATED:20260206T041228Z
LAST-MODIFIED:20260224T153551Z
UID:10000442-1794038400-1794042000@www.stmarkanglican.com
SUMMARY:Ladies Bible Study - Bloom & Pour
DESCRIPTION:
URL:https://www.stmarkanglican.com/event/ladies-bible-study-bloom-pour/2026-11-07/
ATTACH;FMTTYPE=image/jpeg:https://www.stmarkanglican.com/wp-content/uploads/2026/02/FruitfulTree.jpg
END:VEVENT
BEGIN:VEVENT
DTSTART;TZID=UTC:20261107T103000
DTEND;TZID=UTC:20261107T113000
DTSTAMP:20260422T042010
CREATED:20260206T042640Z
LAST-MODIFIED:20260217T024747Z
UID:10001742-1794047400-1794051000@www.stmarkanglican.com
SUMMARY:Faith in Motion
DESCRIPTION:A wellness program supporting our ladies’ whole-person health: mind\, body\, soul\, and spirit.
URL:https://www.stmarkanglican.com/event/faith-in-motion-ladies/2026-11-07/
ATTACH;FMTTYPE=image/jpeg:https://www.stmarkanglican.com/wp-content/uploads/2026/02/FiM-e1771281121614.jpg
END:VEVENT
BEGIN:VEVENT
DTSTART;TZID=UTC:20261107T140000
DTEND;TZID=UTC:20261107T170000
DTSTAMP:20260422T042010
CREATED:20260206T042438Z
LAST-MODIFIED:20260224T153444Z
UID:10001284-1794060000-1794070800@www.stmarkanglican.com
SUMMARY:Men's Come & Go - Railport Brewery (2-5pm)
DESCRIPTION:
URL:https://www.stmarkanglican.com/event/mens-come-go-railport-brewery-2-5pm/2026-11-07/
ATTACH;FMTTYPE=image/jpeg:https://www.stmarkanglican.com/wp-content/uploads/2026/02/RailPort.jpg
END:VEVENT
BEGIN:VEVENT
DTSTART;TZID=UTC:20261108T083000
DTEND;TZID=UTC:20261108T100000
DTSTAMP:20260422T042010
CREATED:20260206T042639Z
LAST-MODIFIED:20260209T191157Z
UID:10000711-1794126600-1794132000@www.stmarkanglican.com
SUMMARY:Coffee & Catechesis
DESCRIPTION:Coffee at 8:30 AM & Catechesis for Adults and Children from 9:00 -10:00 AM
URL:https://www.stmarkanglican.com/event/coffee-catechesis-2/2026-11-08/
LOCATION:St. Mark the Evangelist Anglican Church\, 629 Farley St\, Waxahachie\, TX\, 75165\, United States
ATTACH;FMTTYPE=image/jpeg:https://www.stmarkanglican.com/wp-content/uploads/2026/02/t-steele-x-mIAFbAL-o-unsplash-1.jpg
END:VEVENT
BEGIN:VEVENT
DTSTART;TZID=UTC:20261108T103000
DTEND;TZID=UTC:20261108T120000
DTSTAMP:20260422T042010
CREATED:20260206T042639Z
LAST-MODIFIED:20260225T005118Z
UID:10001054-1794133800-1794139200@www.stmarkanglican.com
SUMMARY:The Order for Holy Communion
DESCRIPTION:The Order for Holy Communion: Sundays at 10:30 AM
URL:https://www.stmarkanglican.com/event/the-order-for-holy-communion/2026-11-08/
LOCATION:St. Mark the Evangelist Anglican Church\, 629 Farley St\, Waxahachie\, TX\, 75165\, United States
ATTACH;FMTTYPE=image/jpeg:https://www.stmarkanglican.com/wp-content/uploads/2026/02/Come-and-Get-It-e1771980673835.jpg
END:VEVENT
BEGIN:VEVENT
DTSTART;TZID=UTC:20261108T120000
DTEND;TZID=UTC:20261108T133000
DTSTAMP:20260422T042010
CREATED:20260206T042839Z
LAST-MODIFIED:20260225T010127Z
UID:10000962-1794139200-1794144600@www.stmarkanglican.com
SUMMARY:"Table for four\, please!" - see Coco for more info
DESCRIPTION:Small table fellowship of groups 4-6 at an offsite restaurant.
URL:https://www.stmarkanglican.com/event/table-for-four-please/2026-11-08/
ATTACH;FMTTYPE=image/png:https://www.stmarkanglican.com/wp-content/uploads/2026/02/TfFP-e1771981281184.png
END:VEVENT
BEGIN:VEVENT
DTSTART;TZID=UTC:20261109T183000
DTEND;TZID=UTC:20261109T200000
DTSTAMP:20260422T042010
CREATED:20260206T233626Z
LAST-MODIFIED:20260224T152413Z
UID:10001351-1794249000-1794254400@www.stmarkanglican.com
SUMMARY:Tupperware Theology Bible Study
DESCRIPTION:Corporate Bible Study
URL:https://www.stmarkanglican.com/event/tupperware-theology-bible-study-3-2/2026-11-09/
ATTACH;FMTTYPE=image/jpeg:https://www.stmarkanglican.com/wp-content/uploads/2026/02/TupperwareTheology2-e1771945717332.jpg
END:VEVENT
BEGIN:VEVENT
DTSTART;TZID=UTC:20261115T083000
DTEND;TZID=UTC:20261115T100000
DTSTAMP:20260422T042010
CREATED:20260206T042639Z
LAST-MODIFIED:20260209T191157Z
UID:10000712-1794731400-1794736800@www.stmarkanglican.com
SUMMARY:Coffee & Catechesis
DESCRIPTION:Coffee at 8:30 AM & Catechesis for Adults and Children from 9:00 -10:00 AM
URL:https://www.stmarkanglican.com/event/coffee-catechesis-2/2026-11-15/
LOCATION:St. Mark the Evangelist Anglican Church\, 629 Farley St\, Waxahachie\, TX\, 75165\, United States
ATTACH;FMTTYPE=image/jpeg:https://www.stmarkanglican.com/wp-content/uploads/2026/02/t-steele-x-mIAFbAL-o-unsplash-1.jpg
END:VEVENT
BEGIN:VEVENT
DTSTART;TZID=UTC:20261115T103000
DTEND;TZID=UTC:20261115T120000
DTSTAMP:20260422T042010
CREATED:20260206T042639Z
LAST-MODIFIED:20260225T005118Z
UID:10001055-1794738600-1794744000@www.stmarkanglican.com
SUMMARY:The Order for Holy Communion
DESCRIPTION:The Order for Holy Communion: Sundays at 10:30 AM
URL:https://www.stmarkanglican.com/event/the-order-for-holy-communion/2026-11-15/
LOCATION:St. Mark the Evangelist Anglican Church\, 629 Farley St\, Waxahachie\, TX\, 75165\, United States
ATTACH;FMTTYPE=image/jpeg:https://www.stmarkanglican.com/wp-content/uploads/2026/02/Come-and-Get-It-e1771980673835.jpg
END:VEVENT
BEGIN:VEVENT
DTSTART;TZID=UTC:20261118T183000
DTEND;TZID=UTC:20261118T193000
DTSTAMP:20260422T042010
CREATED:20260206T042238Z
LAST-MODIFIED:20260217T025418Z
UID:10000204-1795026600-1795030200@www.stmarkanglican.com
SUMMARY:Marthas & Marys
DESCRIPTION:Women’s Fellowship/Prayer/Study
URL:https://www.stmarkanglican.com/event/marthas-marys/2026-11-18/
ATTACH;FMTTYPE=image/jpeg:https://www.stmarkanglican.com/wp-content/uploads/2026/02/MandMs-e1771296847824.jpg
END:VEVENT
BEGIN:VEVENT
DTSTART;TZID=UTC:20261121T080000
DTEND;TZID=UTC:20261121T090000
DTSTAMP:20260422T042010
CREATED:20260206T041228Z
LAST-MODIFIED:20260224T153551Z
UID:10000511-1795248000-1795251600@www.stmarkanglican.com
SUMMARY:Ladies Bible Study - Bloom & Pour
DESCRIPTION:
URL:https://www.stmarkanglican.com/event/ladies-bible-study-bloom-pour/2026-11-21/
ATTACH;FMTTYPE=image/jpeg:https://www.stmarkanglican.com/wp-content/uploads/2026/02/FruitfulTree.jpg
END:VEVENT
BEGIN:VEVENT
DTSTART;TZID=America/Chicago:20261121T103000
DTEND;TZID=America/Chicago:20261121T113000
DTSTAMP:20260422T042010
CREATED:20260217T025200Z
LAST-MODIFIED:20260217T025200Z
UID:10001824-1795257000-1795260600@www.stmarkanglican.com
SUMMARY:Faith in Motion
DESCRIPTION:A wellness program supporting our ladies’ whole-person health: mind\, body\, soul\, and spirit.
URL:https://www.stmarkanglican.com/event/faith-in-motion-3/2026-11-21/
LOCATION:St. Mark the Evangelist Anglican Church\, 629 Farley St\, Waxahachie\, TX\, 75165\, United States
ATTACH;FMTTYPE=image/jpeg:https://www.stmarkanglican.com/wp-content/uploads/2026/02/FiM-e1771281121614.jpg
ORGANIZER;CN="St. Mark the Evangelist Anglican Church":MAILTO:fr.david@stmarkanglican.com
END:VEVENT
BEGIN:VEVENT
DTSTART;TZID=UTC:20261122T083000
DTEND;TZID=UTC:20261122T100000
DTSTAMP:20260422T042010
CREATED:20260206T042639Z
LAST-MODIFIED:20260209T191157Z
UID:10000713-1795336200-1795341600@www.stmarkanglican.com
SUMMARY:Coffee & Catechesis
DESCRIPTION:Coffee at 8:30 AM & Catechesis for Adults and Children from 9:00 -10:00 AM
URL:https://www.stmarkanglican.com/event/coffee-catechesis-2/2026-11-22/
LOCATION:St. Mark the Evangelist Anglican Church\, 629 Farley St\, Waxahachie\, TX\, 75165\, United States
ATTACH;FMTTYPE=image/jpeg:https://www.stmarkanglican.com/wp-content/uploads/2026/02/t-steele-x-mIAFbAL-o-unsplash-1.jpg
END:VEVENT
BEGIN:VEVENT
DTSTART;TZID=UTC:20261122T103000
DTEND;TZID=UTC:20261122T120000
DTSTAMP:20260422T042010
CREATED:20260206T042639Z
LAST-MODIFIED:20260225T005118Z
UID:10001056-1795343400-1795348800@www.stmarkanglican.com
SUMMARY:The Order for Holy Communion
DESCRIPTION:The Order for Holy Communion: Sundays at 10:30 AM
URL:https://www.stmarkanglican.com/event/the-order-for-holy-communion/2026-11-22/
LOCATION:St. Mark the Evangelist Anglican Church\, 629 Farley St\, Waxahachie\, TX\, 75165\, United States
ATTACH;FMTTYPE=image/jpeg:https://www.stmarkanglican.com/wp-content/uploads/2026/02/Come-and-Get-It-e1771980673835.jpg
END:VEVENT
BEGIN:VEVENT
DTSTART;TZID=UTC:20261123T183000
DTEND;TZID=UTC:20261123T200000
DTSTAMP:20260422T042010
CREATED:20260206T233626Z
LAST-MODIFIED:20260224T152413Z
UID:10001352-1795458600-1795464000@www.stmarkanglican.com
SUMMARY:Tupperware Theology Bible Study
DESCRIPTION:Corporate Bible Study
URL:https://www.stmarkanglican.com/event/tupperware-theology-bible-study-3-2/2026-11-23/
ATTACH;FMTTYPE=image/jpeg:https://www.stmarkanglican.com/wp-content/uploads/2026/02/TupperwareTheology2-e1771945717332.jpg
END:VEVENT
BEGIN:VEVENT
DTSTART;TZID=UTC:20261129T083000
DTEND;TZID=UTC:20261129T100000
DTSTAMP:20260422T042010
CREATED:20260206T042639Z
LAST-MODIFIED:20260209T191157Z
UID:10000714-1795941000-1795946400@www.stmarkanglican.com
SUMMARY:Coffee & Catechesis
DESCRIPTION:Coffee at 8:30 AM & Catechesis for Adults and Children from 9:00 -10:00 AM
URL:https://www.stmarkanglican.com/event/coffee-catechesis-2/2026-11-29/
LOCATION:St. Mark the Evangelist Anglican Church\, 629 Farley St\, Waxahachie\, TX\, 75165\, United States
ATTACH;FMTTYPE=image/jpeg:https://www.stmarkanglican.com/wp-content/uploads/2026/02/t-steele-x-mIAFbAL-o-unsplash-1.jpg
END:VEVENT
BEGIN:VEVENT
DTSTART;TZID=UTC:20261129T103000
DTEND;TZID=UTC:20261129T120000
DTSTAMP:20260422T042010
CREATED:20260206T042639Z
LAST-MODIFIED:20260225T005118Z
UID:10001057-1795948200-1795953600@www.stmarkanglican.com
SUMMARY:The Order for Holy Communion
DESCRIPTION:The Order for Holy Communion: Sundays at 10:30 AM
URL:https://www.stmarkanglican.com/event/the-order-for-holy-communion/2026-11-29/
LOCATION:St. Mark the Evangelist Anglican Church\, 629 Farley St\, Waxahachie\, TX\, 75165\, United States
ATTACH;FMTTYPE=image/jpeg:https://www.stmarkanglican.com/wp-content/uploads/2026/02/Come-and-Get-It-e1771980673835.jpg
END:VEVENT
BEGIN:VEVENT
DTSTART;TZID=UTC:20261130T090000
DTEND;TZID=UTC:20261130T091500
DTSTAMP:20260422T042010
CREATED:20260206T045704Z
LAST-MODIFIED:20260207T000533Z
UID:10000071-1796029200-1796030100@www.stmarkanglican.com
SUMMARY:Feast of St. Andrew the Apostle
DESCRIPTION:Check church calendar to see if services are scheduled for this Feast Day.
URL:https://www.stmarkanglican.com/event/feast-of-st-andrew-the-apostle-2/2026-11-30/
END:VEVENT
BEGIN:VEVENT
DTSTART;TZID=UTC:20261201T180000
DTEND;TZID=UTC:20261201T200000
DTSTAMP:20260422T042010
CREATED:20260206T042237Z
LAST-MODIFIED:20260224T152532Z
UID:10000135-1796148000-1796155200@www.stmarkanglican.com
SUMMARY:Suds of Love
DESCRIPTION:Monthly ministry of service to our friends at The Marvin Avenue Laundromat
URL:https://www.stmarkanglican.com/event/suds-of-love/2026-12-01/
LOCATION:The Marvin Avenue Laundromat\, 113 W Marvin Ave\, Waxahachie\, TX\, 75165
ATTACH;FMTTYPE=image/jpeg:https://www.stmarkanglican.com/wp-content/uploads/2026/02/SudsofLove-e1771946723835.jpg
END:VEVENT
BEGIN:VEVENT
DTSTART;TZID=UTC:20261202T183000
DTEND;TZID=UTC:20261202T193000
DTSTAMP:20260422T042010
CREATED:20260206T042238Z
LAST-MODIFIED:20260217T025418Z
UID:10000205-1796236200-1796239800@www.stmarkanglican.com
SUMMARY:Marthas & Marys
DESCRIPTION:Women’s Fellowship/Prayer/Study
URL:https://www.stmarkanglican.com/event/marthas-marys/2026-12-02/
ATTACH;FMTTYPE=image/jpeg:https://www.stmarkanglican.com/wp-content/uploads/2026/02/MandMs-e1771296847824.jpg
END:VEVENT
BEGIN:VEVENT
DTSTART;TZID=UTC:20261205T080000
DTEND;TZID=UTC:20261205T090000
DTSTAMP:20260422T042010
CREATED:20260206T041228Z
LAST-MODIFIED:20260224T153551Z
UID:10000443-1796457600-1796461200@www.stmarkanglican.com
SUMMARY:Ladies Bible Study - Bloom & Pour
DESCRIPTION:
URL:https://www.stmarkanglican.com/event/ladies-bible-study-bloom-pour/2026-12-05/
ATTACH;FMTTYPE=image/jpeg:https://www.stmarkanglican.com/wp-content/uploads/2026/02/FruitfulTree.jpg
END:VEVENT
BEGIN:VEVENT
DTSTART;TZID=UTC:20261205T103000
DTEND;TZID=UTC:20261205T113000
DTSTAMP:20260422T042010
CREATED:20260206T042640Z
LAST-MODIFIED:20260217T024747Z
UID:10001470-1796466600-1796470200@www.stmarkanglican.com
SUMMARY:Faith in Motion
DESCRIPTION:A wellness program supporting our ladies’ whole-person health: mind\, body\, soul\, and spirit.
URL:https://www.stmarkanglican.com/event/faith-in-motion-ladies/2026-12-05/
ATTACH;FMTTYPE=image/jpeg:https://www.stmarkanglican.com/wp-content/uploads/2026/02/FiM-e1771281121614.jpg
END:VEVENT
END:VCALENDAR