BEGIN:VCALENDAR
VERSION:2.0
PRODID:-//St. Mark the Evangelist Anglican Church - ECPv6.15.20//NONSGML v1.0//EN
CALSCALE:GREGORIAN
METHOD:PUBLISH
X-WR-CALNAME:St. Mark the Evangelist Anglican Church
X-ORIGINAL-URL:https://www.stmarkanglican.com
X-WR-CALDESC:Events for St. Mark the Evangelist Anglican Church
REFRESH-INTERVAL;VALUE=DURATION:PT1H
X-Robots-Tag:noindex
X-PUBLISHED-TTL:PT1H
BEGIN:VTIMEZONE
TZID:UTC
BEGIN:STANDARD
TZOFFSETFROM:+0000
TZOFFSETTO:+0000
TZNAME:UTC
DTSTART:20240101T000000
END:STANDARD
END:VTIMEZONE
BEGIN:VEVENT
DTSTART;TZID=UTC:20260111T094500
DTEND;TZID=UTC:20260111T101500
DTSTAMP:20260421T160549
CREATED:20260206T040158Z
LAST-MODIFIED:20260206T215917Z
UID:10000612-1768124700-1768126500@www.stmarkanglican.com
SUMMARY:The Office of Morning Prayer
DESCRIPTION:The Order of Morning Prayer: 9:45-10:15am in the Library
URL:https://www.stmarkanglican.com/event/the-office-of-morning-prayer/2026-01-11/
LOCATION:St. Mark the Evangelist Anglican Church\, 629 Farley St\, Waxahachie\, TX\, 75165\, United States
END:VEVENT
BEGIN:VEVENT
DTSTART;TZID=UTC:20260104T103000
DTEND;TZID=UTC:20260104T113000
DTSTAMP:20260421T160549
CREATED:20260206T040158Z
LAST-MODIFIED:20260207T222226Z
UID:10000668-1767522600-1767526200@www.stmarkanglican.com
SUMMARY:Coffee & Catechesis
DESCRIPTION:Coffee & Catechesis\, Adult and Children from 10:30am-11:30am
URL:https://www.stmarkanglican.com/event/coffee-catechesis/2026-01-04/
LOCATION:St. Mark the Evangelist Anglican Church\, 629 Farley St\, Waxahachie\, TX\, 75165\, United States
ATTACH;FMTTYPE=image/jpeg:https://www.stmarkanglican.com/wp-content/uploads/2026/02/t-steele-x-mIAFbAL-o-unsplash-1.jpg
END:VEVENT
BEGIN:VEVENT
DTSTART;TZID=UTC:20260104T094500
DTEND;TZID=UTC:20260104T101500
DTSTAMP:20260421T160549
CREATED:20260206T040158Z
LAST-MODIFIED:20260206T215917Z
UID:10000611-1767519900-1767521700@www.stmarkanglican.com
SUMMARY:The Office of Morning Prayer
DESCRIPTION:The Order of Morning Prayer: 9:45-10:15am in the Library
URL:https://www.stmarkanglican.com/event/the-office-of-morning-prayer/2026-01-04/
LOCATION:St. Mark the Evangelist Anglican Church\, 629 Farley St\, Waxahachie\, TX\, 75165\, United States
END:VEVENT
BEGIN:VEVENT
DTSTART;TZID=UTC:20260103T080000
DTEND;TZID=UTC:20260103T090000
DTSTAMP:20260421T160549
CREATED:20260206T041228Z
LAST-MODIFIED:20260224T153551Z
UID:10000432-1767427200-1767430800@www.stmarkanglican.com
SUMMARY:Ladies Bible Study - Bloom & Pour
DESCRIPTION:
URL:https://www.stmarkanglican.com/event/ladies-bible-study-bloom-pour/2026-01-03/
ATTACH;FMTTYPE=image/jpeg:https://www.stmarkanglican.com/wp-content/uploads/2026/02/FruitfulTree.jpg
END:VEVENT
BEGIN:VEVENT
DTSTART;TZID=UTC:20260102T153000
DTEND;TZID=UTC:20260102T163000
DTSTAMP:20260421T160549
CREATED:20260206T053437Z
LAST-MODIFIED:20260216T222919Z
UID:10000102-1767367800-1767371400@www.stmarkanglican.com
SUMMARY:Faith in Motion
DESCRIPTION:A faith-centered wellness program supporting whole-person health: mind\, body\, soul\, and spirit.
URL:https://www.stmarkanglican.com/event/faith-in-motion-a-christian-journey-in-wellness-ladies-only-2/
ATTACH;FMTTYPE=image/jpeg:https://www.stmarkanglican.com/wp-content/uploads/2026/02/FiM-e1771281121614.jpg
END:VEVENT
BEGIN:VEVENT
DTSTART;TZID=UTC:20260101T090000
DTEND;TZID=UTC:20260101T091500
DTSTAMP:20260421T160549
CREATED:20260206T042037Z
LAST-MODIFIED:20260207T000800Z
UID:10000040-1767258000-1767258900@www.stmarkanglican.com
SUMMARY:Feast of the Circumcision of Christ
DESCRIPTION:Check church calendar to see if services are scheduled for this Feast Day.
URL:https://www.stmarkanglican.com/event/feast-of-the-circumcision-of-christ/2026-01-01/
END:VEVENT
BEGIN:VEVENT
DTSTART;TZID=UTC:20251228T120000
DTEND;TZID=UTC:20251228T123000
DTSTAMP:20260421T160549
CREATED:20260206T042036Z
LAST-MODIFIED:20260207T000755Z
UID:10000039-1766923200-1766925000@www.stmarkanglican.com
SUMMARY:Feast of the Holy Innocents
DESCRIPTION:
URL:https://www.stmarkanglican.com/event/feast-of-the-holy-innocents/2025-12-28/
END:VEVENT
BEGIN:VEVENT
DTSTART;TZID=UTC:20251228T103000
DTEND;TZID=UTC:20251228T113000
DTSTAMP:20260421T160549
CREATED:20260206T040158Z
LAST-MODIFIED:20260207T222226Z
UID:10000667-1766917800-1766921400@www.stmarkanglican.com
SUMMARY:Coffee & Catechesis
DESCRIPTION:Coffee & Catechesis\, Adult and Children from 10:30am-11:30am
URL:https://www.stmarkanglican.com/event/coffee-catechesis/2025-12-28/
LOCATION:St. Mark the Evangelist Anglican Church\, 629 Farley St\, Waxahachie\, TX\, 75165\, United States
ATTACH;FMTTYPE=image/jpeg:https://www.stmarkanglican.com/wp-content/uploads/2026/02/t-steele-x-mIAFbAL-o-unsplash-1.jpg
END:VEVENT
BEGIN:VEVENT
DTSTART;TZID=UTC:20251228T100000
DTEND;TZID=UTC:20251228T101500
DTSTAMP:20260421T160549
CREATED:20260206T053437Z
LAST-MODIFIED:20260206T053437Z
UID:10000101-1766916000-1766916900@www.stmarkanglican.com
SUMMARY:Missionary Sunday: Sonam et Sylvia Haokip speaking in Catechesis
DESCRIPTION:
URL:https://www.stmarkanglican.com/event/missionary-sunday-sonam-et-sylvia-haokip-speaking-in-catechesis/
END:VEVENT
BEGIN:VEVENT
DTSTART;TZID=UTC:20251228T094500
DTEND;TZID=UTC:20251228T101500
DTSTAMP:20260421T160549
CREATED:20260206T040158Z
LAST-MODIFIED:20260206T215917Z
UID:10000610-1766915100-1766916900@www.stmarkanglican.com
SUMMARY:The Office of Morning Prayer
DESCRIPTION:The Order of Morning Prayer: 9:45-10:15am in the Library
URL:https://www.stmarkanglican.com/event/the-office-of-morning-prayer/2025-12-28/
LOCATION:St. Mark the Evangelist Anglican Church\, 629 Farley St\, Waxahachie\, TX\, 75165\, United States
END:VEVENT
BEGIN:VEVENT
DTSTART;TZID=UTC:20251227T120000
DTEND;TZID=UTC:20251227T123000
DTSTAMP:20260421T160549
CREATED:20260206T042036Z
LAST-MODIFIED:20260207T000717Z
UID:10000038-1766836800-1766838600@www.stmarkanglican.com
SUMMARY:Feast of St. John\, Apostle and Evangelist
DESCRIPTION:
URL:https://www.stmarkanglican.com/event/feast-of-st-john-apostle-and-evangelist/2025-12-27/
END:VEVENT
BEGIN:VEVENT
DTSTART;TZID=UTC:20251226T120000
DTEND;TZID=UTC:20251226T123000
DTSTAMP:20260421T160549
CREATED:20260206T042036Z
LAST-MODIFIED:20260207T001333Z
UID:10000037-1766750400-1766752200@www.stmarkanglican.com
SUMMARY:Feast of St. Stephen\, Martyr and Deacon
DESCRIPTION:
URL:https://www.stmarkanglican.com/event/feast-of-st-stephen-martyr-and-deacon/2025-12-26/
END:VEVENT
BEGIN:VEVENT
DTSTART;TZID=UTC:20251225T180000
DTEND;TZID=UTC:20251225T190000
DTSTAMP:20260421T160549
CREATED:20260206T053437Z
LAST-MODIFIED:20260206T053437Z
UID:10000100-1766685600-1766689200@www.stmarkanglican.com
SUMMARY:No Services
DESCRIPTION:
URL:https://www.stmarkanglican.com/event/no-services/
END:VEVENT
BEGIN:VEVENT
DTSTART;TZID=UTC:20251224T120000
DTEND;TZID=UTC:20251224T123000
DTSTAMP:20260421T160549
CREATED:20260206T053436Z
LAST-MODIFIED:20260206T053436Z
UID:10000099-1766577600-1766579400@www.stmarkanglican.com
SUMMARY:Christmas Eve Service
DESCRIPTION:
URL:https://www.stmarkanglican.com/event/christmas-eve-service/
END:VEVENT
BEGIN:VEVENT
DTSTART;TZID=UTC:20251221T103000
DTEND;TZID=UTC:20251221T113000
DTSTAMP:20260421T160549
CREATED:20260206T040158Z
LAST-MODIFIED:20260207T222226Z
UID:10000666-1766313000-1766316600@www.stmarkanglican.com
SUMMARY:Coffee & Catechesis
DESCRIPTION:Coffee & Catechesis\, Adult and Children from 10:30am-11:30am
URL:https://www.stmarkanglican.com/event/coffee-catechesis/2025-12-21/
LOCATION:St. Mark the Evangelist Anglican Church\, 629 Farley St\, Waxahachie\, TX\, 75165\, United States
ATTACH;FMTTYPE=image/jpeg:https://www.stmarkanglican.com/wp-content/uploads/2026/02/t-steele-x-mIAFbAL-o-unsplash-1.jpg
END:VEVENT
BEGIN:VEVENT
DTSTART;TZID=UTC:20251221T094500
DTEND;TZID=UTC:20251221T101500
DTSTAMP:20260421T160549
CREATED:20260206T040158Z
LAST-MODIFIED:20260206T215917Z
UID:10000609-1766310300-1766312100@www.stmarkanglican.com
SUMMARY:The Office of Morning Prayer
DESCRIPTION:The Order of Morning Prayer: 9:45-10:15am in the Library
URL:https://www.stmarkanglican.com/event/the-office-of-morning-prayer/2025-12-21/
LOCATION:St. Mark the Evangelist Anglican Church\, 629 Farley St\, Waxahachie\, TX\, 75165\, United States
END:VEVENT
BEGIN:VEVENT
DTSTART;TZID=UTC:20251220T080000
DTEND;TZID=UTC:20251220T090000
DTSTAMP:20260421T160549
CREATED:20260206T041228Z
LAST-MODIFIED:20260224T153551Z
UID:10000500-1766217600-1766221200@www.stmarkanglican.com
SUMMARY:Ladies Bible Study - Bloom & Pour
DESCRIPTION:
URL:https://www.stmarkanglican.com/event/ladies-bible-study-bloom-pour/2025-12-20/
ATTACH;FMTTYPE=image/jpeg:https://www.stmarkanglican.com/wp-content/uploads/2026/02/FruitfulTree.jpg
END:VEVENT
BEGIN:VEVENT
DTSTART;TZID=UTC:20251219T153000
DTEND;TZID=UTC:20251219T163000
DTSTAMP:20260421T160549
CREATED:20260206T041837Z
LAST-MODIFIED:20260206T041837Z
UID:10000035-1766158200-1766161800@www.stmarkanglican.com
SUMMARY:Stretch and Flow: Ladies Class
DESCRIPTION:
URL:https://www.stmarkanglican.com/event/stretch-and-flow-ladies-class-2/
END:VEVENT
BEGIN:VEVENT
DTSTART;TZID=UTC:20251218T180000
DTEND;TZID=UTC:20251218T190000
DTSTAMP:20260421T160549
CREATED:20260206T041837Z
LAST-MODIFIED:20260206T053436Z
UID:10000034-1766080800-1766084400@www.stmarkanglican.com
SUMMARY:Office of Evening Prayer
DESCRIPTION:
URL:https://www.stmarkanglican.com/event/office-of-evening-prayer/
END:VEVENT
BEGIN:VEVENT
DTSTART;TZID=UTC:20251214T103000
DTEND;TZID=UTC:20251214T113000
DTSTAMP:20260421T160549
CREATED:20260206T040158Z
LAST-MODIFIED:20260207T222226Z
UID:10000665-1765708200-1765711800@www.stmarkanglican.com
SUMMARY:Coffee & Catechesis
DESCRIPTION:Coffee & Catechesis\, Adult and Children from 10:30am-11:30am
URL:https://www.stmarkanglican.com/event/coffee-catechesis/2025-12-14/
LOCATION:St. Mark the Evangelist Anglican Church\, 629 Farley St\, Waxahachie\, TX\, 75165\, United States
ATTACH;FMTTYPE=image/jpeg:https://www.stmarkanglican.com/wp-content/uploads/2026/02/t-steele-x-mIAFbAL-o-unsplash-1.jpg
END:VEVENT
BEGIN:VEVENT
DTSTART;TZID=UTC:20251214T094500
DTEND;TZID=UTC:20251214T101500
DTSTAMP:20260421T160549
CREATED:20260206T040158Z
LAST-MODIFIED:20260206T215917Z
UID:10000608-1765705500-1765707300@www.stmarkanglican.com
SUMMARY:The Office of Morning Prayer
DESCRIPTION:The Order of Morning Prayer: 9:45-10:15am in the Library
URL:https://www.stmarkanglican.com/event/the-office-of-morning-prayer/2025-12-14/
LOCATION:St. Mark the Evangelist Anglican Church\, 629 Farley St\, Waxahachie\, TX\, 75165\, United States
END:VEVENT
BEGIN:VEVENT
DTSTART;TZID=UTC:20251211T190000
DTEND;TZID=UTC:20251211T200000
DTSTAMP:20260421T160549
CREATED:20260206T053237Z
LAST-MODIFIED:20260206T053237Z
UID:10000098-1765479600-1765483200@www.stmarkanglican.com
SUMMARY:Celebration of Lessons and Carols
DESCRIPTION:
URL:https://www.stmarkanglican.com/event/celebration-of-lessons-and-carols/
END:VEVENT
BEGIN:VEVENT
DTSTART;TZID=UTC:20251207T103000
DTEND;TZID=UTC:20251207T113000
DTSTAMP:20260421T160549
CREATED:20260206T040158Z
LAST-MODIFIED:20260207T222226Z
UID:10000664-1765103400-1765107000@www.stmarkanglican.com
SUMMARY:Coffee & Catechesis
DESCRIPTION:Coffee & Catechesis\, Adult and Children from 10:30am-11:30am
URL:https://www.stmarkanglican.com/event/coffee-catechesis/2025-12-07/
LOCATION:St. Mark the Evangelist Anglican Church\, 629 Farley St\, Waxahachie\, TX\, 75165\, United States
ATTACH;FMTTYPE=image/jpeg:https://www.stmarkanglican.com/wp-content/uploads/2026/02/t-steele-x-mIAFbAL-o-unsplash-1.jpg
END:VEVENT
BEGIN:VEVENT
DTSTART;TZID=UTC:20251207T094500
DTEND;TZID=UTC:20251207T101500
DTSTAMP:20260421T160549
CREATED:20260206T040158Z
LAST-MODIFIED:20260206T215917Z
UID:10000607-1765100700-1765102500@www.stmarkanglican.com
SUMMARY:The Office of Morning Prayer
DESCRIPTION:The Order of Morning Prayer: 9:45-10:15am in the Library
URL:https://www.stmarkanglican.com/event/the-office-of-morning-prayer/2025-12-07/
LOCATION:St. Mark the Evangelist Anglican Church\, 629 Farley St\, Waxahachie\, TX\, 75165\, United States
END:VEVENT
BEGIN:VEVENT
DTSTART;TZID=UTC:20251206T080000
DTEND;TZID=UTC:20251206T090000
DTSTAMP:20260421T160549
CREATED:20260206T041228Z
LAST-MODIFIED:20260224T153551Z
UID:10000431-1765008000-1765011600@www.stmarkanglican.com
SUMMARY:Ladies Bible Study - Bloom & Pour
DESCRIPTION:
URL:https://www.stmarkanglican.com/event/ladies-bible-study-bloom-pour/2025-12-06/
ATTACH;FMTTYPE=image/jpeg:https://www.stmarkanglican.com/wp-content/uploads/2026/02/FruitfulTree.jpg
END:VEVENT
BEGIN:VEVENT
DTSTART;TZID=UTC:20251205T153000
DTEND;TZID=UTC:20251205T163000
DTSTAMP:20260421T160549
CREATED:20260206T041837Z
LAST-MODIFIED:20260206T041837Z
UID:10000033-1764948600-1764952200@www.stmarkanglican.com
SUMMARY:Stretch and Flow: Ladies Class
DESCRIPTION:
URL:https://www.stmarkanglican.com/event/stretch-and-flow-ladies-class/
END:VEVENT
BEGIN:VEVENT
DTSTART;TZID=UTC:20251130T103000
DTEND;TZID=UTC:20251130T113000
DTSTAMP:20260421T160549
CREATED:20260206T040158Z
LAST-MODIFIED:20260207T222226Z
UID:10000663-1764498600-1764502200@www.stmarkanglican.com
SUMMARY:Coffee & Catechesis
DESCRIPTION:Coffee & Catechesis\, Adult and Children from 10:30am-11:30am
URL:https://www.stmarkanglican.com/event/coffee-catechesis/2025-11-30/
LOCATION:St. Mark the Evangelist Anglican Church\, 629 Farley St\, Waxahachie\, TX\, 75165\, United States
ATTACH;FMTTYPE=image/jpeg:https://www.stmarkanglican.com/wp-content/uploads/2026/02/t-steele-x-mIAFbAL-o-unsplash-1.jpg
END:VEVENT
BEGIN:VEVENT
DTSTART;TZID=UTC:20251130T094500
DTEND;TZID=UTC:20251130T101500
DTSTAMP:20260421T160549
CREATED:20260206T040158Z
LAST-MODIFIED:20260206T215917Z
UID:10000606-1764495900-1764497700@www.stmarkanglican.com
SUMMARY:The Office of Morning Prayer
DESCRIPTION:The Order of Morning Prayer: 9:45-10:15am in the Library
URL:https://www.stmarkanglican.com/event/the-office-of-morning-prayer/2025-11-30/
LOCATION:St. Mark the Evangelist Anglican Church\, 629 Farley St\, Waxahachie\, TX\, 75165\, United States
END:VEVENT
BEGIN:VEVENT
DTSTART;TZID=UTC:20251123T103000
DTEND;TZID=UTC:20251123T113000
DTSTAMP:20260421T160549
CREATED:20260206T040158Z
LAST-MODIFIED:20260207T222226Z
UID:10000662-1763893800-1763897400@www.stmarkanglican.com
SUMMARY:Coffee & Catechesis
DESCRIPTION:Coffee & Catechesis\, Adult and Children from 10:30am-11:30am
URL:https://www.stmarkanglican.com/event/coffee-catechesis/2025-11-23/
LOCATION:St. Mark the Evangelist Anglican Church\, 629 Farley St\, Waxahachie\, TX\, 75165\, United States
ATTACH;FMTTYPE=image/jpeg:https://www.stmarkanglican.com/wp-content/uploads/2026/02/t-steele-x-mIAFbAL-o-unsplash-1.jpg
END:VEVENT
BEGIN:VEVENT
DTSTART;TZID=UTC:20251123T094500
DTEND;TZID=UTC:20251123T101500
DTSTAMP:20260421T160549
CREATED:20260206T040158Z
LAST-MODIFIED:20260206T215917Z
UID:10000605-1763891100-1763892900@www.stmarkanglican.com
SUMMARY:The Office of Morning Prayer
DESCRIPTION:The Order of Morning Prayer: 9:45-10:15am in the Library
URL:https://www.stmarkanglican.com/event/the-office-of-morning-prayer/2025-11-23/
LOCATION:St. Mark the Evangelist Anglican Church\, 629 Farley St\, Waxahachie\, TX\, 75165\, United States
END:VEVENT
END:VCALENDAR