BEGIN:VCALENDAR
VERSION:2.0
PRODID:-//St. Mark the Evangelist Anglican Church - ECPv6.15.20//NONSGML v1.0//EN
CALSCALE:GREGORIAN
METHOD:PUBLISH
X-ORIGINAL-URL:https://www.stmarkanglican.com
X-WR-CALDESC:Events for St. Mark the Evangelist Anglican Church
REFRESH-INTERVAL;VALUE=DURATION:PT1H
X-Robots-Tag:noindex
X-PUBLISHED-TTL:PT1H
BEGIN:VTIMEZONE
TZID:UTC
BEGIN:STANDARD
TZOFFSETFROM:+0000
TZOFFSETTO:+0000
TZNAME:UTC
DTSTART:20250101T000000
END:STANDARD
END:VTIMEZONE
BEGIN:VTIMEZONE
TZID:America/Chicago
BEGIN:DAYLIGHT
TZOFFSETFROM:-0600
TZOFFSETTO:-0500
TZNAME:CDT
DTSTART:20250309T080000
END:DAYLIGHT
BEGIN:STANDARD
TZOFFSETFROM:-0500
TZOFFSETTO:-0600
TZNAME:CST
DTSTART:20251102T070000
END:STANDARD
BEGIN:DAYLIGHT
TZOFFSETFROM:-0600
TZOFFSETTO:-0500
TZNAME:CDT
DTSTART:20260308T080000
END:DAYLIGHT
BEGIN:STANDARD
TZOFFSETFROM:-0500
TZOFFSETTO:-0600
TZNAME:CST
DTSTART:20261101T070000
END:STANDARD
BEGIN:DAYLIGHT
TZOFFSETFROM:-0600
TZOFFSETTO:-0500
TZNAME:CDT
DTSTART:20270314T080000
END:DAYLIGHT
BEGIN:STANDARD
TZOFFSETFROM:-0500
TZOFFSETTO:-0600
TZNAME:CST
DTSTART:20271107T070000
END:STANDARD
END:VTIMEZONE
BEGIN:VEVENT
DTSTART;TZID=UTC:20260715T183000
DTEND;TZID=UTC:20260715T193000
DTSTAMP:20260421T155948
CREATED:20260206T042238Z
LAST-MODIFIED:20260217T025418Z
UID:10000196-1784140200-1784143800@www.stmarkanglican.com
SUMMARY:Marthas & Marys
DESCRIPTION:Women’s Fellowship/Prayer/Study
URL:https://www.stmarkanglican.com/event/marthas-marys/2026-07-15/
ATTACH;FMTTYPE=image/jpeg:https://www.stmarkanglican.com/wp-content/uploads/2026/02/MandMs-e1771296847824.jpg
END:VEVENT
BEGIN:VEVENT
DTSTART;TZID=UTC:20260718T080000
DTEND;TZID=UTC:20260718T090000
DTSTAMP:20260421T155948
CREATED:20260206T041228Z
LAST-MODIFIED:20260224T153551Z
UID:10000507-1784361600-1784365200@www.stmarkanglican.com
SUMMARY:Ladies Bible Study - Bloom & Pour
DESCRIPTION:
URL:https://www.stmarkanglican.com/event/ladies-bible-study-bloom-pour/2026-07-18/
ATTACH;FMTTYPE=image/jpeg:https://www.stmarkanglican.com/wp-content/uploads/2026/02/FruitfulTree.jpg
END:VEVENT
BEGIN:VEVENT
DTSTART;TZID=America/Chicago:20260718T103000
DTEND;TZID=America/Chicago:20260718T113000
DTSTAMP:20260421T155948
CREATED:20260217T025200Z
LAST-MODIFIED:20260217T025200Z
UID:10001820-1784370600-1784374200@www.stmarkanglican.com
SUMMARY:Faith in Motion
DESCRIPTION:A wellness program supporting our ladies’ whole-person health: mind\, body\, soul\, and spirit.
URL:https://www.stmarkanglican.com/event/faith-in-motion-3/2026-07-18/
LOCATION:St. Mark the Evangelist Anglican Church\, 629 Farley St\, Waxahachie\, TX\, 75165\, United States
ATTACH;FMTTYPE=image/jpeg:https://www.stmarkanglican.com/wp-content/uploads/2026/02/FiM-e1771281121614.jpg
ORGANIZER;CN="St. Mark the Evangelist Anglican Church":MAILTO:fr.david@stmarkanglican.com
END:VEVENT
BEGIN:VEVENT
DTSTART;TZID=UTC:20260719T083000
DTEND;TZID=UTC:20260719T100000
DTSTAMP:20260421T155948
CREATED:20260206T042639Z
LAST-MODIFIED:20260209T191157Z
UID:10000695-1784449800-1784455200@www.stmarkanglican.com
SUMMARY:Coffee & Catechesis
DESCRIPTION:Coffee at 8:30 AM & Catechesis for Adults and Children from 9:00 -10:00 AM
URL:https://www.stmarkanglican.com/event/coffee-catechesis-2/2026-07-19/
LOCATION:St. Mark the Evangelist Anglican Church\, 629 Farley St\, Waxahachie\, TX\, 75165\, United States
ATTACH;FMTTYPE=image/jpeg:https://www.stmarkanglican.com/wp-content/uploads/2026/02/t-steele-x-mIAFbAL-o-unsplash-1.jpg
END:VEVENT
BEGIN:VEVENT
DTSTART;TZID=UTC:20260719T103000
DTEND;TZID=UTC:20260719T120000
DTSTAMP:20260421T155948
CREATED:20260206T042639Z
LAST-MODIFIED:20260225T005118Z
UID:10001038-1784457000-1784462400@www.stmarkanglican.com
SUMMARY:The Order for Holy Communion
DESCRIPTION:The Order for Holy Communion: Sundays at 10:30 AM
URL:https://www.stmarkanglican.com/event/the-order-for-holy-communion/2026-07-19/
LOCATION:St. Mark the Evangelist Anglican Church\, 629 Farley St\, Waxahachie\, TX\, 75165\, United States
ATTACH;FMTTYPE=image/jpeg:https://www.stmarkanglican.com/wp-content/uploads/2026/02/Come-and-Get-It-e1771980673835.jpg
END:VEVENT
BEGIN:VEVENT
DTSTART;TZID=UTC:20260725T090000
DTEND;TZID=UTC:20260725T091500
DTSTAMP:20260421T155948
CREATED:20260206T045503Z
LAST-MODIFIED:20260207T001206Z
UID:10000066-1784970000-1784970900@www.stmarkanglican.com
SUMMARY:Feast of St. James
DESCRIPTION:Check church calendar to see if services are scheduled for this Feast Day.
URL:https://www.stmarkanglican.com/event/feast-of-st-james-2/2026-07-25/
END:VEVENT
BEGIN:VEVENT
DTSTART;TZID=UTC:20260726T083000
DTEND;TZID=UTC:20260726T100000
DTSTAMP:20260421T155948
CREATED:20260206T042639Z
LAST-MODIFIED:20260209T191157Z
UID:10000696-1785054600-1785060000@www.stmarkanglican.com
SUMMARY:Coffee & Catechesis
DESCRIPTION:Coffee at 8:30 AM & Catechesis for Adults and Children from 9:00 -10:00 AM
URL:https://www.stmarkanglican.com/event/coffee-catechesis-2/2026-07-26/
LOCATION:St. Mark the Evangelist Anglican Church\, 629 Farley St\, Waxahachie\, TX\, 75165\, United States
ATTACH;FMTTYPE=image/jpeg:https://www.stmarkanglican.com/wp-content/uploads/2026/02/t-steele-x-mIAFbAL-o-unsplash-1.jpg
END:VEVENT
BEGIN:VEVENT
DTSTART;TZID=UTC:20260726T103000
DTEND;TZID=UTC:20260726T120000
DTSTAMP:20260421T155948
CREATED:20260206T042639Z
LAST-MODIFIED:20260225T005118Z
UID:10001039-1785061800-1785067200@www.stmarkanglican.com
SUMMARY:The Order for Holy Communion
DESCRIPTION:The Order for Holy Communion: Sundays at 10:30 AM
URL:https://www.stmarkanglican.com/event/the-order-for-holy-communion/2026-07-26/
LOCATION:St. Mark the Evangelist Anglican Church\, 629 Farley St\, Waxahachie\, TX\, 75165\, United States
ATTACH;FMTTYPE=image/jpeg:https://www.stmarkanglican.com/wp-content/uploads/2026/02/Come-and-Get-It-e1771980673835.jpg
END:VEVENT
BEGIN:VEVENT
DTSTART;TZID=UTC:20260727T183000
DTEND;TZID=UTC:20260727T200000
DTSTAMP:20260421T155948
CREATED:20260206T233626Z
LAST-MODIFIED:20260224T152413Z
UID:10001344-1785177000-1785182400@www.stmarkanglican.com
SUMMARY:Tupperware Theology Bible Study
DESCRIPTION:Corporate Bible Study
URL:https://www.stmarkanglican.com/event/tupperware-theology-bible-study-3-2/2026-07-27/
ATTACH;FMTTYPE=image/jpeg:https://www.stmarkanglican.com/wp-content/uploads/2026/02/TupperwareTheology2-e1771945717332.jpg
END:VEVENT
BEGIN:VEVENT
DTSTART;TZID=UTC:20260731T180000
DTEND;TZID=UTC:20260731T190000
DTSTAMP:20260421T155948
CREATED:20260206T054241Z
LAST-MODIFIED:20260206T054241Z
UID:10000122-1785520800-1785524400@www.stmarkanglican.com
SUMMARY:Fifth Friday Symposium Conversation
DESCRIPTION:Speaker TBD
URL:https://www.stmarkanglican.com/event/fifth-friday-symposium-conversation-3/
END:VEVENT
BEGIN:VEVENT
DTSTART;TZID=UTC:20260801T080000
DTEND;TZID=UTC:20260801T090000
DTSTAMP:20260421T155948
CREATED:20260206T041228Z
LAST-MODIFIED:20260224T153551Z
UID:10000439-1785571200-1785574800@www.stmarkanglican.com
SUMMARY:Ladies Bible Study - Bloom & Pour
DESCRIPTION:
URL:https://www.stmarkanglican.com/event/ladies-bible-study-bloom-pour/2026-08-01/
ATTACH;FMTTYPE=image/jpeg:https://www.stmarkanglican.com/wp-content/uploads/2026/02/FruitfulTree.jpg
END:VEVENT
BEGIN:VEVENT
DTSTART;TZID=UTC:20260801T103000
DTEND;TZID=UTC:20260801T113000
DTSTAMP:20260421T155948
CREATED:20260206T042640Z
LAST-MODIFIED:20260217T024747Z
UID:10001462-1785580200-1785583800@www.stmarkanglican.com
SUMMARY:Faith in Motion
DESCRIPTION:A wellness program supporting our ladies’ whole-person health: mind\, body\, soul\, and spirit.
URL:https://www.stmarkanglican.com/event/faith-in-motion-ladies/2026-08-01/
ATTACH;FMTTYPE=image/jpeg:https://www.stmarkanglican.com/wp-content/uploads/2026/02/FiM-e1771281121614.jpg
END:VEVENT
BEGIN:VEVENT
DTSTART;TZID=UTC:20260801T140000
DTEND;TZID=UTC:20260801T170000
DTSTAMP:20260421T155948
CREATED:20260206T042438Z
LAST-MODIFIED:20260224T153444Z
UID:10001281-1785592800-1785603600@www.stmarkanglican.com
SUMMARY:Men's Come & Go - Railport Brewery (2-5pm)
DESCRIPTION:
URL:https://www.stmarkanglican.com/event/mens-come-go-railport-brewery-2-5pm/2026-08-01/
ATTACH;FMTTYPE=image/jpeg:https://www.stmarkanglican.com/wp-content/uploads/2026/02/RailPort.jpg
END:VEVENT
BEGIN:VEVENT
DTSTART;TZID=UTC:20260802T083000
DTEND;TZID=UTC:20260802T100000
DTSTAMP:20260421T155948
CREATED:20260206T042639Z
LAST-MODIFIED:20260209T191157Z
UID:10000697-1785659400-1785664800@www.stmarkanglican.com
SUMMARY:Coffee & Catechesis
DESCRIPTION:Coffee at 8:30 AM & Catechesis for Adults and Children from 9:00 -10:00 AM
URL:https://www.stmarkanglican.com/event/coffee-catechesis-2/2026-08-02/
LOCATION:St. Mark the Evangelist Anglican Church\, 629 Farley St\, Waxahachie\, TX\, 75165\, United States
ATTACH;FMTTYPE=image/jpeg:https://www.stmarkanglican.com/wp-content/uploads/2026/02/t-steele-x-mIAFbAL-o-unsplash-1.jpg
END:VEVENT
BEGIN:VEVENT
DTSTART;TZID=UTC:20260802T103000
DTEND;TZID=UTC:20260802T120000
DTSTAMP:20260421T155948
CREATED:20260206T042639Z
LAST-MODIFIED:20260225T005118Z
UID:10001040-1785666600-1785672000@www.stmarkanglican.com
SUMMARY:The Order for Holy Communion
DESCRIPTION:The Order for Holy Communion: Sundays at 10:30 AM
URL:https://www.stmarkanglican.com/event/the-order-for-holy-communion/2026-08-02/
LOCATION:St. Mark the Evangelist Anglican Church\, 629 Farley St\, Waxahachie\, TX\, 75165\, United States
ATTACH;FMTTYPE=image/jpeg:https://www.stmarkanglican.com/wp-content/uploads/2026/02/Come-and-Get-It-e1771980673835.jpg
END:VEVENT
BEGIN:VEVENT
DTSTART;TZID=UTC:20260804T180000
DTEND;TZID=UTC:20260804T200000
DTSTAMP:20260421T155948
CREATED:20260206T042237Z
LAST-MODIFIED:20260224T152532Z
UID:10000131-1785866400-1785873600@www.stmarkanglican.com
SUMMARY:Suds of Love
DESCRIPTION:Monthly ministry of service to our friends at The Marvin Avenue Laundromat
URL:https://www.stmarkanglican.com/event/suds-of-love/2026-08-04/
LOCATION:The Marvin Avenue Laundromat\, 113 W Marvin Ave\, Waxahachie\, TX\, 75165
ATTACH;FMTTYPE=image/jpeg:https://www.stmarkanglican.com/wp-content/uploads/2026/02/SudsofLove-e1771946723835.jpg
END:VEVENT
BEGIN:VEVENT
DTSTART;TZID=UTC:20260805T183000
DTEND;TZID=UTC:20260805T193000
DTSTAMP:20260421T155948
CREATED:20260206T042238Z
LAST-MODIFIED:20260217T025418Z
UID:10000197-1785954600-1785958200@www.stmarkanglican.com
SUMMARY:Marthas & Marys
DESCRIPTION:Women’s Fellowship/Prayer/Study
URL:https://www.stmarkanglican.com/event/marthas-marys/2026-08-05/
ATTACH;FMTTYPE=image/jpeg:https://www.stmarkanglican.com/wp-content/uploads/2026/02/MandMs-e1771296847824.jpg
END:VEVENT
BEGIN:VEVENT
DTSTART;TZID=UTC:20260806T120000
DTEND;TZID=UTC:20260806T123000
DTSTAMP:20260421T155948
CREATED:20260206T041433Z
LAST-MODIFIED:20260206T235959Z
UID:10001660-1786017600-1786019400@www.stmarkanglican.com
SUMMARY:Feast of the Transfiguration
DESCRIPTION:
URL:https://www.stmarkanglican.com/event/feast-of-the-transfiguration/2026-08-06/
END:VEVENT
BEGIN:VEVENT
DTSTART;TZID=UTC:20260809T083000
DTEND;TZID=UTC:20260809T100000
DTSTAMP:20260421T155948
CREATED:20260206T042639Z
LAST-MODIFIED:20260209T191157Z
UID:10000698-1786264200-1786269600@www.stmarkanglican.com
SUMMARY:Coffee & Catechesis
DESCRIPTION:Coffee at 8:30 AM & Catechesis for Adults and Children from 9:00 -10:00 AM
URL:https://www.stmarkanglican.com/event/coffee-catechesis-2/2026-08-09/
LOCATION:St. Mark the Evangelist Anglican Church\, 629 Farley St\, Waxahachie\, TX\, 75165\, United States
ATTACH;FMTTYPE=image/jpeg:https://www.stmarkanglican.com/wp-content/uploads/2026/02/t-steele-x-mIAFbAL-o-unsplash-1.jpg
END:VEVENT
BEGIN:VEVENT
DTSTART;TZID=UTC:20260809T103000
DTEND;TZID=UTC:20260809T120000
DTSTAMP:20260421T155948
CREATED:20260206T042639Z
LAST-MODIFIED:20260225T005118Z
UID:10001041-1786271400-1786276800@www.stmarkanglican.com
SUMMARY:The Order for Holy Communion
DESCRIPTION:The Order for Holy Communion: Sundays at 10:30 AM
URL:https://www.stmarkanglican.com/event/the-order-for-holy-communion/2026-08-09/
LOCATION:St. Mark the Evangelist Anglican Church\, 629 Farley St\, Waxahachie\, TX\, 75165\, United States
ATTACH;FMTTYPE=image/jpeg:https://www.stmarkanglican.com/wp-content/uploads/2026/02/Come-and-Get-It-e1771980673835.jpg
END:VEVENT
BEGIN:VEVENT
DTSTART;TZID=UTC:20260809T120000
DTEND;TZID=UTC:20260809T133000
DTSTAMP:20260421T155948
CREATED:20260206T042839Z
LAST-MODIFIED:20260225T010127Z
UID:10000959-1786276800-1786282200@www.stmarkanglican.com
SUMMARY:"Table for four\, please!" - see Coco for more info
DESCRIPTION:Small table fellowship of groups 4-6 at an offsite restaurant.
URL:https://www.stmarkanglican.com/event/table-for-four-please/2026-08-09/
ATTACH;FMTTYPE=image/png:https://www.stmarkanglican.com/wp-content/uploads/2026/02/TfFP-e1771981281184.png
END:VEVENT
BEGIN:VEVENT
DTSTART;TZID=UTC:20260810T183000
DTEND;TZID=UTC:20260810T200000
DTSTAMP:20260421T155948
CREATED:20260206T233626Z
LAST-MODIFIED:20260224T152413Z
UID:10001345-1786386600-1786392000@www.stmarkanglican.com
SUMMARY:Tupperware Theology Bible Study
DESCRIPTION:Corporate Bible Study
URL:https://www.stmarkanglican.com/event/tupperware-theology-bible-study-3-2/2026-08-10/
ATTACH;FMTTYPE=image/jpeg:https://www.stmarkanglican.com/wp-content/uploads/2026/02/TupperwareTheology2-e1771945717332.jpg
END:VEVENT
BEGIN:VEVENT
DTSTART;TZID=UTC:20260815T080000
DTEND;TZID=UTC:20260815T090000
DTSTAMP:20260421T155948
CREATED:20260206T041228Z
LAST-MODIFIED:20260224T153551Z
UID:10000508-1786780800-1786784400@www.stmarkanglican.com
SUMMARY:Ladies Bible Study - Bloom & Pour
DESCRIPTION:
URL:https://www.stmarkanglican.com/event/ladies-bible-study-bloom-pour/2026-08-15/
ATTACH;FMTTYPE=image/jpeg:https://www.stmarkanglican.com/wp-content/uploads/2026/02/FruitfulTree.jpg
END:VEVENT
BEGIN:VEVENT
DTSTART;TZID=America/Chicago:20260815T103000
DTEND;TZID=America/Chicago:20260815T113000
DTSTAMP:20260421T155948
CREATED:20260217T025200Z
LAST-MODIFIED:20260217T025200Z
UID:10001821-1786789800-1786793400@www.stmarkanglican.com
SUMMARY:Faith in Motion
DESCRIPTION:A wellness program supporting our ladies’ whole-person health: mind\, body\, soul\, and spirit.
URL:https://www.stmarkanglican.com/event/faith-in-motion-3/2026-08-15/
LOCATION:St. Mark the Evangelist Anglican Church\, 629 Farley St\, Waxahachie\, TX\, 75165\, United States
ATTACH;FMTTYPE=image/jpeg:https://www.stmarkanglican.com/wp-content/uploads/2026/02/FiM-e1771281121614.jpg
ORGANIZER;CN="St. Mark the Evangelist Anglican Church":MAILTO:fr.david@stmarkanglican.com
END:VEVENT
BEGIN:VEVENT
DTSTART;TZID=UTC:20260816T083000
DTEND;TZID=UTC:20260816T100000
DTSTAMP:20260421T155948
CREATED:20260206T042639Z
LAST-MODIFIED:20260209T191157Z
UID:10000699-1786869000-1786874400@www.stmarkanglican.com
SUMMARY:Coffee & Catechesis
DESCRIPTION:Coffee at 8:30 AM & Catechesis for Adults and Children from 9:00 -10:00 AM
URL:https://www.stmarkanglican.com/event/coffee-catechesis-2/2026-08-16/
LOCATION:St. Mark the Evangelist Anglican Church\, 629 Farley St\, Waxahachie\, TX\, 75165\, United States
ATTACH;FMTTYPE=image/jpeg:https://www.stmarkanglican.com/wp-content/uploads/2026/02/t-steele-x-mIAFbAL-o-unsplash-1.jpg
END:VEVENT
BEGIN:VEVENT
DTSTART;TZID=UTC:20260816T103000
DTEND;TZID=UTC:20260816T120000
DTSTAMP:20260421T155948
CREATED:20260206T042639Z
LAST-MODIFIED:20260225T005118Z
UID:10001042-1786876200-1786881600@www.stmarkanglican.com
SUMMARY:The Order for Holy Communion
DESCRIPTION:The Order for Holy Communion: Sundays at 10:30 AM
URL:https://www.stmarkanglican.com/event/the-order-for-holy-communion/2026-08-16/
LOCATION:St. Mark the Evangelist Anglican Church\, 629 Farley St\, Waxahachie\, TX\, 75165\, United States
ATTACH;FMTTYPE=image/jpeg:https://www.stmarkanglican.com/wp-content/uploads/2026/02/Come-and-Get-It-e1771980673835.jpg
END:VEVENT
BEGIN:VEVENT
DTSTART;TZID=UTC:20260819T183000
DTEND;TZID=UTC:20260819T193000
DTSTAMP:20260421T155948
CREATED:20260206T042238Z
LAST-MODIFIED:20260217T025418Z
UID:10000198-1787164200-1787167800@www.stmarkanglican.com
SUMMARY:Marthas & Marys
DESCRIPTION:Women’s Fellowship/Prayer/Study
URL:https://www.stmarkanglican.com/event/marthas-marys/2026-08-19/
ATTACH;FMTTYPE=image/jpeg:https://www.stmarkanglican.com/wp-content/uploads/2026/02/MandMs-e1771296847824.jpg
END:VEVENT
BEGIN:VEVENT
DTSTART;TZID=UTC:20260823T083000
DTEND;TZID=UTC:20260823T100000
DTSTAMP:20260421T155948
CREATED:20260206T042639Z
LAST-MODIFIED:20260209T191157Z
UID:10000700-1787473800-1787479200@www.stmarkanglican.com
SUMMARY:Coffee & Catechesis
DESCRIPTION:Coffee at 8:30 AM & Catechesis for Adults and Children from 9:00 -10:00 AM
URL:https://www.stmarkanglican.com/event/coffee-catechesis-2/2026-08-23/
LOCATION:St. Mark the Evangelist Anglican Church\, 629 Farley St\, Waxahachie\, TX\, 75165\, United States
ATTACH;FMTTYPE=image/jpeg:https://www.stmarkanglican.com/wp-content/uploads/2026/02/t-steele-x-mIAFbAL-o-unsplash-1.jpg
END:VEVENT
BEGIN:VEVENT
DTSTART;TZID=UTC:20260823T103000
DTEND;TZID=UTC:20260823T120000
DTSTAMP:20260421T155948
CREATED:20260206T042639Z
LAST-MODIFIED:20260225T005118Z
UID:10001043-1787481000-1787486400@www.stmarkanglican.com
SUMMARY:The Order for Holy Communion
DESCRIPTION:The Order for Holy Communion: Sundays at 10:30 AM
URL:https://www.stmarkanglican.com/event/the-order-for-holy-communion/2026-08-23/
LOCATION:St. Mark the Evangelist Anglican Church\, 629 Farley St\, Waxahachie\, TX\, 75165\, United States
ATTACH;FMTTYPE=image/jpeg:https://www.stmarkanglican.com/wp-content/uploads/2026/02/Come-and-Get-It-e1771980673835.jpg
END:VEVENT
BEGIN:VEVENT
DTSTART;TZID=UTC:20260824T090000
DTEND;TZID=UTC:20260824T091500
DTSTAMP:20260421T155948
CREATED:20260206T045503Z
LAST-MODIFIED:20260207T000038Z
UID:10000067-1787562000-1787562900@www.stmarkanglican.com
SUMMARY:Feast of St. Bartholomew the Apostle
DESCRIPTION:Check church calendar to see if services are scheduled for this Feast Day.
URL:https://www.stmarkanglican.com/event/feast-of-st-bartholomew-the-apostle-2/2026-08-24/
END:VEVENT
END:VCALENDAR