BEGIN:VCALENDAR
VERSION:2.0
PRODID:-//St. Mark the Evangelist Anglican Church - ECPv6.15.20//NONSGML v1.0//EN
CALSCALE:GREGORIAN
METHOD:PUBLISH
X-WR-CALNAME:St. Mark the Evangelist Anglican Church
X-ORIGINAL-URL:https://www.stmarkanglican.com
X-WR-CALDESC:Events for St. Mark the Evangelist Anglican Church
REFRESH-INTERVAL;VALUE=DURATION:PT1H
X-Robots-Tag:noindex
X-PUBLISHED-TTL:PT1H
BEGIN:VTIMEZONE
TZID:UTC
BEGIN:STANDARD
TZOFFSETFROM:+0000
TZOFFSETTO:+0000
TZNAME:UTC
DTSTART:20240101T000000
END:STANDARD
END:VTIMEZONE
BEGIN:VEVENT
DTSTART;TZID=UTC:20251206T080000
DTEND;TZID=UTC:20251206T090000
DTSTAMP:20260424T084150
CREATED:20260206T041228Z
LAST-MODIFIED:20260224T153551Z
UID:10000431-1765008000-1765011600@www.stmarkanglican.com
SUMMARY:Ladies Bible Study - Bloom & Pour
DESCRIPTION:
URL:https://www.stmarkanglican.com/event/ladies-bible-study-bloom-pour/2025-12-06/
ATTACH;FMTTYPE=image/jpeg:https://www.stmarkanglican.com/wp-content/uploads/2026/02/FruitfulTree.jpg
END:VEVENT
BEGIN:VEVENT
DTSTART;TZID=UTC:20251205T153000
DTEND;TZID=UTC:20251205T163000
DTSTAMP:20260424T084150
CREATED:20260206T041837Z
LAST-MODIFIED:20260206T041837Z
UID:10000033-1764948600-1764952200@www.stmarkanglican.com
SUMMARY:Stretch and Flow: Ladies Class
DESCRIPTION:
URL:https://www.stmarkanglican.com/event/stretch-and-flow-ladies-class/
END:VEVENT
BEGIN:VEVENT
DTSTART;TZID=UTC:20251130T103000
DTEND;TZID=UTC:20251130T113000
DTSTAMP:20260424T084150
CREATED:20260206T040158Z
LAST-MODIFIED:20260207T222226Z
UID:10000663-1764498600-1764502200@www.stmarkanglican.com
SUMMARY:Coffee & Catechesis
DESCRIPTION:Coffee & Catechesis\, Adult and Children from 10:30am-11:30am
URL:https://www.stmarkanglican.com/event/coffee-catechesis/2025-11-30/
LOCATION:St. Mark the Evangelist Anglican Church\, 629 Farley St\, Waxahachie\, TX\, 75165\, United States
ATTACH;FMTTYPE=image/jpeg:https://www.stmarkanglican.com/wp-content/uploads/2026/02/t-steele-x-mIAFbAL-o-unsplash-1.jpg
END:VEVENT
BEGIN:VEVENT
DTSTART;TZID=UTC:20251130T094500
DTEND;TZID=UTC:20251130T101500
DTSTAMP:20260424T084150
CREATED:20260206T040158Z
LAST-MODIFIED:20260206T215917Z
UID:10000606-1764495900-1764497700@www.stmarkanglican.com
SUMMARY:The Office of Morning Prayer
DESCRIPTION:The Order of Morning Prayer: 9:45-10:15am in the Library
URL:https://www.stmarkanglican.com/event/the-office-of-morning-prayer/2025-11-30/
LOCATION:St. Mark the Evangelist Anglican Church\, 629 Farley St\, Waxahachie\, TX\, 75165\, United States
END:VEVENT
BEGIN:VEVENT
DTSTART;TZID=UTC:20251123T103000
DTEND;TZID=UTC:20251123T113000
DTSTAMP:20260424T084150
CREATED:20260206T040158Z
LAST-MODIFIED:20260207T222226Z
UID:10000662-1763893800-1763897400@www.stmarkanglican.com
SUMMARY:Coffee & Catechesis
DESCRIPTION:Coffee & Catechesis\, Adult and Children from 10:30am-11:30am
URL:https://www.stmarkanglican.com/event/coffee-catechesis/2025-11-23/
LOCATION:St. Mark the Evangelist Anglican Church\, 629 Farley St\, Waxahachie\, TX\, 75165\, United States
ATTACH;FMTTYPE=image/jpeg:https://www.stmarkanglican.com/wp-content/uploads/2026/02/t-steele-x-mIAFbAL-o-unsplash-1.jpg
END:VEVENT
BEGIN:VEVENT
DTSTART;TZID=UTC:20251123T094500
DTEND;TZID=UTC:20251123T101500
DTSTAMP:20260424T084150
CREATED:20260206T040158Z
LAST-MODIFIED:20260206T215917Z
UID:10000605-1763891100-1763892900@www.stmarkanglican.com
SUMMARY:The Office of Morning Prayer
DESCRIPTION:The Order of Morning Prayer: 9:45-10:15am in the Library
URL:https://www.stmarkanglican.com/event/the-office-of-morning-prayer/2025-11-23/
LOCATION:St. Mark the Evangelist Anglican Church\, 629 Farley St\, Waxahachie\, TX\, 75165\, United States
END:VEVENT
BEGIN:VEVENT
DTSTART;TZID=UTC:20251121T180000
DTEND;TZID=UTC:20251121T190000
DTSTAMP:20260424T084150
CREATED:20260206T053237Z
LAST-MODIFIED:20260206T053237Z
UID:10000097-1763748000-1763751600@www.stmarkanglican.com
SUMMARY:Friday Symposium Conversation
DESCRIPTION:
URL:https://www.stmarkanglican.com/event/friday-symposium-conversation/
END:VEVENT
BEGIN:VEVENT
DTSTART;TZID=UTC:20251121T153000
DTEND;TZID=UTC:20251121T163000
DTSTAMP:20260424T084150
CREATED:20260206T053237Z
LAST-MODIFIED:20260206T053237Z
UID:10000096-1763739000-1763742600@www.stmarkanglican.com
SUMMARY:Stretch and Flow
DESCRIPTION:
URL:https://www.stmarkanglican.com/event/stretch-and-flow/
END:VEVENT
BEGIN:VEVENT
DTSTART;TZID=UTC:20251116T103000
DTEND;TZID=UTC:20251116T113000
DTSTAMP:20260424T084150
CREATED:20260206T040158Z
LAST-MODIFIED:20260207T222226Z
UID:10000661-1763289000-1763292600@www.stmarkanglican.com
SUMMARY:Coffee & Catechesis
DESCRIPTION:Coffee & Catechesis\, Adult and Children from 10:30am-11:30am
URL:https://www.stmarkanglican.com/event/coffee-catechesis/2025-11-16/
LOCATION:St. Mark the Evangelist Anglican Church\, 629 Farley St\, Waxahachie\, TX\, 75165\, United States
ATTACH;FMTTYPE=image/jpeg:https://www.stmarkanglican.com/wp-content/uploads/2026/02/t-steele-x-mIAFbAL-o-unsplash-1.jpg
END:VEVENT
BEGIN:VEVENT
DTSTART;TZID=UTC:20251116T094500
DTEND;TZID=UTC:20251116T101500
DTSTAMP:20260424T084150
CREATED:20260206T040158Z
LAST-MODIFIED:20260206T215917Z
UID:10000604-1763286300-1763288100@www.stmarkanglican.com
SUMMARY:The Office of Morning Prayer
DESCRIPTION:The Order of Morning Prayer: 9:45-10:15am in the Library
URL:https://www.stmarkanglican.com/event/the-office-of-morning-prayer/2025-11-16/
LOCATION:St. Mark the Evangelist Anglican Church\, 629 Farley St\, Waxahachie\, TX\, 75165\, United States
END:VEVENT
BEGIN:VEVENT
DTSTART;TZID=UTC:20251115T080000
DTEND;TZID=UTC:20251115T090000
DTSTAMP:20260424T084150
CREATED:20260206T041228Z
LAST-MODIFIED:20260224T153551Z
UID:10000499-1763193600-1763197200@www.stmarkanglican.com
SUMMARY:Ladies Bible Study - Bloom & Pour
DESCRIPTION:
URL:https://www.stmarkanglican.com/event/ladies-bible-study-bloom-pour/2025-11-15/
ATTACH;FMTTYPE=image/jpeg:https://www.stmarkanglican.com/wp-content/uploads/2026/02/FruitfulTree.jpg
END:VEVENT
BEGIN:VEVENT
DTSTART;TZID=UTC:20251109T104500
DTEND;TZID=UTC:20251109T110000
DTSTAMP:20260424T084150
CREATED:20260206T053237Z
LAST-MODIFIED:20260206T053237Z
UID:10000095-1762685100-1762686000@www.stmarkanglican.com
SUMMARY:Episcopal Visit: The Rt. Rev. Dr. +Charles Camlin
DESCRIPTION:
URL:https://www.stmarkanglican.com/event/episcopal-visit-the-rt-rev-dr-charles-camlin/
END:VEVENT
BEGIN:VEVENT
DTSTART;TZID=UTC:20251109T103000
DTEND;TZID=UTC:20251109T113000
DTSTAMP:20260424T084150
CREATED:20260206T040158Z
LAST-MODIFIED:20260207T222226Z
UID:10000660-1762684200-1762687800@www.stmarkanglican.com
SUMMARY:Coffee & Catechesis
DESCRIPTION:Coffee & Catechesis\, Adult and Children from 10:30am-11:30am
URL:https://www.stmarkanglican.com/event/coffee-catechesis/2025-11-09/
LOCATION:St. Mark the Evangelist Anglican Church\, 629 Farley St\, Waxahachie\, TX\, 75165\, United States
ATTACH;FMTTYPE=image/jpeg:https://www.stmarkanglican.com/wp-content/uploads/2026/02/t-steele-x-mIAFbAL-o-unsplash-1.jpg
END:VEVENT
BEGIN:VEVENT
DTSTART;TZID=UTC:20251109T094500
DTEND;TZID=UTC:20251109T101500
DTSTAMP:20260424T084150
CREATED:20260206T040158Z
LAST-MODIFIED:20260206T215917Z
UID:10000603-1762681500-1762683300@www.stmarkanglican.com
SUMMARY:The Office of Morning Prayer
DESCRIPTION:The Order of Morning Prayer: 9:45-10:15am in the Library
URL:https://www.stmarkanglican.com/event/the-office-of-morning-prayer/2025-11-09/
LOCATION:St. Mark the Evangelist Anglican Church\, 629 Farley St\, Waxahachie\, TX\, 75165\, United States
END:VEVENT
BEGIN:VEVENT
DTSTART;TZID=UTC:20251102T103000
DTEND;TZID=UTC:20251102T113000
DTSTAMP:20260424T084150
CREATED:20260206T040158Z
LAST-MODIFIED:20260207T222226Z
UID:10000659-1762079400-1762083000@www.stmarkanglican.com
SUMMARY:Coffee & Catechesis
DESCRIPTION:Coffee & Catechesis\, Adult and Children from 10:30am-11:30am
URL:https://www.stmarkanglican.com/event/coffee-catechesis/2025-11-02/
LOCATION:St. Mark the Evangelist Anglican Church\, 629 Farley St\, Waxahachie\, TX\, 75165\, United States
ATTACH;FMTTYPE=image/jpeg:https://www.stmarkanglican.com/wp-content/uploads/2026/02/t-steele-x-mIAFbAL-o-unsplash-1.jpg
END:VEVENT
BEGIN:VEVENT
DTSTART;TZID=UTC:20251102T094500
DTEND;TZID=UTC:20251102T101500
DTSTAMP:20260424T084150
CREATED:20260206T040158Z
LAST-MODIFIED:20260206T215917Z
UID:10000602-1762076700-1762078500@www.stmarkanglican.com
SUMMARY:The Office of Morning Prayer
DESCRIPTION:The Order of Morning Prayer: 9:45-10:15am in the Library
URL:https://www.stmarkanglican.com/event/the-office-of-morning-prayer/2025-11-02/
LOCATION:St. Mark the Evangelist Anglican Church\, 629 Farley St\, Waxahachie\, TX\, 75165\, United States
END:VEVENT
BEGIN:VEVENT
DTSTART;TZID=UTC:20251101T080000
DTEND;TZID=UTC:20251101T090000
DTSTAMP:20260424T084150
CREATED:20260206T041228Z
LAST-MODIFIED:20260224T153551Z
UID:10000430-1761984000-1761987600@www.stmarkanglican.com
SUMMARY:Ladies Bible Study - Bloom & Pour
DESCRIPTION:
URL:https://www.stmarkanglican.com/event/ladies-bible-study-bloom-pour/2025-11-01/
ATTACH;FMTTYPE=image/jpeg:https://www.stmarkanglican.com/wp-content/uploads/2026/02/FruitfulTree.jpg
END:VEVENT
BEGIN:VEVENT
DTSTART;TZID=UTC:20251031T153000
DTEND;TZID=UTC:20251031T163000
DTSTAMP:20260424T084150
CREATED:20260206T053236Z
LAST-MODIFIED:20260206T053236Z
UID:10000094-1761924600-1761928200@www.stmarkanglican.com
SUMMARY:Stretch and Flow for ladies/young women 13+
DESCRIPTION:Mothers\, Daughters\, Granddaughters\, Grandmothers\, and dear friends 13+ are welcome!
URL:https://www.stmarkanglican.com/event/stretch-and-flow-for-ladies-young-women-13/
END:VEVENT
BEGIN:VEVENT
DTSTART;TZID=UTC:20251026T103000
DTEND;TZID=UTC:20251026T113000
DTSTAMP:20260424T084150
CREATED:20260206T040158Z
LAST-MODIFIED:20260207T222226Z
UID:10000658-1761474600-1761478200@www.stmarkanglican.com
SUMMARY:Coffee & Catechesis
DESCRIPTION:Coffee & Catechesis\, Adult and Children from 10:30am-11:30am
URL:https://www.stmarkanglican.com/event/coffee-catechesis/2025-10-26/
LOCATION:St. Mark the Evangelist Anglican Church\, 629 Farley St\, Waxahachie\, TX\, 75165\, United States
ATTACH;FMTTYPE=image/jpeg:https://www.stmarkanglican.com/wp-content/uploads/2026/02/t-steele-x-mIAFbAL-o-unsplash-1.jpg
END:VEVENT
BEGIN:VEVENT
DTSTART;TZID=UTC:20251026T094500
DTEND;TZID=UTC:20251026T101500
DTSTAMP:20260424T084150
CREATED:20260206T040158Z
LAST-MODIFIED:20260206T215917Z
UID:10000601-1761471900-1761473700@www.stmarkanglican.com
SUMMARY:The Office of Morning Prayer
DESCRIPTION:The Order of Morning Prayer: 9:45-10:15am in the Library
URL:https://www.stmarkanglican.com/event/the-office-of-morning-prayer/2025-10-26/
LOCATION:St. Mark the Evangelist Anglican Church\, 629 Farley St\, Waxahachie\, TX\, 75165\, United States
END:VEVENT
BEGIN:VEVENT
DTSTART;TZID=UTC:20251019T103000
DTEND;TZID=UTC:20251019T113000
DTSTAMP:20260424T084150
CREATED:20260206T040158Z
LAST-MODIFIED:20260207T222226Z
UID:10000657-1760869800-1760873400@www.stmarkanglican.com
SUMMARY:Coffee & Catechesis
DESCRIPTION:Coffee & Catechesis\, Adult and Children from 10:30am-11:30am
URL:https://www.stmarkanglican.com/event/coffee-catechesis/2025-10-19/
LOCATION:St. Mark the Evangelist Anglican Church\, 629 Farley St\, Waxahachie\, TX\, 75165\, United States
ATTACH;FMTTYPE=image/jpeg:https://www.stmarkanglican.com/wp-content/uploads/2026/02/t-steele-x-mIAFbAL-o-unsplash-1.jpg
END:VEVENT
BEGIN:VEVENT
DTSTART;TZID=UTC:20251019T094500
DTEND;TZID=UTC:20251019T101500
DTSTAMP:20260424T084150
CREATED:20260206T040158Z
LAST-MODIFIED:20260206T215917Z
UID:10000600-1760867100-1760868900@www.stmarkanglican.com
SUMMARY:The Office of Morning Prayer
DESCRIPTION:The Order of Morning Prayer: 9:45-10:15am in the Library
URL:https://www.stmarkanglican.com/event/the-office-of-morning-prayer/2025-10-19/
LOCATION:St. Mark the Evangelist Anglican Church\, 629 Farley St\, Waxahachie\, TX\, 75165\, United States
END:VEVENT
BEGIN:VEVENT
DTSTART;TZID=UTC:20251018T080000
DTEND;TZID=UTC:20251018T090000
DTSTAMP:20260424T084150
CREATED:20260206T041228Z
LAST-MODIFIED:20260224T153551Z
UID:10000498-1760774400-1760778000@www.stmarkanglican.com
SUMMARY:Ladies Bible Study - Bloom & Pour
DESCRIPTION:
URL:https://www.stmarkanglican.com/event/ladies-bible-study-bloom-pour/2025-10-18/
ATTACH;FMTTYPE=image/jpeg:https://www.stmarkanglican.com/wp-content/uploads/2026/02/FruitfulTree.jpg
END:VEVENT
BEGIN:VEVENT
DTSTART;TZID=UTC:20251012T103000
DTEND;TZID=UTC:20251012T113000
DTSTAMP:20260424T084150
CREATED:20260206T040158Z
LAST-MODIFIED:20260207T222226Z
UID:10000656-1760265000-1760268600@www.stmarkanglican.com
SUMMARY:Coffee & Catechesis
DESCRIPTION:Coffee & Catechesis\, Adult and Children from 10:30am-11:30am
URL:https://www.stmarkanglican.com/event/coffee-catechesis/2025-10-12/
LOCATION:St. Mark the Evangelist Anglican Church\, 629 Farley St\, Waxahachie\, TX\, 75165\, United States
ATTACH;FMTTYPE=image/jpeg:https://www.stmarkanglican.com/wp-content/uploads/2026/02/t-steele-x-mIAFbAL-o-unsplash-1.jpg
END:VEVENT
BEGIN:VEVENT
DTSTART;TZID=UTC:20251012T094500
DTEND;TZID=UTC:20251012T101500
DTSTAMP:20260424T084150
CREATED:20260206T040158Z
LAST-MODIFIED:20260206T215917Z
UID:10000599-1760262300-1760264100@www.stmarkanglican.com
SUMMARY:The Office of Morning Prayer
DESCRIPTION:The Order of Morning Prayer: 9:45-10:15am in the Library
URL:https://www.stmarkanglican.com/event/the-office-of-morning-prayer/2025-10-12/
LOCATION:St. Mark the Evangelist Anglican Church\, 629 Farley St\, Waxahachie\, TX\, 75165\, United States
END:VEVENT
BEGIN:VEVENT
DTSTART;TZID=UTC:20251005T103000
DTEND;TZID=UTC:20251005T113000
DTSTAMP:20260424T084150
CREATED:20260206T040158Z
LAST-MODIFIED:20260207T222226Z
UID:10000655-1759660200-1759663800@www.stmarkanglican.com
SUMMARY:Coffee & Catechesis
DESCRIPTION:Coffee & Catechesis\, Adult and Children from 10:30am-11:30am
URL:https://www.stmarkanglican.com/event/coffee-catechesis/2025-10-05/
LOCATION:St. Mark the Evangelist Anglican Church\, 629 Farley St\, Waxahachie\, TX\, 75165\, United States
ATTACH;FMTTYPE=image/jpeg:https://www.stmarkanglican.com/wp-content/uploads/2026/02/t-steele-x-mIAFbAL-o-unsplash-1.jpg
END:VEVENT
BEGIN:VEVENT
DTSTART;TZID=UTC:20251005T094500
DTEND;TZID=UTC:20251005T101500
DTSTAMP:20260424T084150
CREATED:20260206T040158Z
LAST-MODIFIED:20260206T215917Z
UID:10000598-1759657500-1759659300@www.stmarkanglican.com
SUMMARY:The Office of Morning Prayer
DESCRIPTION:The Order of Morning Prayer: 9:45-10:15am in the Library
URL:https://www.stmarkanglican.com/event/the-office-of-morning-prayer/2025-10-05/
LOCATION:St. Mark the Evangelist Anglican Church\, 629 Farley St\, Waxahachie\, TX\, 75165\, United States
END:VEVENT
BEGIN:VEVENT
DTSTART;TZID=UTC:20251004T130000
DTEND;TZID=UTC:20251004T140000
DTSTAMP:20260424T084150
CREATED:20260206T041635Z
LAST-MODIFIED:20260207T000238Z
UID:10000028-1759582800-1759586400@www.stmarkanglican.com
SUMMARY:Blessing of the Animals
DESCRIPTION:Parking Lot of Christ the King Lutheran Church
URL:https://www.stmarkanglican.com/event/blessing-of-the-animals/2025-10-04/
END:VEVENT
BEGIN:VEVENT
DTSTART;TZID=UTC:20251004T080000
DTEND;TZID=UTC:20251004T090000
DTSTAMP:20260424T084150
CREATED:20260206T041228Z
LAST-MODIFIED:20260224T153551Z
UID:10000429-1759564800-1759568400@www.stmarkanglican.com
SUMMARY:Ladies Bible Study - Bloom & Pour
DESCRIPTION:
URL:https://www.stmarkanglican.com/event/ladies-bible-study-bloom-pour/2025-10-04/
ATTACH;FMTTYPE=image/jpeg:https://www.stmarkanglican.com/wp-content/uploads/2026/02/FruitfulTree.jpg
END:VEVENT
BEGIN:VEVENT
DTSTART;TZID=UTC:20250929T120000
DTEND;TZID=UTC:20250929T121500
DTSTAMP:20260424T084150
CREATED:20260206T041635Z
LAST-MODIFIED:20260206T041635Z
UID:10000027-1759147200-1759148100@www.stmarkanglican.com
SUMMARY:St. Michael and All Angels
DESCRIPTION:
URL:https://www.stmarkanglican.com/event/st-michael-and-all-angels/
END:VEVENT
END:VCALENDAR