BEGIN:VCALENDAR
VERSION:2.0
PRODID:-//St. Mark the Evangelist Anglican Church - ECPv6.15.20//NONSGML v1.0//EN
CALSCALE:GREGORIAN
METHOD:PUBLISH
X-WR-CALNAME:St. Mark the Evangelist Anglican Church
X-ORIGINAL-URL:https://www.stmarkanglican.com
X-WR-CALDESC:Events for St. Mark the Evangelist Anglican Church
REFRESH-INTERVAL;VALUE=DURATION:PT1H
X-Robots-Tag:noindex
X-PUBLISHED-TTL:PT1H
BEGIN:VTIMEZONE
TZID:UTC
BEGIN:STANDARD
TZOFFSETFROM:+0000
TZOFFSETTO:+0000
TZNAME:UTC
DTSTART:20250101T000000
END:STANDARD
END:VTIMEZONE
BEGIN:VEVENT
DTSTART;TZID=UTC:20260502T103000
DTEND;TZID=UTC:20260502T113000
DTSTAMP:20260420T032246
CREATED:20260206T042640Z
LAST-MODIFIED:20260217T024747Z
UID:10001456-1777717800-1777721400@www.stmarkanglican.com
SUMMARY:Faith in Motion
DESCRIPTION:A wellness program supporting our ladies’ whole-person health: mind\, body\, soul\, and spirit.
URL:https://www.stmarkanglican.com/event/faith-in-motion-ladies/2026-05-02/
ATTACH;FMTTYPE=image/jpeg:https://www.stmarkanglican.com/wp-content/uploads/2026/02/FiM-e1771281121614.jpg
END:VEVENT
BEGIN:VEVENT
DTSTART;TZID=UTC:20260606T103000
DTEND;TZID=UTC:20260606T113000
DTSTAMP:20260420T032246
CREATED:20260206T042640Z
LAST-MODIFIED:20260217T024747Z
UID:10001458-1780741800-1780745400@www.stmarkanglican.com
SUMMARY:Faith in Motion
DESCRIPTION:A wellness program supporting our ladies’ whole-person health: mind\, body\, soul\, and spirit.
URL:https://www.stmarkanglican.com/event/faith-in-motion-ladies/2026-06-06/
ATTACH;FMTTYPE=image/jpeg:https://www.stmarkanglican.com/wp-content/uploads/2026/02/FiM-e1771281121614.jpg
END:VEVENT
BEGIN:VEVENT
DTSTART;TZID=UTC:20260704T103000
DTEND;TZID=UTC:20260704T113000
DTSTAMP:20260420T032246
CREATED:20260206T042640Z
LAST-MODIFIED:20260217T024747Z
UID:10001460-1783161000-1783164600@www.stmarkanglican.com
SUMMARY:Faith in Motion
DESCRIPTION:A wellness program supporting our ladies’ whole-person health: mind\, body\, soul\, and spirit.
URL:https://www.stmarkanglican.com/event/faith-in-motion-ladies/2026-07-04/
ATTACH;FMTTYPE=image/jpeg:https://www.stmarkanglican.com/wp-content/uploads/2026/02/FiM-e1771281121614.jpg
END:VEVENT
BEGIN:VEVENT
DTSTART;TZID=UTC:20260801T103000
DTEND;TZID=UTC:20260801T113000
DTSTAMP:20260420T032246
CREATED:20260206T042640Z
LAST-MODIFIED:20260217T024747Z
UID:10001462-1785580200-1785583800@www.stmarkanglican.com
SUMMARY:Faith in Motion
DESCRIPTION:A wellness program supporting our ladies’ whole-person health: mind\, body\, soul\, and spirit.
URL:https://www.stmarkanglican.com/event/faith-in-motion-ladies/2026-08-01/
ATTACH;FMTTYPE=image/jpeg:https://www.stmarkanglican.com/wp-content/uploads/2026/02/FiM-e1771281121614.jpg
END:VEVENT
BEGIN:VEVENT
DTSTART;TZID=UTC:20260905T103000
DTEND;TZID=UTC:20260905T113000
DTSTAMP:20260420T032246
CREATED:20260206T042640Z
LAST-MODIFIED:20260217T024747Z
UID:10001464-1788604200-1788607800@www.stmarkanglican.com
SUMMARY:Faith in Motion
DESCRIPTION:A wellness program supporting our ladies’ whole-person health: mind\, body\, soul\, and spirit.
URL:https://www.stmarkanglican.com/event/faith-in-motion-ladies/2026-09-05/
ATTACH;FMTTYPE=image/jpeg:https://www.stmarkanglican.com/wp-content/uploads/2026/02/FiM-e1771281121614.jpg
END:VEVENT
BEGIN:VEVENT
DTSTART;TZID=UTC:20261003T103000
DTEND;TZID=UTC:20261003T113000
DTSTAMP:20260420T032246
CREATED:20260206T042640Z
LAST-MODIFIED:20260217T024747Z
UID:10001741-1791023400-1791027000@www.stmarkanglican.com
SUMMARY:Faith in Motion
DESCRIPTION:A wellness program supporting our ladies’ whole-person health: mind\, body\, soul\, and spirit.
URL:https://www.stmarkanglican.com/event/faith-in-motion-ladies/2026-10-03/
ATTACH;FMTTYPE=image/jpeg:https://www.stmarkanglican.com/wp-content/uploads/2026/02/FiM-e1771281121614.jpg
END:VEVENT
BEGIN:VEVENT
DTSTART;TZID=UTC:20261107T103000
DTEND;TZID=UTC:20261107T113000
DTSTAMP:20260420T032246
CREATED:20260206T042640Z
LAST-MODIFIED:20260217T024747Z
UID:10001742-1794047400-1794051000@www.stmarkanglican.com
SUMMARY:Faith in Motion
DESCRIPTION:A wellness program supporting our ladies’ whole-person health: mind\, body\, soul\, and spirit.
URL:https://www.stmarkanglican.com/event/faith-in-motion-ladies/2026-11-07/
ATTACH;FMTTYPE=image/jpeg:https://www.stmarkanglican.com/wp-content/uploads/2026/02/FiM-e1771281121614.jpg
END:VEVENT
BEGIN:VEVENT
DTSTART;TZID=UTC:20261205T103000
DTEND;TZID=UTC:20261205T113000
DTSTAMP:20260420T032246
CREATED:20260206T042640Z
LAST-MODIFIED:20260217T024747Z
UID:10001470-1796466600-1796470200@www.stmarkanglican.com
SUMMARY:Faith in Motion
DESCRIPTION:A wellness program supporting our ladies’ whole-person health: mind\, body\, soul\, and spirit.
URL:https://www.stmarkanglican.com/event/faith-in-motion-ladies/2026-12-05/
ATTACH;FMTTYPE=image/jpeg:https://www.stmarkanglican.com/wp-content/uploads/2026/02/FiM-e1771281121614.jpg
END:VEVENT
BEGIN:VEVENT
DTSTART;TZID=UTC:20270102T103000
DTEND;TZID=UTC:20270102T113000
DTSTAMP:20260420T032246
CREATED:20260206T042640Z
LAST-MODIFIED:20260217T024747Z
UID:10001472-1798885800-1798889400@www.stmarkanglican.com
SUMMARY:Faith in Motion
DESCRIPTION:A wellness program supporting our ladies’ whole-person health: mind\, body\, soul\, and spirit.
URL:https://www.stmarkanglican.com/event/faith-in-motion-ladies/2027-01-02/
ATTACH;FMTTYPE=image/jpeg:https://www.stmarkanglican.com/wp-content/uploads/2026/02/FiM-e1771281121614.jpg
END:VEVENT
BEGIN:VEVENT
DTSTART;TZID=UTC:20270206T103000
DTEND;TZID=UTC:20270206T113000
DTSTAMP:20260420T032246
CREATED:20260206T042640Z
LAST-MODIFIED:20260217T024747Z
UID:10001474-1801909800-1801913400@www.stmarkanglican.com
SUMMARY:Faith in Motion
DESCRIPTION:A wellness program supporting our ladies’ whole-person health: mind\, body\, soul\, and spirit.
URL:https://www.stmarkanglican.com/event/faith-in-motion-ladies/2027-02-06/
ATTACH;FMTTYPE=image/jpeg:https://www.stmarkanglican.com/wp-content/uploads/2026/02/FiM-e1771281121614.jpg
END:VEVENT
BEGIN:VEVENT
DTSTART;TZID=UTC:20270306T103000
DTEND;TZID=UTC:20270306T113000
DTSTAMP:20260420T032246
CREATED:20260206T042640Z
LAST-MODIFIED:20260217T024747Z
UID:10001476-1804329000-1804332600@www.stmarkanglican.com
SUMMARY:Faith in Motion
DESCRIPTION:A wellness program supporting our ladies’ whole-person health: mind\, body\, soul\, and spirit.
URL:https://www.stmarkanglican.com/event/faith-in-motion-ladies/2027-03-06/
ATTACH;FMTTYPE=image/jpeg:https://www.stmarkanglican.com/wp-content/uploads/2026/02/FiM-e1771281121614.jpg
END:VEVENT
BEGIN:VEVENT
DTSTART;TZID=UTC:20270403T103000
DTEND;TZID=UTC:20270403T113000
DTSTAMP:20260420T032246
CREATED:20260206T042640Z
LAST-MODIFIED:20260217T024747Z
UID:10001478-1806748200-1806751800@www.stmarkanglican.com
SUMMARY:Faith in Motion
DESCRIPTION:A wellness program supporting our ladies’ whole-person health: mind\, body\, soul\, and spirit.
URL:https://www.stmarkanglican.com/event/faith-in-motion-ladies/2027-04-03/
ATTACH;FMTTYPE=image/jpeg:https://www.stmarkanglican.com/wp-content/uploads/2026/02/FiM-e1771281121614.jpg
END:VEVENT
BEGIN:VEVENT
DTSTART;TZID=UTC:20270501T103000
DTEND;TZID=UTC:20270501T113000
DTSTAMP:20260420T032246
CREATED:20260206T042640Z
LAST-MODIFIED:20260217T024747Z
UID:10001743-1809167400-1809171000@www.stmarkanglican.com
SUMMARY:Faith in Motion
DESCRIPTION:A wellness program supporting our ladies’ whole-person health: mind\, body\, soul\, and spirit.
URL:https://www.stmarkanglican.com/event/faith-in-motion-ladies/2027-05-01/
ATTACH;FMTTYPE=image/jpeg:https://www.stmarkanglican.com/wp-content/uploads/2026/02/FiM-e1771281121614.jpg
END:VEVENT
BEGIN:VEVENT
DTSTART;TZID=UTC:20270605T103000
DTEND;TZID=UTC:20270605T113000
DTSTAMP:20260420T032246
CREATED:20260206T042640Z
LAST-MODIFIED:20260217T024747Z
UID:10001744-1812191400-1812195000@www.stmarkanglican.com
SUMMARY:Faith in Motion
DESCRIPTION:A wellness program supporting our ladies’ whole-person health: mind\, body\, soul\, and spirit.
URL:https://www.stmarkanglican.com/event/faith-in-motion-ladies/2027-06-05/
ATTACH;FMTTYPE=image/jpeg:https://www.stmarkanglican.com/wp-content/uploads/2026/02/FiM-e1771281121614.jpg
END:VEVENT
BEGIN:VEVENT
DTSTART;TZID=UTC:20270703T103000
DTEND;TZID=UTC:20270703T113000
DTSTAMP:20260420T032246
CREATED:20260206T042640Z
LAST-MODIFIED:20260217T024747Z
UID:10001484-1814610600-1814614200@www.stmarkanglican.com
SUMMARY:Faith in Motion
DESCRIPTION:A wellness program supporting our ladies’ whole-person health: mind\, body\, soul\, and spirit.
URL:https://www.stmarkanglican.com/event/faith-in-motion-ladies/2027-07-03/
ATTACH;FMTTYPE=image/jpeg:https://www.stmarkanglican.com/wp-content/uploads/2026/02/FiM-e1771281121614.jpg
END:VEVENT
BEGIN:VEVENT
DTSTART;TZID=UTC:20270807T103000
DTEND;TZID=UTC:20270807T113000
DTSTAMP:20260420T032246
CREATED:20260206T042640Z
LAST-MODIFIED:20260217T024747Z
UID:10001486-1817634600-1817638200@www.stmarkanglican.com
SUMMARY:Faith in Motion
DESCRIPTION:A wellness program supporting our ladies’ whole-person health: mind\, body\, soul\, and spirit.
URL:https://www.stmarkanglican.com/event/faith-in-motion-ladies/2027-08-07/
ATTACH;FMTTYPE=image/jpeg:https://www.stmarkanglican.com/wp-content/uploads/2026/02/FiM-e1771281121614.jpg
END:VEVENT
BEGIN:VEVENT
DTSTART;TZID=UTC:20270904T103000
DTEND;TZID=UTC:20270904T113000
DTSTAMP:20260420T032246
CREATED:20260206T042640Z
LAST-MODIFIED:20260217T024747Z
UID:10001488-1820053800-1820057400@www.stmarkanglican.com
SUMMARY:Faith in Motion
DESCRIPTION:A wellness program supporting our ladies’ whole-person health: mind\, body\, soul\, and spirit.
URL:https://www.stmarkanglican.com/event/faith-in-motion-ladies/2027-09-04/
ATTACH;FMTTYPE=image/jpeg:https://www.stmarkanglican.com/wp-content/uploads/2026/02/FiM-e1771281121614.jpg
END:VEVENT
BEGIN:VEVENT
DTSTART;TZID=UTC:20271002T103000
DTEND;TZID=UTC:20271002T113000
DTSTAMP:20260420T032246
CREATED:20260206T042640Z
LAST-MODIFIED:20260217T024747Z
UID:10001490-1822473000-1822476600@www.stmarkanglican.com
SUMMARY:Faith in Motion
DESCRIPTION:A wellness program supporting our ladies’ whole-person health: mind\, body\, soul\, and spirit.
URL:https://www.stmarkanglican.com/event/faith-in-motion-ladies/2027-10-02/
ATTACH;FMTTYPE=image/jpeg:https://www.stmarkanglican.com/wp-content/uploads/2026/02/FiM-e1771281121614.jpg
END:VEVENT
BEGIN:VEVENT
DTSTART;TZID=UTC:20271106T103000
DTEND;TZID=UTC:20271106T113000
DTSTAMP:20260420T032246
CREATED:20260206T042640Z
LAST-MODIFIED:20260217T024747Z
UID:10001492-1825497000-1825500600@www.stmarkanglican.com
SUMMARY:Faith in Motion
DESCRIPTION:A wellness program supporting our ladies’ whole-person health: mind\, body\, soul\, and spirit.
URL:https://www.stmarkanglican.com/event/faith-in-motion-ladies/2027-11-06/
ATTACH;FMTTYPE=image/jpeg:https://www.stmarkanglican.com/wp-content/uploads/2026/02/FiM-e1771281121614.jpg
END:VEVENT
BEGIN:VEVENT
DTSTART;TZID=UTC:20271204T103000
DTEND;TZID=UTC:20271204T113000
DTSTAMP:20260420T032246
CREATED:20260206T042640Z
LAST-MODIFIED:20260217T024747Z
UID:10001494-1827916200-1827919800@www.stmarkanglican.com
SUMMARY:Faith in Motion
DESCRIPTION:A wellness program supporting our ladies’ whole-person health: mind\, body\, soul\, and spirit.
URL:https://www.stmarkanglican.com/event/faith-in-motion-ladies/2027-12-04/
ATTACH;FMTTYPE=image/jpeg:https://www.stmarkanglican.com/wp-content/uploads/2026/02/FiM-e1771281121614.jpg
END:VEVENT
BEGIN:VEVENT
DTSTART;TZID=UTC:20280101T103000
DTEND;TZID=UTC:20280101T113000
DTSTAMP:20260420T032246
CREATED:20260206T042640Z
LAST-MODIFIED:20260217T024747Z
UID:10001745-1830335400-1830339000@www.stmarkanglican.com
SUMMARY:Faith in Motion
DESCRIPTION:A wellness program supporting our ladies’ whole-person health: mind\, body\, soul\, and spirit.
URL:https://www.stmarkanglican.com/event/faith-in-motion-ladies/2028-01-01/
ATTACH;FMTTYPE=image/jpeg:https://www.stmarkanglican.com/wp-content/uploads/2026/02/FiM-e1771281121614.jpg
END:VEVENT
BEGIN:VEVENT
DTSTART;TZID=UTC:20280205T103000
DTEND;TZID=UTC:20280205T113000
DTSTAMP:20260420T032246
CREATED:20260206T042640Z
LAST-MODIFIED:20260217T024747Z
UID:10001746-1833359400-1833363000@www.stmarkanglican.com
SUMMARY:Faith in Motion
DESCRIPTION:A wellness program supporting our ladies’ whole-person health: mind\, body\, soul\, and spirit.
URL:https://www.stmarkanglican.com/event/faith-in-motion-ladies/2028-02-05/
ATTACH;FMTTYPE=image/jpeg:https://www.stmarkanglican.com/wp-content/uploads/2026/02/FiM-e1771281121614.jpg
END:VEVENT
BEGIN:VEVENT
DTSTART;TZID=UTC:20280304T103000
DTEND;TZID=UTC:20280304T113000
DTSTAMP:20260420T032246
CREATED:20260206T042640Z
LAST-MODIFIED:20260217T024747Z
UID:10001500-1835778600-1835782200@www.stmarkanglican.com
SUMMARY:Faith in Motion
DESCRIPTION:A wellness program supporting our ladies’ whole-person health: mind\, body\, soul\, and spirit.
URL:https://www.stmarkanglican.com/event/faith-in-motion-ladies/2028-03-04/
ATTACH;FMTTYPE=image/jpeg:https://www.stmarkanglican.com/wp-content/uploads/2026/02/FiM-e1771281121614.jpg
END:VEVENT
BEGIN:VEVENT
DTSTART;TZID=UTC:20280401T103000
DTEND;TZID=UTC:20280401T113000
DTSTAMP:20260420T032246
CREATED:20260206T042640Z
LAST-MODIFIED:20260217T024747Z
UID:10001502-1838197800-1838201400@www.stmarkanglican.com
SUMMARY:Faith in Motion
DESCRIPTION:A wellness program supporting our ladies’ whole-person health: mind\, body\, soul\, and spirit.
URL:https://www.stmarkanglican.com/event/faith-in-motion-ladies/2028-04-01/
ATTACH;FMTTYPE=image/jpeg:https://www.stmarkanglican.com/wp-content/uploads/2026/02/FiM-e1771281121614.jpg
END:VEVENT
BEGIN:VEVENT
DTSTART;TZID=UTC:20280506T103000
DTEND;TZID=UTC:20280506T113000
DTSTAMP:20260420T032246
CREATED:20260206T042640Z
LAST-MODIFIED:20260217T024747Z
UID:10001504-1841221800-1841225400@www.stmarkanglican.com
SUMMARY:Faith in Motion
DESCRIPTION:A wellness program supporting our ladies’ whole-person health: mind\, body\, soul\, and spirit.
URL:https://www.stmarkanglican.com/event/faith-in-motion-ladies/2028-05-06/
ATTACH;FMTTYPE=image/jpeg:https://www.stmarkanglican.com/wp-content/uploads/2026/02/FiM-e1771281121614.jpg
END:VEVENT
BEGIN:VEVENT
DTSTART;TZID=UTC:20280603T103000
DTEND;TZID=UTC:20280603T113000
DTSTAMP:20260420T032246
CREATED:20260206T042640Z
LAST-MODIFIED:20260217T024747Z
UID:10001506-1843641000-1843644600@www.stmarkanglican.com
SUMMARY:Faith in Motion
DESCRIPTION:A wellness program supporting our ladies’ whole-person health: mind\, body\, soul\, and spirit.
URL:https://www.stmarkanglican.com/event/faith-in-motion-ladies/2028-06-03/
ATTACH;FMTTYPE=image/jpeg:https://www.stmarkanglican.com/wp-content/uploads/2026/02/FiM-e1771281121614.jpg
END:VEVENT
BEGIN:VEVENT
DTSTART;TZID=UTC:20280701T103000
DTEND;TZID=UTC:20280701T113000
DTSTAMP:20260420T032246
CREATED:20260206T042640Z
LAST-MODIFIED:20260217T024747Z
UID:10001508-1846060200-1846063800@www.stmarkanglican.com
SUMMARY:Faith in Motion
DESCRIPTION:A wellness program supporting our ladies’ whole-person health: mind\, body\, soul\, and spirit.
URL:https://www.stmarkanglican.com/event/faith-in-motion-ladies/2028-07-01/
ATTACH;FMTTYPE=image/jpeg:https://www.stmarkanglican.com/wp-content/uploads/2026/02/FiM-e1771281121614.jpg
END:VEVENT
BEGIN:VEVENT
DTSTART;TZID=UTC:20280805T103000
DTEND;TZID=UTC:20280805T113000
DTSTAMP:20260420T032246
CREATED:20260206T042640Z
LAST-MODIFIED:20260217T024747Z
UID:10001510-1849084200-1849087800@www.stmarkanglican.com
SUMMARY:Faith in Motion
DESCRIPTION:A wellness program supporting our ladies’ whole-person health: mind\, body\, soul\, and spirit.
URL:https://www.stmarkanglican.com/event/faith-in-motion-ladies/2028-08-05/
ATTACH;FMTTYPE=image/jpeg:https://www.stmarkanglican.com/wp-content/uploads/2026/02/FiM-e1771281121614.jpg
END:VEVENT
BEGIN:VEVENT
DTSTART;TZID=UTC:20280902T103000
DTEND;TZID=UTC:20280902T113000
DTSTAMP:20260420T032246
CREATED:20260206T042640Z
LAST-MODIFIED:20260217T024747Z
UID:10001747-1851503400-1851507000@www.stmarkanglican.com
SUMMARY:Faith in Motion
DESCRIPTION:A wellness program supporting our ladies’ whole-person health: mind\, body\, soul\, and spirit.
URL:https://www.stmarkanglican.com/event/faith-in-motion-ladies/2028-09-02/
ATTACH;FMTTYPE=image/jpeg:https://www.stmarkanglican.com/wp-content/uploads/2026/02/FiM-e1771281121614.jpg
END:VEVENT
BEGIN:VEVENT
DTSTART;TZID=UTC:20281007T103000
DTEND;TZID=UTC:20281007T113000
DTSTAMP:20260420T032246
CREATED:20260206T042640Z
LAST-MODIFIED:20260217T024747Z
UID:10001748-1854527400-1854531000@www.stmarkanglican.com
SUMMARY:Faith in Motion
DESCRIPTION:A wellness program supporting our ladies’ whole-person health: mind\, body\, soul\, and spirit.
URL:https://www.stmarkanglican.com/event/faith-in-motion-ladies/2028-10-07/
ATTACH;FMTTYPE=image/jpeg:https://www.stmarkanglican.com/wp-content/uploads/2026/02/FiM-e1771281121614.jpg
END:VEVENT
END:VCALENDAR