BEGIN:VCALENDAR
VERSION:2.0
PRODID:-//St. Mark the Evangelist Anglican Church - ECPv6.15.20//NONSGML v1.0//EN
CALSCALE:GREGORIAN
METHOD:PUBLISH
X-WR-CALNAME:St. Mark the Evangelist Anglican Church
X-ORIGINAL-URL:https://www.stmarkanglican.com
X-WR-CALDESC:Events for St. Mark the Evangelist Anglican Church
REFRESH-INTERVAL;VALUE=DURATION:PT1H
X-Robots-Tag:noindex
X-PUBLISHED-TTL:PT1H
BEGIN:VTIMEZONE
TZID:UTC
BEGIN:STANDARD
TZOFFSETFROM:+0000
TZOFFSETTO:+0000
TZNAME:UTC
DTSTART:20250101T000000
END:STANDARD
END:VTIMEZONE
BEGIN:VEVENT
DTSTART;TZID=UTC:20260725T090000
DTEND;TZID=UTC:20260725T091500
DTSTAMP:20260421T043236
CREATED:20260206T045503Z
LAST-MODIFIED:20260207T001206Z
UID:10000066-1784970000-1784970900@www.stmarkanglican.com
SUMMARY:Feast of St. James
DESCRIPTION:Check church calendar to see if services are scheduled for this Feast Day.
URL:https://www.stmarkanglican.com/event/feast-of-st-james-2/2026-07-25/
END:VEVENT
BEGIN:VEVENT
DTSTART;TZID=UTC:20270725T090000
DTEND;TZID=UTC:20270725T091500
DTSTAMP:20260421T043236
CREATED:20260206T045503Z
LAST-MODIFIED:20260207T001206Z
UID:10001730-1816506000-1816506900@www.stmarkanglican.com
SUMMARY:Feast of St. James
DESCRIPTION:Check church calendar to see if services are scheduled for this Feast Day.
URL:https://www.stmarkanglican.com/event/feast-of-st-james-2/2027-07-25/
END:VEVENT
BEGIN:VEVENT
DTSTART;TZID=UTC:20280725T090000
DTEND;TZID=UTC:20280725T091500
DTSTAMP:20260421T043236
CREATED:20260206T045503Z
LAST-MODIFIED:20260207T001206Z
UID:10001731-1848128400-1848129300@www.stmarkanglican.com
SUMMARY:Feast of St. James
DESCRIPTION:Check church calendar to see if services are scheduled for this Feast Day.
URL:https://www.stmarkanglican.com/event/feast-of-st-james-2/2028-07-25/
END:VEVENT
BEGIN:VEVENT
DTSTART;TZID=UTC:20290725T090000
DTEND;TZID=UTC:20290725T091500
DTSTAMP:20260421T043236
CREATED:20260206T045503Z
LAST-MODIFIED:20260207T001206Z
UID:10001732-1879664400-1879665300@www.stmarkanglican.com
SUMMARY:Feast of St. James
DESCRIPTION:Check church calendar to see if services are scheduled for this Feast Day.
URL:https://www.stmarkanglican.com/event/feast-of-st-james-2/2029-07-25/
END:VEVENT
BEGIN:VEVENT
DTSTART;TZID=UTC:20300725T090000
DTEND;TZID=UTC:20300725T091500
DTSTAMP:20260421T043236
CREATED:20260206T045503Z
LAST-MODIFIED:20260207T001206Z
UID:10001733-1911200400-1911201300@www.stmarkanglican.com
SUMMARY:Feast of St. James
DESCRIPTION:Check church calendar to see if services are scheduled for this Feast Day.
URL:https://www.stmarkanglican.com/event/feast-of-st-james-2/2030-07-25/
END:VEVENT
END:VCALENDAR