BEGIN:VCALENDAR
VERSION:2.0
PRODID:-//St. Mark the Evangelist Anglican Church - ECPv6.15.20//NONSGML v1.0//EN
CALSCALE:GREGORIAN
METHOD:PUBLISH
X-WR-CALNAME:St. Mark the Evangelist Anglican Church
X-ORIGINAL-URL:https://www.stmarkanglican.com
X-WR-CALDESC:Events for St. Mark the Evangelist Anglican Church
REFRESH-INTERVAL;VALUE=DURATION:PT1H
X-Robots-Tag:noindex
X-PUBLISHED-TTL:PT1H
BEGIN:VTIMEZONE
TZID:America/Chicago
BEGIN:DAYLIGHT
TZOFFSETFROM:-0600
TZOFFSETTO:-0500
TZNAME:CDT
DTSTART:20260308T080000
END:DAYLIGHT
BEGIN:STANDARD
TZOFFSETFROM:-0500
TZOFFSETTO:-0600
TZNAME:CST
DTSTART:20261101T070000
END:STANDARD
BEGIN:DAYLIGHT
TZOFFSETFROM:-0600
TZOFFSETTO:-0500
TZNAME:CDT
DTSTART:20270314T080000
END:DAYLIGHT
BEGIN:STANDARD
TZOFFSETFROM:-0500
TZOFFSETTO:-0600
TZNAME:CST
DTSTART:20271107T070000
END:STANDARD
BEGIN:DAYLIGHT
TZOFFSETFROM:-0600
TZOFFSETTO:-0500
TZNAME:CDT
DTSTART:20280312T080000
END:DAYLIGHT
BEGIN:STANDARD
TZOFFSETFROM:-0500
TZOFFSETTO:-0600
TZNAME:CST
DTSTART:20281105T070000
END:STANDARD
BEGIN:DAYLIGHT
TZOFFSETFROM:-0600
TZOFFSETTO:-0500
TZNAME:CDT
DTSTART:20290311T080000
END:DAYLIGHT
BEGIN:STANDARD
TZOFFSETFROM:-0500
TZOFFSETTO:-0600
TZNAME:CST
DTSTART:20291104T070000
END:STANDARD
BEGIN:DAYLIGHT
TZOFFSETFROM:-0600
TZOFFSETTO:-0500
TZNAME:CDT
DTSTART:20300310T080000
END:DAYLIGHT
BEGIN:STANDARD
TZOFFSETFROM:-0500
TZOFFSETTO:-0600
TZNAME:CST
DTSTART:20301103T070000
END:STANDARD
END:VTIMEZONE
BEGIN:VEVENT
DTSTART;TZID=America/Chicago:20270515T103000
DTEND;TZID=America/Chicago:20270515T113000
DTSTAMP:20260420T050754
CREATED:20260217T025200Z
LAST-MODIFIED:20260217T025200Z
UID:10001830-1810377000-1810380600@www.stmarkanglican.com
SUMMARY:Faith in Motion
DESCRIPTION:A wellness program supporting our ladies’ whole-person health: mind\, body\, soul\, and spirit.
URL:https://www.stmarkanglican.com/event/faith-in-motion-3/2027-05-15/
LOCATION:St. Mark the Evangelist Anglican Church\, 629 Farley St\, Waxahachie\, TX\, 75165\, United States
ATTACH;FMTTYPE=image/jpeg:https://www.stmarkanglican.com/wp-content/uploads/2026/02/FiM-e1771281121614.jpg
ORGANIZER;CN="St. Mark the Evangelist Anglican Church":MAILTO:fr.david@stmarkanglican.com
END:VEVENT
BEGIN:VEVENT
DTSTART;TZID=America/Chicago:20270619T103000
DTEND;TZID=America/Chicago:20270619T113000
DTSTAMP:20260420T050754
CREATED:20260217T025200Z
LAST-MODIFIED:20260217T025200Z
UID:10001831-1813401000-1813404600@www.stmarkanglican.com
SUMMARY:Faith in Motion
DESCRIPTION:A wellness program supporting our ladies’ whole-person health: mind\, body\, soul\, and spirit.
URL:https://www.stmarkanglican.com/event/faith-in-motion-3/2027-06-19/
LOCATION:St. Mark the Evangelist Anglican Church\, 629 Farley St\, Waxahachie\, TX\, 75165\, United States
ATTACH;FMTTYPE=image/jpeg:https://www.stmarkanglican.com/wp-content/uploads/2026/02/FiM-e1771281121614.jpg
ORGANIZER;CN="St. Mark the Evangelist Anglican Church":MAILTO:fr.david@stmarkanglican.com
END:VEVENT
BEGIN:VEVENT
DTSTART;TZID=America/Chicago:20270717T103000
DTEND;TZID=America/Chicago:20270717T113000
DTSTAMP:20260420T050754
CREATED:20260217T025200Z
LAST-MODIFIED:20260217T025200Z
UID:10001832-1815820200-1815823800@www.stmarkanglican.com
SUMMARY:Faith in Motion
DESCRIPTION:A wellness program supporting our ladies’ whole-person health: mind\, body\, soul\, and spirit.
URL:https://www.stmarkanglican.com/event/faith-in-motion-3/2027-07-17/
LOCATION:St. Mark the Evangelist Anglican Church\, 629 Farley St\, Waxahachie\, TX\, 75165\, United States
ATTACH;FMTTYPE=image/jpeg:https://www.stmarkanglican.com/wp-content/uploads/2026/02/FiM-e1771281121614.jpg
ORGANIZER;CN="St. Mark the Evangelist Anglican Church":MAILTO:fr.david@stmarkanglican.com
END:VEVENT
BEGIN:VEVENT
DTSTART;TZID=America/Chicago:20270821T103000
DTEND;TZID=America/Chicago:20270821T113000
DTSTAMP:20260420T050754
CREATED:20260217T025200Z
LAST-MODIFIED:20260217T025200Z
UID:10001833-1818844200-1818847800@www.stmarkanglican.com
SUMMARY:Faith in Motion
DESCRIPTION:A wellness program supporting our ladies’ whole-person health: mind\, body\, soul\, and spirit.
URL:https://www.stmarkanglican.com/event/faith-in-motion-3/2027-08-21/
LOCATION:St. Mark the Evangelist Anglican Church\, 629 Farley St\, Waxahachie\, TX\, 75165\, United States
ATTACH;FMTTYPE=image/jpeg:https://www.stmarkanglican.com/wp-content/uploads/2026/02/FiM-e1771281121614.jpg
ORGANIZER;CN="St. Mark the Evangelist Anglican Church":MAILTO:fr.david@stmarkanglican.com
END:VEVENT
BEGIN:VEVENT
DTSTART;TZID=America/Chicago:20270918T103000
DTEND;TZID=America/Chicago:20270918T113000
DTSTAMP:20260420T050754
CREATED:20260217T025200Z
LAST-MODIFIED:20260217T025200Z
UID:10001834-1821263400-1821267000@www.stmarkanglican.com
SUMMARY:Faith in Motion
DESCRIPTION:A wellness program supporting our ladies’ whole-person health: mind\, body\, soul\, and spirit.
URL:https://www.stmarkanglican.com/event/faith-in-motion-3/2027-09-18/
LOCATION:St. Mark the Evangelist Anglican Church\, 629 Farley St\, Waxahachie\, TX\, 75165\, United States
ATTACH;FMTTYPE=image/jpeg:https://www.stmarkanglican.com/wp-content/uploads/2026/02/FiM-e1771281121614.jpg
ORGANIZER;CN="St. Mark the Evangelist Anglican Church":MAILTO:fr.david@stmarkanglican.com
END:VEVENT
BEGIN:VEVENT
DTSTART;TZID=America/Chicago:20271016T103000
DTEND;TZID=America/Chicago:20271016T113000
DTSTAMP:20260420T050754
CREATED:20260217T025200Z
LAST-MODIFIED:20260217T025200Z
UID:10001835-1823682600-1823686200@www.stmarkanglican.com
SUMMARY:Faith in Motion
DESCRIPTION:A wellness program supporting our ladies’ whole-person health: mind\, body\, soul\, and spirit.
URL:https://www.stmarkanglican.com/event/faith-in-motion-3/2027-10-16/
LOCATION:St. Mark the Evangelist Anglican Church\, 629 Farley St\, Waxahachie\, TX\, 75165\, United States
ATTACH;FMTTYPE=image/jpeg:https://www.stmarkanglican.com/wp-content/uploads/2026/02/FiM-e1771281121614.jpg
ORGANIZER;CN="St. Mark the Evangelist Anglican Church":MAILTO:fr.david@stmarkanglican.com
END:VEVENT
BEGIN:VEVENT
DTSTART;TZID=America/Chicago:20271120T103000
DTEND;TZID=America/Chicago:20271120T113000
DTSTAMP:20260420T050754
CREATED:20260217T025200Z
LAST-MODIFIED:20260217T025200Z
UID:10001836-1826706600-1826710200@www.stmarkanglican.com
SUMMARY:Faith in Motion
DESCRIPTION:A wellness program supporting our ladies’ whole-person health: mind\, body\, soul\, and spirit.
URL:https://www.stmarkanglican.com/event/faith-in-motion-3/2027-11-20/
LOCATION:St. Mark the Evangelist Anglican Church\, 629 Farley St\, Waxahachie\, TX\, 75165\, United States
ATTACH;FMTTYPE=image/jpeg:https://www.stmarkanglican.com/wp-content/uploads/2026/02/FiM-e1771281121614.jpg
ORGANIZER;CN="St. Mark the Evangelist Anglican Church":MAILTO:fr.david@stmarkanglican.com
END:VEVENT
BEGIN:VEVENT
DTSTART;TZID=America/Chicago:20271218T103000
DTEND;TZID=America/Chicago:20271218T113000
DTSTAMP:20260420T050754
CREATED:20260217T025200Z
LAST-MODIFIED:20260217T025200Z
UID:10001837-1829125800-1829129400@www.stmarkanglican.com
SUMMARY:Faith in Motion
DESCRIPTION:A wellness program supporting our ladies’ whole-person health: mind\, body\, soul\, and spirit.
URL:https://www.stmarkanglican.com/event/faith-in-motion-3/2027-12-18/
LOCATION:St. Mark the Evangelist Anglican Church\, 629 Farley St\, Waxahachie\, TX\, 75165\, United States
ATTACH;FMTTYPE=image/jpeg:https://www.stmarkanglican.com/wp-content/uploads/2026/02/FiM-e1771281121614.jpg
ORGANIZER;CN="St. Mark the Evangelist Anglican Church":MAILTO:fr.david@stmarkanglican.com
END:VEVENT
BEGIN:VEVENT
DTSTART;TZID=America/Chicago:20280115T103000
DTEND;TZID=America/Chicago:20280115T113000
DTSTAMP:20260420T050754
CREATED:20260217T025200Z
LAST-MODIFIED:20260217T025200Z
UID:10001838-1831545000-1831548600@www.stmarkanglican.com
SUMMARY:Faith in Motion
DESCRIPTION:A wellness program supporting our ladies’ whole-person health: mind\, body\, soul\, and spirit.
URL:https://www.stmarkanglican.com/event/faith-in-motion-3/2028-01-15/
LOCATION:St. Mark the Evangelist Anglican Church\, 629 Farley St\, Waxahachie\, TX\, 75165\, United States
ATTACH;FMTTYPE=image/jpeg:https://www.stmarkanglican.com/wp-content/uploads/2026/02/FiM-e1771281121614.jpg
ORGANIZER;CN="St. Mark the Evangelist Anglican Church":MAILTO:fr.david@stmarkanglican.com
END:VEVENT
BEGIN:VEVENT
DTSTART;TZID=America/Chicago:20280219T103000
DTEND;TZID=America/Chicago:20280219T113000
DTSTAMP:20260420T050754
CREATED:20260217T025200Z
LAST-MODIFIED:20260217T025200Z
UID:10001839-1834569000-1834572600@www.stmarkanglican.com
SUMMARY:Faith in Motion
DESCRIPTION:A wellness program supporting our ladies’ whole-person health: mind\, body\, soul\, and spirit.
URL:https://www.stmarkanglican.com/event/faith-in-motion-3/2028-02-19/
LOCATION:St. Mark the Evangelist Anglican Church\, 629 Farley St\, Waxahachie\, TX\, 75165\, United States
ATTACH;FMTTYPE=image/jpeg:https://www.stmarkanglican.com/wp-content/uploads/2026/02/FiM-e1771281121614.jpg
ORGANIZER;CN="St. Mark the Evangelist Anglican Church":MAILTO:fr.david@stmarkanglican.com
END:VEVENT
BEGIN:VEVENT
DTSTART;TZID=America/Chicago:20280318T103000
DTEND;TZID=America/Chicago:20280318T113000
DTSTAMP:20260420T050754
CREATED:20260217T025200Z
LAST-MODIFIED:20260217T025200Z
UID:10001840-1836988200-1836991800@www.stmarkanglican.com
SUMMARY:Faith in Motion
DESCRIPTION:A wellness program supporting our ladies’ whole-person health: mind\, body\, soul\, and spirit.
URL:https://www.stmarkanglican.com/event/faith-in-motion-3/2028-03-18/
LOCATION:St. Mark the Evangelist Anglican Church\, 629 Farley St\, Waxahachie\, TX\, 75165\, United States
ATTACH;FMTTYPE=image/jpeg:https://www.stmarkanglican.com/wp-content/uploads/2026/02/FiM-e1771281121614.jpg
ORGANIZER;CN="St. Mark the Evangelist Anglican Church":MAILTO:fr.david@stmarkanglican.com
END:VEVENT
BEGIN:VEVENT
DTSTART;TZID=America/Chicago:20280415T103000
DTEND;TZID=America/Chicago:20280415T113000
DTSTAMP:20260420T050754
CREATED:20260217T025200Z
LAST-MODIFIED:20260217T025200Z
UID:10001841-1839407400-1839411000@www.stmarkanglican.com
SUMMARY:Faith in Motion
DESCRIPTION:A wellness program supporting our ladies’ whole-person health: mind\, body\, soul\, and spirit.
URL:https://www.stmarkanglican.com/event/faith-in-motion-3/2028-04-15/
LOCATION:St. Mark the Evangelist Anglican Church\, 629 Farley St\, Waxahachie\, TX\, 75165\, United States
ATTACH;FMTTYPE=image/jpeg:https://www.stmarkanglican.com/wp-content/uploads/2026/02/FiM-e1771281121614.jpg
ORGANIZER;CN="St. Mark the Evangelist Anglican Church":MAILTO:fr.david@stmarkanglican.com
END:VEVENT
BEGIN:VEVENT
DTSTART;TZID=America/Chicago:20280520T103000
DTEND;TZID=America/Chicago:20280520T113000
DTSTAMP:20260420T050754
CREATED:20260217T025200Z
LAST-MODIFIED:20260217T025200Z
UID:10001842-1842431400-1842435000@www.stmarkanglican.com
SUMMARY:Faith in Motion
DESCRIPTION:A wellness program supporting our ladies’ whole-person health: mind\, body\, soul\, and spirit.
URL:https://www.stmarkanglican.com/event/faith-in-motion-3/2028-05-20/
LOCATION:St. Mark the Evangelist Anglican Church\, 629 Farley St\, Waxahachie\, TX\, 75165\, United States
ATTACH;FMTTYPE=image/jpeg:https://www.stmarkanglican.com/wp-content/uploads/2026/02/FiM-e1771281121614.jpg
ORGANIZER;CN="St. Mark the Evangelist Anglican Church":MAILTO:fr.david@stmarkanglican.com
END:VEVENT
BEGIN:VEVENT
DTSTART;TZID=America/Chicago:20280617T103000
DTEND;TZID=America/Chicago:20280617T113000
DTSTAMP:20260420T050754
CREATED:20260217T025200Z
LAST-MODIFIED:20260217T025200Z
UID:10001843-1844850600-1844854200@www.stmarkanglican.com
SUMMARY:Faith in Motion
DESCRIPTION:A wellness program supporting our ladies’ whole-person health: mind\, body\, soul\, and spirit.
URL:https://www.stmarkanglican.com/event/faith-in-motion-3/2028-06-17/
LOCATION:St. Mark the Evangelist Anglican Church\, 629 Farley St\, Waxahachie\, TX\, 75165\, United States
ATTACH;FMTTYPE=image/jpeg:https://www.stmarkanglican.com/wp-content/uploads/2026/02/FiM-e1771281121614.jpg
ORGANIZER;CN="St. Mark the Evangelist Anglican Church":MAILTO:fr.david@stmarkanglican.com
END:VEVENT
BEGIN:VEVENT
DTSTART;TZID=America/Chicago:20280715T103000
DTEND;TZID=America/Chicago:20280715T113000
DTSTAMP:20260420T050754
CREATED:20260217T025200Z
LAST-MODIFIED:20260217T025200Z
UID:10001844-1847269800-1847273400@www.stmarkanglican.com
SUMMARY:Faith in Motion
DESCRIPTION:A wellness program supporting our ladies’ whole-person health: mind\, body\, soul\, and spirit.
URL:https://www.stmarkanglican.com/event/faith-in-motion-3/2028-07-15/
LOCATION:St. Mark the Evangelist Anglican Church\, 629 Farley St\, Waxahachie\, TX\, 75165\, United States
ATTACH;FMTTYPE=image/jpeg:https://www.stmarkanglican.com/wp-content/uploads/2026/02/FiM-e1771281121614.jpg
ORGANIZER;CN="St. Mark the Evangelist Anglican Church":MAILTO:fr.david@stmarkanglican.com
END:VEVENT
BEGIN:VEVENT
DTSTART;TZID=America/Chicago:20280819T103000
DTEND;TZID=America/Chicago:20280819T113000
DTSTAMP:20260420T050754
CREATED:20260217T025200Z
LAST-MODIFIED:20260217T025200Z
UID:10001845-1850293800-1850297400@www.stmarkanglican.com
SUMMARY:Faith in Motion
DESCRIPTION:A wellness program supporting our ladies’ whole-person health: mind\, body\, soul\, and spirit.
URL:https://www.stmarkanglican.com/event/faith-in-motion-3/2028-08-19/
LOCATION:St. Mark the Evangelist Anglican Church\, 629 Farley St\, Waxahachie\, TX\, 75165\, United States
ATTACH;FMTTYPE=image/jpeg:https://www.stmarkanglican.com/wp-content/uploads/2026/02/FiM-e1771281121614.jpg
ORGANIZER;CN="St. Mark the Evangelist Anglican Church":MAILTO:fr.david@stmarkanglican.com
END:VEVENT
BEGIN:VEVENT
DTSTART;TZID=America/Chicago:20280916T103000
DTEND;TZID=America/Chicago:20280916T113000
DTSTAMP:20260420T050754
CREATED:20260217T025200Z
LAST-MODIFIED:20260217T025200Z
UID:10001846-1852713000-1852716600@www.stmarkanglican.com
SUMMARY:Faith in Motion
DESCRIPTION:A wellness program supporting our ladies’ whole-person health: mind\, body\, soul\, and spirit.
URL:https://www.stmarkanglican.com/event/faith-in-motion-3/2028-09-16/
LOCATION:St. Mark the Evangelist Anglican Church\, 629 Farley St\, Waxahachie\, TX\, 75165\, United States
ATTACH;FMTTYPE=image/jpeg:https://www.stmarkanglican.com/wp-content/uploads/2026/02/FiM-e1771281121614.jpg
ORGANIZER;CN="St. Mark the Evangelist Anglican Church":MAILTO:fr.david@stmarkanglican.com
END:VEVENT
BEGIN:VEVENT
DTSTART;TZID=America/Chicago:20281021T103000
DTEND;TZID=America/Chicago:20281021T113000
DTSTAMP:20260420T050754
CREATED:20260217T025200Z
LAST-MODIFIED:20260217T025200Z
UID:10001847-1855737000-1855740600@www.stmarkanglican.com
SUMMARY:Faith in Motion
DESCRIPTION:A wellness program supporting our ladies’ whole-person health: mind\, body\, soul\, and spirit.
URL:https://www.stmarkanglican.com/event/faith-in-motion-3/2028-10-21/
LOCATION:St. Mark the Evangelist Anglican Church\, 629 Farley St\, Waxahachie\, TX\, 75165\, United States
ATTACH;FMTTYPE=image/jpeg:https://www.stmarkanglican.com/wp-content/uploads/2026/02/FiM-e1771281121614.jpg
ORGANIZER;CN="St. Mark the Evangelist Anglican Church":MAILTO:fr.david@stmarkanglican.com
END:VEVENT
BEGIN:VEVENT
DTSTART;TZID=America/Chicago:20281118T103000
DTEND;TZID=America/Chicago:20281118T113000
DTSTAMP:20260420T050754
CREATED:20260217T025200Z
LAST-MODIFIED:20260217T025200Z
UID:10001848-1858156200-1858159800@www.stmarkanglican.com
SUMMARY:Faith in Motion
DESCRIPTION:A wellness program supporting our ladies’ whole-person health: mind\, body\, soul\, and spirit.
URL:https://www.stmarkanglican.com/event/faith-in-motion-3/2028-11-18/
LOCATION:St. Mark the Evangelist Anglican Church\, 629 Farley St\, Waxahachie\, TX\, 75165\, United States
ATTACH;FMTTYPE=image/jpeg:https://www.stmarkanglican.com/wp-content/uploads/2026/02/FiM-e1771281121614.jpg
ORGANIZER;CN="St. Mark the Evangelist Anglican Church":MAILTO:fr.david@stmarkanglican.com
END:VEVENT
BEGIN:VEVENT
DTSTART;TZID=America/Chicago:20281216T103000
DTEND;TZID=America/Chicago:20281216T113000
DTSTAMP:20260420T050754
CREATED:20260217T025200Z
LAST-MODIFIED:20260217T025200Z
UID:10001849-1860575400-1860579000@www.stmarkanglican.com
SUMMARY:Faith in Motion
DESCRIPTION:A wellness program supporting our ladies’ whole-person health: mind\, body\, soul\, and spirit.
URL:https://www.stmarkanglican.com/event/faith-in-motion-3/2028-12-16/
LOCATION:St. Mark the Evangelist Anglican Church\, 629 Farley St\, Waxahachie\, TX\, 75165\, United States
ATTACH;FMTTYPE=image/jpeg:https://www.stmarkanglican.com/wp-content/uploads/2026/02/FiM-e1771281121614.jpg
ORGANIZER;CN="St. Mark the Evangelist Anglican Church":MAILTO:fr.david@stmarkanglican.com
END:VEVENT
BEGIN:VEVENT
DTSTART;TZID=America/Chicago:20290120T103000
DTEND;TZID=America/Chicago:20290120T113000
DTSTAMP:20260420T050754
CREATED:20260217T025200Z
LAST-MODIFIED:20260217T025200Z
UID:10001850-1863599400-1863603000@www.stmarkanglican.com
SUMMARY:Faith in Motion
DESCRIPTION:A wellness program supporting our ladies’ whole-person health: mind\, body\, soul\, and spirit.
URL:https://www.stmarkanglican.com/event/faith-in-motion-3/2029-01-20/
LOCATION:St. Mark the Evangelist Anglican Church\, 629 Farley St\, Waxahachie\, TX\, 75165\, United States
ATTACH;FMTTYPE=image/jpeg:https://www.stmarkanglican.com/wp-content/uploads/2026/02/FiM-e1771281121614.jpg
ORGANIZER;CN="St. Mark the Evangelist Anglican Church":MAILTO:fr.david@stmarkanglican.com
END:VEVENT
BEGIN:VEVENT
DTSTART;TZID=America/Chicago:20290217T103000
DTEND;TZID=America/Chicago:20290217T113000
DTSTAMP:20260420T050754
CREATED:20260217T025200Z
LAST-MODIFIED:20260217T025200Z
UID:10001851-1866018600-1866022200@www.stmarkanglican.com
SUMMARY:Faith in Motion
DESCRIPTION:A wellness program supporting our ladies’ whole-person health: mind\, body\, soul\, and spirit.
URL:https://www.stmarkanglican.com/event/faith-in-motion-3/2029-02-17/
LOCATION:St. Mark the Evangelist Anglican Church\, 629 Farley St\, Waxahachie\, TX\, 75165\, United States
ATTACH;FMTTYPE=image/jpeg:https://www.stmarkanglican.com/wp-content/uploads/2026/02/FiM-e1771281121614.jpg
ORGANIZER;CN="St. Mark the Evangelist Anglican Church":MAILTO:fr.david@stmarkanglican.com
END:VEVENT
BEGIN:VEVENT
DTSTART;TZID=America/Chicago:20290317T103000
DTEND;TZID=America/Chicago:20290317T113000
DTSTAMP:20260420T050755
CREATED:20260217T025200Z
LAST-MODIFIED:20260217T025200Z
UID:10001852-1868437800-1868441400@www.stmarkanglican.com
SUMMARY:Faith in Motion
DESCRIPTION:A wellness program supporting our ladies’ whole-person health: mind\, body\, soul\, and spirit.
URL:https://www.stmarkanglican.com/event/faith-in-motion-3/2029-03-17/
LOCATION:St. Mark the Evangelist Anglican Church\, 629 Farley St\, Waxahachie\, TX\, 75165\, United States
ATTACH;FMTTYPE=image/jpeg:https://www.stmarkanglican.com/wp-content/uploads/2026/02/FiM-e1771281121614.jpg
ORGANIZER;CN="St. Mark the Evangelist Anglican Church":MAILTO:fr.david@stmarkanglican.com
END:VEVENT
BEGIN:VEVENT
DTSTART;TZID=America/Chicago:20290421T103000
DTEND;TZID=America/Chicago:20290421T113000
DTSTAMP:20260420T050755
CREATED:20260217T025200Z
LAST-MODIFIED:20260217T025200Z
UID:10001853-1871461800-1871465400@www.stmarkanglican.com
SUMMARY:Faith in Motion
DESCRIPTION:A wellness program supporting our ladies’ whole-person health: mind\, body\, soul\, and spirit.
URL:https://www.stmarkanglican.com/event/faith-in-motion-3/2029-04-21/
LOCATION:St. Mark the Evangelist Anglican Church\, 629 Farley St\, Waxahachie\, TX\, 75165\, United States
ATTACH;FMTTYPE=image/jpeg:https://www.stmarkanglican.com/wp-content/uploads/2026/02/FiM-e1771281121614.jpg
ORGANIZER;CN="St. Mark the Evangelist Anglican Church":MAILTO:fr.david@stmarkanglican.com
END:VEVENT
BEGIN:VEVENT
DTSTART;TZID=America/Chicago:20290519T103000
DTEND;TZID=America/Chicago:20290519T113000
DTSTAMP:20260420T050755
CREATED:20260217T025200Z
LAST-MODIFIED:20260217T025200Z
UID:10001854-1873881000-1873884600@www.stmarkanglican.com
SUMMARY:Faith in Motion
DESCRIPTION:A wellness program supporting our ladies’ whole-person health: mind\, body\, soul\, and spirit.
URL:https://www.stmarkanglican.com/event/faith-in-motion-3/2029-05-19/
LOCATION:St. Mark the Evangelist Anglican Church\, 629 Farley St\, Waxahachie\, TX\, 75165\, United States
ATTACH;FMTTYPE=image/jpeg:https://www.stmarkanglican.com/wp-content/uploads/2026/02/FiM-e1771281121614.jpg
ORGANIZER;CN="St. Mark the Evangelist Anglican Church":MAILTO:fr.david@stmarkanglican.com
END:VEVENT
BEGIN:VEVENT
DTSTART;TZID=America/Chicago:20290616T103000
DTEND;TZID=America/Chicago:20290616T113000
DTSTAMP:20260420T050755
CREATED:20260217T025200Z
LAST-MODIFIED:20260217T025200Z
UID:10001855-1876300200-1876303800@www.stmarkanglican.com
SUMMARY:Faith in Motion
DESCRIPTION:A wellness program supporting our ladies’ whole-person health: mind\, body\, soul\, and spirit.
URL:https://www.stmarkanglican.com/event/faith-in-motion-3/2029-06-16/
LOCATION:St. Mark the Evangelist Anglican Church\, 629 Farley St\, Waxahachie\, TX\, 75165\, United States
ATTACH;FMTTYPE=image/jpeg:https://www.stmarkanglican.com/wp-content/uploads/2026/02/FiM-e1771281121614.jpg
ORGANIZER;CN="St. Mark the Evangelist Anglican Church":MAILTO:fr.david@stmarkanglican.com
END:VEVENT
BEGIN:VEVENT
DTSTART;TZID=America/Chicago:20290721T103000
DTEND;TZID=America/Chicago:20290721T113000
DTSTAMP:20260420T050755
CREATED:20260217T025200Z
LAST-MODIFIED:20260217T025200Z
UID:10001856-1879324200-1879327800@www.stmarkanglican.com
SUMMARY:Faith in Motion
DESCRIPTION:A wellness program supporting our ladies’ whole-person health: mind\, body\, soul\, and spirit.
URL:https://www.stmarkanglican.com/event/faith-in-motion-3/2029-07-21/
LOCATION:St. Mark the Evangelist Anglican Church\, 629 Farley St\, Waxahachie\, TX\, 75165\, United States
ATTACH;FMTTYPE=image/jpeg:https://www.stmarkanglican.com/wp-content/uploads/2026/02/FiM-e1771281121614.jpg
ORGANIZER;CN="St. Mark the Evangelist Anglican Church":MAILTO:fr.david@stmarkanglican.com
END:VEVENT
BEGIN:VEVENT
DTSTART;TZID=America/Chicago:20290818T103000
DTEND;TZID=America/Chicago:20290818T113000
DTSTAMP:20260420T050755
CREATED:20260217T025200Z
LAST-MODIFIED:20260217T025200Z
UID:10001857-1881743400-1881747000@www.stmarkanglican.com
SUMMARY:Faith in Motion
DESCRIPTION:A wellness program supporting our ladies’ whole-person health: mind\, body\, soul\, and spirit.
URL:https://www.stmarkanglican.com/event/faith-in-motion-3/2029-08-18/
LOCATION:St. Mark the Evangelist Anglican Church\, 629 Farley St\, Waxahachie\, TX\, 75165\, United States
ATTACH;FMTTYPE=image/jpeg:https://www.stmarkanglican.com/wp-content/uploads/2026/02/FiM-e1771281121614.jpg
ORGANIZER;CN="St. Mark the Evangelist Anglican Church":MAILTO:fr.david@stmarkanglican.com
END:VEVENT
BEGIN:VEVENT
DTSTART;TZID=America/Chicago:20290915T103000
DTEND;TZID=America/Chicago:20290915T113000
DTSTAMP:20260420T050755
CREATED:20260217T025200Z
LAST-MODIFIED:20260217T025200Z
UID:10001858-1884162600-1884166200@www.stmarkanglican.com
SUMMARY:Faith in Motion
DESCRIPTION:A wellness program supporting our ladies’ whole-person health: mind\, body\, soul\, and spirit.
URL:https://www.stmarkanglican.com/event/faith-in-motion-3/2029-09-15/
LOCATION:St. Mark the Evangelist Anglican Church\, 629 Farley St\, Waxahachie\, TX\, 75165\, United States
ATTACH;FMTTYPE=image/jpeg:https://www.stmarkanglican.com/wp-content/uploads/2026/02/FiM-e1771281121614.jpg
ORGANIZER;CN="St. Mark the Evangelist Anglican Church":MAILTO:fr.david@stmarkanglican.com
END:VEVENT
BEGIN:VEVENT
DTSTART;TZID=America/Chicago:20291020T103000
DTEND;TZID=America/Chicago:20291020T113000
DTSTAMP:20260420T050755
CREATED:20260217T025200Z
LAST-MODIFIED:20260217T025200Z
UID:10001859-1887186600-1887190200@www.stmarkanglican.com
SUMMARY:Faith in Motion
DESCRIPTION:A wellness program supporting our ladies’ whole-person health: mind\, body\, soul\, and spirit.
URL:https://www.stmarkanglican.com/event/faith-in-motion-3/2029-10-20/
LOCATION:St. Mark the Evangelist Anglican Church\, 629 Farley St\, Waxahachie\, TX\, 75165\, United States
ATTACH;FMTTYPE=image/jpeg:https://www.stmarkanglican.com/wp-content/uploads/2026/02/FiM-e1771281121614.jpg
ORGANIZER;CN="St. Mark the Evangelist Anglican Church":MAILTO:fr.david@stmarkanglican.com
END:VEVENT
END:VCALENDAR