BEGIN:VCALENDAR
VERSION:2.0
PRODID:-//St. Mark the Evangelist Anglican Church - ECPv6.15.20//NONSGML v1.0//EN
CALSCALE:GREGORIAN
METHOD:PUBLISH
X-WR-CALNAME:St. Mark the Evangelist Anglican Church
X-ORIGINAL-URL:https://www.stmarkanglican.com
X-WR-CALDESC:Events for St. Mark the Evangelist Anglican Church
REFRESH-INTERVAL;VALUE=DURATION:PT1H
X-Robots-Tag:noindex
X-PUBLISHED-TTL:PT1H
BEGIN:VTIMEZONE
TZID:UTC
BEGIN:STANDARD
TZOFFSETFROM:+0000
TZOFFSETTO:+0000
TZNAME:UTC
DTSTART:20270101T000000
END:STANDARD
END:VTIMEZONE
BEGIN:VEVENT
DTSTART;TZID=UTC:20280502T180000
DTEND;TZID=UTC:20280502T200000
DTSTAMP:20260424T051640
CREATED:20260206T042237Z
LAST-MODIFIED:20260224T152532Z
UID:10000152-1840903200-1840910400@www.stmarkanglican.com
SUMMARY:Suds of Love
DESCRIPTION:Monthly ministry of service to our friends at The Marvin Avenue Laundromat
URL:https://www.stmarkanglican.com/event/suds-of-love/2028-05-02/
LOCATION:The Marvin Avenue Laundromat\, 113 W Marvin Ave\, Waxahachie\, TX\, 75165
ATTACH;FMTTYPE=image/jpeg:https://www.stmarkanglican.com/wp-content/uploads/2026/02/SudsofLove-e1771946723835.jpg
END:VEVENT
BEGIN:VEVENT
DTSTART;TZID=UTC:20280606T180000
DTEND;TZID=UTC:20280606T200000
DTSTAMP:20260424T051640
CREATED:20260206T042237Z
LAST-MODIFIED:20260224T152532Z
UID:10000153-1843927200-1843934400@www.stmarkanglican.com
SUMMARY:Suds of Love
DESCRIPTION:Monthly ministry of service to our friends at The Marvin Avenue Laundromat
URL:https://www.stmarkanglican.com/event/suds-of-love/2028-06-06/
LOCATION:The Marvin Avenue Laundromat\, 113 W Marvin Ave\, Waxahachie\, TX\, 75165
ATTACH;FMTTYPE=image/jpeg:https://www.stmarkanglican.com/wp-content/uploads/2026/02/SudsofLove-e1771946723835.jpg
END:VEVENT
BEGIN:VEVENT
DTSTART;TZID=UTC:20280704T180000
DTEND;TZID=UTC:20280704T200000
DTSTAMP:20260424T051640
CREATED:20260206T042237Z
LAST-MODIFIED:20260224T152532Z
UID:10000154-1846346400-1846353600@www.stmarkanglican.com
SUMMARY:Suds of Love
DESCRIPTION:Monthly ministry of service to our friends at The Marvin Avenue Laundromat
URL:https://www.stmarkanglican.com/event/suds-of-love/2028-07-04/
LOCATION:The Marvin Avenue Laundromat\, 113 W Marvin Ave\, Waxahachie\, TX\, 75165
ATTACH;FMTTYPE=image/jpeg:https://www.stmarkanglican.com/wp-content/uploads/2026/02/SudsofLove-e1771946723835.jpg
END:VEVENT
BEGIN:VEVENT
DTSTART;TZID=UTC:20280801T180000
DTEND;TZID=UTC:20280801T200000
DTSTAMP:20260424T051640
CREATED:20260206T042237Z
LAST-MODIFIED:20260224T152532Z
UID:10000155-1848765600-1848772800@www.stmarkanglican.com
SUMMARY:Suds of Love
DESCRIPTION:Monthly ministry of service to our friends at The Marvin Avenue Laundromat
URL:https://www.stmarkanglican.com/event/suds-of-love/2028-08-01/
LOCATION:The Marvin Avenue Laundromat\, 113 W Marvin Ave\, Waxahachie\, TX\, 75165
ATTACH;FMTTYPE=image/jpeg:https://www.stmarkanglican.com/wp-content/uploads/2026/02/SudsofLove-e1771946723835.jpg
END:VEVENT
BEGIN:VEVENT
DTSTART;TZID=UTC:20280905T180000
DTEND;TZID=UTC:20280905T200000
DTSTAMP:20260424T051640
CREATED:20260206T042237Z
LAST-MODIFIED:20260224T152532Z
UID:10000156-1851789600-1851796800@www.stmarkanglican.com
SUMMARY:Suds of Love
DESCRIPTION:Monthly ministry of service to our friends at The Marvin Avenue Laundromat
URL:https://www.stmarkanglican.com/event/suds-of-love/2028-09-05/
LOCATION:The Marvin Avenue Laundromat\, 113 W Marvin Ave\, Waxahachie\, TX\, 75165
ATTACH;FMTTYPE=image/jpeg:https://www.stmarkanglican.com/wp-content/uploads/2026/02/SudsofLove-e1771946723835.jpg
END:VEVENT
BEGIN:VEVENT
DTSTART;TZID=UTC:20281003T180000
DTEND;TZID=UTC:20281003T200000
DTSTAMP:20260424T051640
CREATED:20260206T042237Z
LAST-MODIFIED:20260224T152532Z
UID:10000157-1854208800-1854216000@www.stmarkanglican.com
SUMMARY:Suds of Love
DESCRIPTION:Monthly ministry of service to our friends at The Marvin Avenue Laundromat
URL:https://www.stmarkanglican.com/event/suds-of-love/2028-10-03/
LOCATION:The Marvin Avenue Laundromat\, 113 W Marvin Ave\, Waxahachie\, TX\, 75165
ATTACH;FMTTYPE=image/jpeg:https://www.stmarkanglican.com/wp-content/uploads/2026/02/SudsofLove-e1771946723835.jpg
END:VEVENT
BEGIN:VEVENT
DTSTART;TZID=UTC:20281107T180000
DTEND;TZID=UTC:20281107T200000
DTSTAMP:20260424T051640
CREATED:20260206T042237Z
LAST-MODIFIED:20260224T152532Z
UID:10000158-1857232800-1857240000@www.stmarkanglican.com
SUMMARY:Suds of Love
DESCRIPTION:Monthly ministry of service to our friends at The Marvin Avenue Laundromat
URL:https://www.stmarkanglican.com/event/suds-of-love/2028-11-07/
LOCATION:The Marvin Avenue Laundromat\, 113 W Marvin Ave\, Waxahachie\, TX\, 75165
ATTACH;FMTTYPE=image/jpeg:https://www.stmarkanglican.com/wp-content/uploads/2026/02/SudsofLove-e1771946723835.jpg
END:VEVENT
BEGIN:VEVENT
DTSTART;TZID=UTC:20281205T180000
DTEND;TZID=UTC:20281205T200000
DTSTAMP:20260424T051640
CREATED:20260206T042237Z
LAST-MODIFIED:20260224T152532Z
UID:10000159-1859652000-1859659200@www.stmarkanglican.com
SUMMARY:Suds of Love
DESCRIPTION:Monthly ministry of service to our friends at The Marvin Avenue Laundromat
URL:https://www.stmarkanglican.com/event/suds-of-love/2028-12-05/
LOCATION:The Marvin Avenue Laundromat\, 113 W Marvin Ave\, Waxahachie\, TX\, 75165
ATTACH;FMTTYPE=image/jpeg:https://www.stmarkanglican.com/wp-content/uploads/2026/02/SudsofLove-e1771946723835.jpg
END:VEVENT
BEGIN:VEVENT
DTSTART;TZID=UTC:20290102T180000
DTEND;TZID=UTC:20290102T200000
DTSTAMP:20260424T051640
CREATED:20260206T042237Z
LAST-MODIFIED:20260224T152532Z
UID:10000160-1862071200-1862078400@www.stmarkanglican.com
SUMMARY:Suds of Love
DESCRIPTION:Monthly ministry of service to our friends at The Marvin Avenue Laundromat
URL:https://www.stmarkanglican.com/event/suds-of-love/2029-01-02/
LOCATION:The Marvin Avenue Laundromat\, 113 W Marvin Ave\, Waxahachie\, TX\, 75165
ATTACH;FMTTYPE=image/jpeg:https://www.stmarkanglican.com/wp-content/uploads/2026/02/SudsofLove-e1771946723835.jpg
END:VEVENT
BEGIN:VEVENT
DTSTART;TZID=UTC:20290206T180000
DTEND;TZID=UTC:20290206T200000
DTSTAMP:20260424T051640
CREATED:20260206T042237Z
LAST-MODIFIED:20260224T152532Z
UID:10000161-1865095200-1865102400@www.stmarkanglican.com
SUMMARY:Suds of Love
DESCRIPTION:Monthly ministry of service to our friends at The Marvin Avenue Laundromat
URL:https://www.stmarkanglican.com/event/suds-of-love/2029-02-06/
LOCATION:The Marvin Avenue Laundromat\, 113 W Marvin Ave\, Waxahachie\, TX\, 75165
ATTACH;FMTTYPE=image/jpeg:https://www.stmarkanglican.com/wp-content/uploads/2026/02/SudsofLove-e1771946723835.jpg
END:VEVENT
BEGIN:VEVENT
DTSTART;TZID=UTC:20290306T180000
DTEND;TZID=UTC:20290306T200000
DTSTAMP:20260424T051640
CREATED:20260206T042237Z
LAST-MODIFIED:20260224T152532Z
UID:10000162-1867514400-1867521600@www.stmarkanglican.com
SUMMARY:Suds of Love
DESCRIPTION:Monthly ministry of service to our friends at The Marvin Avenue Laundromat
URL:https://www.stmarkanglican.com/event/suds-of-love/2029-03-06/
LOCATION:The Marvin Avenue Laundromat\, 113 W Marvin Ave\, Waxahachie\, TX\, 75165
ATTACH;FMTTYPE=image/jpeg:https://www.stmarkanglican.com/wp-content/uploads/2026/02/SudsofLove-e1771946723835.jpg
END:VEVENT
BEGIN:VEVENT
DTSTART;TZID=UTC:20290403T180000
DTEND;TZID=UTC:20290403T200000
DTSTAMP:20260424T051640
CREATED:20260206T042237Z
LAST-MODIFIED:20260224T152532Z
UID:10000163-1869933600-1869940800@www.stmarkanglican.com
SUMMARY:Suds of Love
DESCRIPTION:Monthly ministry of service to our friends at The Marvin Avenue Laundromat
URL:https://www.stmarkanglican.com/event/suds-of-love/2029-04-03/
LOCATION:The Marvin Avenue Laundromat\, 113 W Marvin Ave\, Waxahachie\, TX\, 75165
ATTACH;FMTTYPE=image/jpeg:https://www.stmarkanglican.com/wp-content/uploads/2026/02/SudsofLove-e1771946723835.jpg
END:VEVENT
BEGIN:VEVENT
DTSTART;TZID=UTC:20290501T180000
DTEND;TZID=UTC:20290501T200000
DTSTAMP:20260424T051640
CREATED:20260206T042237Z
LAST-MODIFIED:20260224T152532Z
UID:10000164-1872352800-1872360000@www.stmarkanglican.com
SUMMARY:Suds of Love
DESCRIPTION:Monthly ministry of service to our friends at The Marvin Avenue Laundromat
URL:https://www.stmarkanglican.com/event/suds-of-love/2029-05-01/
LOCATION:The Marvin Avenue Laundromat\, 113 W Marvin Ave\, Waxahachie\, TX\, 75165
ATTACH;FMTTYPE=image/jpeg:https://www.stmarkanglican.com/wp-content/uploads/2026/02/SudsofLove-e1771946723835.jpg
END:VEVENT
BEGIN:VEVENT
DTSTART;TZID=UTC:20290605T180000
DTEND;TZID=UTC:20290605T200000
DTSTAMP:20260424T051640
CREATED:20260206T042237Z
LAST-MODIFIED:20260224T152532Z
UID:10000165-1875376800-1875384000@www.stmarkanglican.com
SUMMARY:Suds of Love
DESCRIPTION:Monthly ministry of service to our friends at The Marvin Avenue Laundromat
URL:https://www.stmarkanglican.com/event/suds-of-love/2029-06-05/
LOCATION:The Marvin Avenue Laundromat\, 113 W Marvin Ave\, Waxahachie\, TX\, 75165
ATTACH;FMTTYPE=image/jpeg:https://www.stmarkanglican.com/wp-content/uploads/2026/02/SudsofLove-e1771946723835.jpg
END:VEVENT
BEGIN:VEVENT
DTSTART;TZID=UTC:20290703T180000
DTEND;TZID=UTC:20290703T200000
DTSTAMP:20260424T051640
CREATED:20260206T042237Z
LAST-MODIFIED:20260224T152532Z
UID:10000166-1877796000-1877803200@www.stmarkanglican.com
SUMMARY:Suds of Love
DESCRIPTION:Monthly ministry of service to our friends at The Marvin Avenue Laundromat
URL:https://www.stmarkanglican.com/event/suds-of-love/2029-07-03/
LOCATION:The Marvin Avenue Laundromat\, 113 W Marvin Ave\, Waxahachie\, TX\, 75165
ATTACH;FMTTYPE=image/jpeg:https://www.stmarkanglican.com/wp-content/uploads/2026/02/SudsofLove-e1771946723835.jpg
END:VEVENT
BEGIN:VEVENT
DTSTART;TZID=UTC:20290807T180000
DTEND;TZID=UTC:20290807T200000
DTSTAMP:20260424T051640
CREATED:20260206T042237Z
LAST-MODIFIED:20260224T152532Z
UID:10000167-1880820000-1880827200@www.stmarkanglican.com
SUMMARY:Suds of Love
DESCRIPTION:Monthly ministry of service to our friends at The Marvin Avenue Laundromat
URL:https://www.stmarkanglican.com/event/suds-of-love/2029-08-07/
LOCATION:The Marvin Avenue Laundromat\, 113 W Marvin Ave\, Waxahachie\, TX\, 75165
ATTACH;FMTTYPE=image/jpeg:https://www.stmarkanglican.com/wp-content/uploads/2026/02/SudsofLove-e1771946723835.jpg
END:VEVENT
BEGIN:VEVENT
DTSTART;TZID=UTC:20290904T180000
DTEND;TZID=UTC:20290904T200000
DTSTAMP:20260424T051640
CREATED:20260206T042237Z
LAST-MODIFIED:20260224T152532Z
UID:10000168-1883239200-1883246400@www.stmarkanglican.com
SUMMARY:Suds of Love
DESCRIPTION:Monthly ministry of service to our friends at The Marvin Avenue Laundromat
URL:https://www.stmarkanglican.com/event/suds-of-love/2029-09-04/
LOCATION:The Marvin Avenue Laundromat\, 113 W Marvin Ave\, Waxahachie\, TX\, 75165
ATTACH;FMTTYPE=image/jpeg:https://www.stmarkanglican.com/wp-content/uploads/2026/02/SudsofLove-e1771946723835.jpg
END:VEVENT
BEGIN:VEVENT
DTSTART;TZID=UTC:20291002T180000
DTEND;TZID=UTC:20291002T200000
DTSTAMP:20260424T051640
CREATED:20260206T042237Z
LAST-MODIFIED:20260224T152532Z
UID:10000169-1885658400-1885665600@www.stmarkanglican.com
SUMMARY:Suds of Love
DESCRIPTION:Monthly ministry of service to our friends at The Marvin Avenue Laundromat
URL:https://www.stmarkanglican.com/event/suds-of-love/2029-10-02/
LOCATION:The Marvin Avenue Laundromat\, 113 W Marvin Ave\, Waxahachie\, TX\, 75165
ATTACH;FMTTYPE=image/jpeg:https://www.stmarkanglican.com/wp-content/uploads/2026/02/SudsofLove-e1771946723835.jpg
END:VEVENT
BEGIN:VEVENT
DTSTART;TZID=UTC:20291106T180000
DTEND;TZID=UTC:20291106T200000
DTSTAMP:20260424T051640
CREATED:20260206T042237Z
LAST-MODIFIED:20260224T152532Z
UID:10000170-1888682400-1888689600@www.stmarkanglican.com
SUMMARY:Suds of Love
DESCRIPTION:Monthly ministry of service to our friends at The Marvin Avenue Laundromat
URL:https://www.stmarkanglican.com/event/suds-of-love/2029-11-06/
LOCATION:The Marvin Avenue Laundromat\, 113 W Marvin Ave\, Waxahachie\, TX\, 75165
ATTACH;FMTTYPE=image/jpeg:https://www.stmarkanglican.com/wp-content/uploads/2026/02/SudsofLove-e1771946723835.jpg
END:VEVENT
BEGIN:VEVENT
DTSTART;TZID=UTC:20291204T180000
DTEND;TZID=UTC:20291204T200000
DTSTAMP:20260424T051640
CREATED:20260206T042237Z
LAST-MODIFIED:20260224T152532Z
UID:10000171-1891101600-1891108800@www.stmarkanglican.com
SUMMARY:Suds of Love
DESCRIPTION:Monthly ministry of service to our friends at The Marvin Avenue Laundromat
URL:https://www.stmarkanglican.com/event/suds-of-love/2029-12-04/
LOCATION:The Marvin Avenue Laundromat\, 113 W Marvin Ave\, Waxahachie\, TX\, 75165
ATTACH;FMTTYPE=image/jpeg:https://www.stmarkanglican.com/wp-content/uploads/2026/02/SudsofLove-e1771946723835.jpg
END:VEVENT
BEGIN:VEVENT
DTSTART;TZID=UTC:20300101T180000
DTEND;TZID=UTC:20300101T200000
DTSTAMP:20260424T051640
CREATED:20260206T042237Z
LAST-MODIFIED:20260224T152532Z
UID:10000172-1893520800-1893528000@www.stmarkanglican.com
SUMMARY:Suds of Love
DESCRIPTION:Monthly ministry of service to our friends at The Marvin Avenue Laundromat
URL:https://www.stmarkanglican.com/event/suds-of-love/2030-01-01/
LOCATION:The Marvin Avenue Laundromat\, 113 W Marvin Ave\, Waxahachie\, TX\, 75165
ATTACH;FMTTYPE=image/jpeg:https://www.stmarkanglican.com/wp-content/uploads/2026/02/SudsofLove-e1771946723835.jpg
END:VEVENT
BEGIN:VEVENT
DTSTART;TZID=UTC:20300205T180000
DTEND;TZID=UTC:20300205T200000
DTSTAMP:20260424T051640
CREATED:20260206T042237Z
LAST-MODIFIED:20260224T152532Z
UID:10000173-1896544800-1896552000@www.stmarkanglican.com
SUMMARY:Suds of Love
DESCRIPTION:Monthly ministry of service to our friends at The Marvin Avenue Laundromat
URL:https://www.stmarkanglican.com/event/suds-of-love/2030-02-05/
LOCATION:The Marvin Avenue Laundromat\, 113 W Marvin Ave\, Waxahachie\, TX\, 75165
ATTACH;FMTTYPE=image/jpeg:https://www.stmarkanglican.com/wp-content/uploads/2026/02/SudsofLove-e1771946723835.jpg
END:VEVENT
BEGIN:VEVENT
DTSTART;TZID=UTC:20300305T180000
DTEND;TZID=UTC:20300305T200000
DTSTAMP:20260424T051640
CREATED:20260206T042237Z
LAST-MODIFIED:20260224T152532Z
UID:10000174-1898964000-1898971200@www.stmarkanglican.com
SUMMARY:Suds of Love
DESCRIPTION:Monthly ministry of service to our friends at The Marvin Avenue Laundromat
URL:https://www.stmarkanglican.com/event/suds-of-love/2030-03-05/
LOCATION:The Marvin Avenue Laundromat\, 113 W Marvin Ave\, Waxahachie\, TX\, 75165
ATTACH;FMTTYPE=image/jpeg:https://www.stmarkanglican.com/wp-content/uploads/2026/02/SudsofLove-e1771946723835.jpg
END:VEVENT
BEGIN:VEVENT
DTSTART;TZID=UTC:20300402T180000
DTEND;TZID=UTC:20300402T200000
DTSTAMP:20260424T051640
CREATED:20260206T042237Z
LAST-MODIFIED:20260224T152532Z
UID:10000175-1901383200-1901390400@www.stmarkanglican.com
SUMMARY:Suds of Love
DESCRIPTION:Monthly ministry of service to our friends at The Marvin Avenue Laundromat
URL:https://www.stmarkanglican.com/event/suds-of-love/2030-04-02/
LOCATION:The Marvin Avenue Laundromat\, 113 W Marvin Ave\, Waxahachie\, TX\, 75165
ATTACH;FMTTYPE=image/jpeg:https://www.stmarkanglican.com/wp-content/uploads/2026/02/SudsofLove-e1771946723835.jpg
END:VEVENT
BEGIN:VEVENT
DTSTART;TZID=UTC:20300507T180000
DTEND;TZID=UTC:20300507T200000
DTSTAMP:20260424T051640
CREATED:20260206T042237Z
LAST-MODIFIED:20260224T152532Z
UID:10000176-1904407200-1904414400@www.stmarkanglican.com
SUMMARY:Suds of Love
DESCRIPTION:Monthly ministry of service to our friends at The Marvin Avenue Laundromat
URL:https://www.stmarkanglican.com/event/suds-of-love/2030-05-07/
LOCATION:The Marvin Avenue Laundromat\, 113 W Marvin Ave\, Waxahachie\, TX\, 75165
ATTACH;FMTTYPE=image/jpeg:https://www.stmarkanglican.com/wp-content/uploads/2026/02/SudsofLove-e1771946723835.jpg
END:VEVENT
BEGIN:VEVENT
DTSTART;TZID=UTC:20300604T180000
DTEND;TZID=UTC:20300604T200000
DTSTAMP:20260424T051640
CREATED:20260206T042237Z
LAST-MODIFIED:20260224T152532Z
UID:10000177-1906826400-1906833600@www.stmarkanglican.com
SUMMARY:Suds of Love
DESCRIPTION:Monthly ministry of service to our friends at The Marvin Avenue Laundromat
URL:https://www.stmarkanglican.com/event/suds-of-love/2030-06-04/
LOCATION:The Marvin Avenue Laundromat\, 113 W Marvin Ave\, Waxahachie\, TX\, 75165
ATTACH;FMTTYPE=image/jpeg:https://www.stmarkanglican.com/wp-content/uploads/2026/02/SudsofLove-e1771946723835.jpg
END:VEVENT
BEGIN:VEVENT
DTSTART;TZID=UTC:20300702T180000
DTEND;TZID=UTC:20300702T200000
DTSTAMP:20260424T051640
CREATED:20260206T042237Z
LAST-MODIFIED:20260224T152532Z
UID:10000178-1909245600-1909252800@www.stmarkanglican.com
SUMMARY:Suds of Love
DESCRIPTION:Monthly ministry of service to our friends at The Marvin Avenue Laundromat
URL:https://www.stmarkanglican.com/event/suds-of-love/2030-07-02/
LOCATION:The Marvin Avenue Laundromat\, 113 W Marvin Ave\, Waxahachie\, TX\, 75165
ATTACH;FMTTYPE=image/jpeg:https://www.stmarkanglican.com/wp-content/uploads/2026/02/SudsofLove-e1771946723835.jpg
END:VEVENT
BEGIN:VEVENT
DTSTART;TZID=UTC:20300806T180000
DTEND;TZID=UTC:20300806T200000
DTSTAMP:20260424T051640
CREATED:20260206T042237Z
LAST-MODIFIED:20260224T152532Z
UID:10000179-1912269600-1912276800@www.stmarkanglican.com
SUMMARY:Suds of Love
DESCRIPTION:Monthly ministry of service to our friends at The Marvin Avenue Laundromat
URL:https://www.stmarkanglican.com/event/suds-of-love/2030-08-06/
LOCATION:The Marvin Avenue Laundromat\, 113 W Marvin Ave\, Waxahachie\, TX\, 75165
ATTACH;FMTTYPE=image/jpeg:https://www.stmarkanglican.com/wp-content/uploads/2026/02/SudsofLove-e1771946723835.jpg
END:VEVENT
BEGIN:VEVENT
DTSTART;TZID=UTC:20300903T180000
DTEND;TZID=UTC:20300903T200000
DTSTAMP:20260424T051640
CREATED:20260206T042237Z
LAST-MODIFIED:20260224T152532Z
UID:10000180-1914688800-1914696000@www.stmarkanglican.com
SUMMARY:Suds of Love
DESCRIPTION:Monthly ministry of service to our friends at The Marvin Avenue Laundromat
URL:https://www.stmarkanglican.com/event/suds-of-love/2030-09-03/
LOCATION:The Marvin Avenue Laundromat\, 113 W Marvin Ave\, Waxahachie\, TX\, 75165
ATTACH;FMTTYPE=image/jpeg:https://www.stmarkanglican.com/wp-content/uploads/2026/02/SudsofLove-e1771946723835.jpg
END:VEVENT
BEGIN:VEVENT
DTSTART;TZID=UTC:20301001T180000
DTEND;TZID=UTC:20301001T200000
DTSTAMP:20260424T051640
CREATED:20260206T042237Z
LAST-MODIFIED:20260224T152532Z
UID:10000181-1917108000-1917115200@www.stmarkanglican.com
SUMMARY:Suds of Love
DESCRIPTION:Monthly ministry of service to our friends at The Marvin Avenue Laundromat
URL:https://www.stmarkanglican.com/event/suds-of-love/2030-10-01/
LOCATION:The Marvin Avenue Laundromat\, 113 W Marvin Ave\, Waxahachie\, TX\, 75165
ATTACH;FMTTYPE=image/jpeg:https://www.stmarkanglican.com/wp-content/uploads/2026/02/SudsofLove-e1771946723835.jpg
END:VEVENT
END:VCALENDAR